BEGIN:VCALENDAR
VERSION:2.0
PRODID:-//Mid Jersey Association of REALTORS® - ECPv6.15.20//NONSGML v1.0//EN
CALSCALE:GREGORIAN
METHOD:PUBLISH
X-ORIGINAL-URL:https://midjerseyaor.com
X-WR-CALDESC:Events for Mid Jersey Association of REALTORS®
REFRESH-INTERVAL;VALUE=DURATION:PT1H
X-Robots-Tag:noindex
X-PUBLISHED-TTL:PT1H
BEGIN:VTIMEZONE
TZID:UTC
BEGIN:STANDARD
TZOFFSETFROM:+0000
TZOFFSETTO:+0000
TZNAME:UTC
DTSTART:20210101T000000
END:STANDARD
END:VTIMEZONE
BEGIN:VEVENT
DTSTART;TZID=UTC:20221007T083000
DTEND;TZID=UTC:20221007T150000
DTSTAMP:20260423T121808
CREATED:20221001T003620Z
LAST-MODIFIED:20221001T003944Z
UID:10000022-1665131400-1665154800@midjerseyaor.com
SUMMARY:NJ REALTORS® Realtor-Palooza
DESCRIPTION:Register Here
URL:https://midjerseyaor.com/events/nj-realtors-realtor-palooza/
CATEGORIES:Events
ATTACH;FMTTYPE=image/png:https://midjerseyaor.com/wp-content/uploads/2022/09/Realtor-Palooza-2022.png
END:VEVENT
END:VCALENDAR