BEGIN:VCALENDAR
VERSION:2.0
PRODID:-//Mid Jersey Association of REALTORS® - ECPv6.15.20//NONSGML v1.0//EN
CALSCALE:GREGORIAN
METHOD:PUBLISH
X-WR-CALNAME:Mid Jersey Association of REALTORS®
X-ORIGINAL-URL:https://midjerseyaor.com
X-WR-CALDESC:Events for Mid Jersey Association of REALTORS®
REFRESH-INTERVAL;VALUE=DURATION:PT1H
X-Robots-Tag:noindex
X-PUBLISHED-TTL:PT1H
BEGIN:VTIMEZONE
TZID:UTC
BEGIN:STANDARD
TZOFFSETFROM:+0000
TZOFFSETTO:+0000
TZNAME:UTC
DTSTART:20210101T000000
END:STANDARD
END:VTIMEZONE
BEGIN:VEVENT
DTSTART;TZID=UTC:20221014T083000
DTEND;TZID=UTC:20221014T113000
DTSTAMP:20260423T121811
CREATED:20220928T185745Z
LAST-MODIFIED:20221001T001202Z
UID:10000006-1665736200-1665747000@midjerseyaor.com
SUMMARY:CORE Annual Meeting Breakfast
DESCRIPTION:Join us for breakfast and the vote to elect the 2023 CORE Leadership. Following the election\, Pulitzer Prize winner and New York Times #1 bestselling author Bill Dedman will give a guided tour of fair housing lessons from Newsday’s Peabody Award-winning investigation Long Island Divided\, which raises awareness of steering by real estate agents. Seating is limited! \nMember Price: $35.00\nNon-Member Price: $45.00 \nRegister Here
URL:https://midjerseyaor.com/events/core-annual-meeting/
CATEGORIES:Events
ATTACH;FMTTYPE=image/png:https://midjerseyaor.com/wp-content/uploads/2022/09/2022-Annual-Meeting-Email-Marketing-Image.png
END:VEVENT
END:VCALENDAR