BEGIN:VCALENDAR
VERSION:2.0
PRODID:-//Mid Jersey Association of REALTORS® - ECPv6.15.20//NONSGML v1.0//EN
CALSCALE:GREGORIAN
METHOD:PUBLISH
X-ORIGINAL-URL:https://midjerseyaor.com
X-WR-CALDESC:Events for Mid Jersey Association of REALTORS®
REFRESH-INTERVAL;VALUE=DURATION:PT1H
X-Robots-Tag:noindex
X-PUBLISHED-TTL:PT1H
BEGIN:VTIMEZONE
TZID:UTC
BEGIN:STANDARD
TZOFFSETFROM:+0000
TZOFFSETTO:+0000
TZNAME:UTC
DTSTART:20210101T000000
END:STANDARD
END:VTIMEZONE
BEGIN:VEVENT
DTSTART;TZID=UTC:20221020T093000
DTEND;TZID=UTC:20221020T123000
DTSTAMP:20260423T121808
CREATED:20221001T000809Z
LAST-MODIFIED:20221018T220124Z
UID:10000010-1666258200-1666269000@midjerseyaor.com
SUMMARY:Learn to Successfully Negotiate to Protect Your Clients Class (3 Elective Credits)
DESCRIPTION:Negotiation is an integral part of the real estate business. It is also a skill based on science where you can develop steps and strategies to better position yourself and your client. In this class\, attendees will learn how to develop a systematic approach to the negotiation process and apply it to the negotiation between buyers and sellers. \nMember Price: $35.00\nNon-Member Price: $45.00\nInstructor: Isabelle Perkins\nCredit: 3 Elective Credits \nRegister Here
URL:https://midjerseyaor.com/events/learn-to-successfully-negotiate-to-protect-your-clients-class-3-elective-credits/
CATEGORIES:Classes
END:VEVENT
END:VCALENDAR