BEGIN:VCALENDAR
VERSION:2.0
PRODID:-//Mid Jersey Association of REALTORS® - ECPv6.15.20//NONSGML v1.0//EN
CALSCALE:GREGORIAN
METHOD:PUBLISH
X-WR-CALNAME:Mid Jersey Association of REALTORS®
X-ORIGINAL-URL:https://midjerseyaor.com
X-WR-CALDESC:Events for Mid Jersey Association of REALTORS®
REFRESH-INTERVAL;VALUE=DURATION:PT1H
X-Robots-Tag:noindex
X-PUBLISHED-TTL:PT1H
BEGIN:VTIMEZONE
TZID:UTC
BEGIN:STANDARD
TZOFFSETFROM:+0000
TZOFFSETTO:+0000
TZNAME:UTC
DTSTART:20210101T000000
END:STANDARD
END:VTIMEZONE
BEGIN:VEVENT
DTSTART;TZID=UTC:20221116T100000
DTEND;TZID=UTC:20221116T110000
DTSTAMP:20260423T104708
CREATED:20221007T174409Z
LAST-MODIFIED:20221018T220050Z
UID:10000031-1668592800-1668596400@midjerseyaor.com
SUMMARY:The Ten Hottest Issues You Have to Understand to Avoid Lawsuits Class (1 Core Credit)
DESCRIPTION:This course\, taught by NJ Realtors® and CORE Association of Realtors® legal counsel Barry Goodman\, will review the most current information to help agents navigate the latest issues facing the real estate industry in New Jersey. \nMember Cost: $5.00\nNon-Member Cost: $10.00\nInstructor: Barry Goodman\nCredit: 1 Core Credit \nRegister Here
URL:https://midjerseyaor.com/events/the-ten-hottest-issues-you-have-to-understand-to-avoid-lawsuits-class-1-core-credit/
CATEGORIES:Classes
END:VEVENT
BEGIN:VEVENT
DTSTART;TZID=UTC:20221116T113000
DTEND;TZID=UTC:20221116T123000
DTSTAMP:20260423T104708
CREATED:20221001T002808Z
LAST-MODIFIED:20221114T173305Z
UID:10000018-1668598200-1668601800@midjerseyaor.com
SUMMARY:FREE Supra Webinar - SupraWEB Agent Training
DESCRIPTION:Register Here
URL:https://midjerseyaor.com/events/free-supra-webinar-supraweb-agent-training-2/
CATEGORIES:Webinars
END:VEVENT
END:VCALENDAR