BEGIN:VCALENDAR
VERSION:2.0
PRODID:-//Mid Jersey Association of REALTORS® - ECPv6.15.20//NONSGML v1.0//EN
CALSCALE:GREGORIAN
METHOD:PUBLISH
X-WR-CALNAME:Mid Jersey Association of REALTORS®
X-ORIGINAL-URL:https://midjerseyaor.com
X-WR-CALDESC:Events for Mid Jersey Association of REALTORS®
REFRESH-INTERVAL;VALUE=DURATION:PT1H
X-Robots-Tag:noindex
X-PUBLISHED-TTL:PT1H
BEGIN:VTIMEZONE
TZID:UTC
BEGIN:STANDARD
TZOFFSETFROM:+0000
TZOFFSETTO:+0000
TZNAME:UTC
DTSTART:20210101T000000
END:STANDARD
END:VTIMEZONE
BEGIN:VEVENT
DTSTART;TZID=UTC:20221216T113000
DTEND;TZID=UTC:20221216T140000
DTSTAMP:20260423T090037
CREATED:20221025T183224Z
LAST-MODIFIED:20221111T214047Z
UID:10000032-1671190200-1671199200@midjerseyaor.com
SUMMARY:CORE Jingle Mingle Reception & Installation Luncheon
DESCRIPTION:Join us for a special luncheon to celebrate the season and the installation of CORE’s 2023 Officers and Directors. \nThe event begins with an open bar reception at 11:30 am\, and the lunch and program will be held from 12:30 to 2:00 pm. \nEarly Bird Cost (ends 11/25/22):\nMembers: $35 | Non-Members: $45 (ends 11/16)\nMembers: $40 | Non-Members: $50 (ends 11/30) \nRegular Cost:\nMembers: $45.00 | Non-Members: $55.00 \nRegister Here \nSponsorship Opportunities: \nSponsorships are available for CORE Affiliate members or Realtor firms/offices. See the full sponsorship menu and submit your order today! Sponsorships must be submitted by December 1. \nSponsor this Event
URL:https://midjerseyaor.com/events/core-jingle-mingle-reception-installation-luncheon/
LOCATION:The Ryland Inn\, 115 Old Hwy 28\, Whitehouse Station\, NJ\, 08889\, United States
CATEGORIES:Events
ATTACH;FMTTYPE=image/png:https://midjerseyaor.com/wp-content/uploads/2022/10/Installation-Artwork-for-Website-Calendar-Item.png
END:VEVENT
END:VCALENDAR