BEGIN:VCALENDAR
VERSION:2.0
PRODID:-//Mid Jersey Association of REALTORS® - ECPv6.15.20//NONSGML v1.0//EN
CALSCALE:GREGORIAN
METHOD:PUBLISH
X-WR-CALNAME:Mid Jersey Association of REALTORS®
X-ORIGINAL-URL:https://midjerseyaor.com
X-WR-CALDESC:Events for Mid Jersey Association of REALTORS®
REFRESH-INTERVAL;VALUE=DURATION:PT1H
X-Robots-Tag:noindex
X-PUBLISHED-TTL:PT1H
BEGIN:VTIMEZONE
TZID:America/New_York
BEGIN:DAYLIGHT
TZOFFSETFROM:-0500
TZOFFSETTO:-0400
TZNAME:EDT
DTSTART:20220313T070000
END:DAYLIGHT
BEGIN:STANDARD
TZOFFSETFROM:-0400
TZOFFSETTO:-0500
TZNAME:EST
DTSTART:20221106T060000
END:STANDARD
BEGIN:DAYLIGHT
TZOFFSETFROM:-0500
TZOFFSETTO:-0400
TZNAME:EDT
DTSTART:20230312T070000
END:DAYLIGHT
BEGIN:STANDARD
TZOFFSETFROM:-0400
TZOFFSETTO:-0500
TZNAME:EST
DTSTART:20231105T060000
END:STANDARD
BEGIN:DAYLIGHT
TZOFFSETFROM:-0500
TZOFFSETTO:-0400
TZNAME:EDT
DTSTART:20240310T070000
END:DAYLIGHT
BEGIN:STANDARD
TZOFFSETFROM:-0400
TZOFFSETTO:-0500
TZNAME:EST
DTSTART:20241103T060000
END:STANDARD
END:VTIMEZONE
BEGIN:VEVENT
DTSTART;TZID=America/New_York:20230615T113000
DTEND;TZID=America/New_York:20230615T123000
DTSTAMP:20260422T222205
CREATED:20221228T155914Z
LAST-MODIFIED:20221228T155914Z
UID:10000251-1686828600-1686832200@midjerseyaor.com
SUMMARY:Free Supra Webinar - Agent Training: eKey Basic
DESCRIPTION:Come join Supra for an overview of eKEY Basic.  Please share with your members.   \nRegister Here
URL:https://midjerseyaor.com/events/free-supra-webinar-agent-training-ekey-basic-7/
CATEGORIES:Webinars
END:VEVENT
BEGIN:VEVENT
DTSTART;TZID=America/New_York:20230615T150000
DTEND;TZID=America/New_York:20230615T173000
DTSTAMP:20260422T222205
CREATED:20230504T171635Z
LAST-MODIFIED:20230605T132850Z
UID:10000339-1686841200-1686850200@midjerseyaor.com
SUMMARY:CORE's Spring Into Summer Reception
DESCRIPTION:Join us for this fun\, casual event to meet your friendly colleagues and make new connections! Enjoy wine and light fare at Old York Cellars on June 15 from 3:00-5:30pm. \nRealtor member tickets: $10 early bird (until June 1)\, $15 regular.  Ticket includes 2 drink tickets and light fare. \nAffiliate members come at no-cost – we appreciate our affiliate support year round! Affiliate members can email info@core-realtors.com to be added to the registration list. \n  \nRegister Here
URL:https://midjerseyaor.com/events/cores-spring-into-summer-reception/
LOCATION:Old York Cellars\, 80 Old York Road\, Ringoes\, NJ\, 08551\, United States
CATEGORIES:Events
ATTACH;FMTTYPE=image/jpeg:https://midjerseyaor.com/wp-content/uploads/2023/05/Spring-Into-Summer-Artwork.jpg
END:VEVENT
END:VCALENDAR