BEGIN:VCALENDAR
VERSION:2.0
PRODID:-//Mid Jersey Association of REALTORS® - ECPv6.15.20//NONSGML v1.0//EN
CALSCALE:GREGORIAN
METHOD:PUBLISH
X-ORIGINAL-URL:https://midjerseyaor.com
X-WR-CALDESC:Events for Mid Jersey Association of REALTORS®
REFRESH-INTERVAL;VALUE=DURATION:PT1H
X-Robots-Tag:noindex
X-PUBLISHED-TTL:PT1H
BEGIN:VTIMEZONE
TZID:America/New_York
BEGIN:DAYLIGHT
TZOFFSETFROM:-0500
TZOFFSETTO:-0400
TZNAME:EDT
DTSTART:20230312T070000
END:DAYLIGHT
BEGIN:STANDARD
TZOFFSETFROM:-0400
TZOFFSETTO:-0500
TZNAME:EST
DTSTART:20231105T060000
END:STANDARD
BEGIN:DAYLIGHT
TZOFFSETFROM:-0500
TZOFFSETTO:-0400
TZNAME:EDT
DTSTART:20240310T070000
END:DAYLIGHT
BEGIN:STANDARD
TZOFFSETFROM:-0400
TZOFFSETTO:-0500
TZNAME:EST
DTSTART:20241103T060000
END:STANDARD
BEGIN:DAYLIGHT
TZOFFSETFROM:-0500
TZOFFSETTO:-0400
TZNAME:EDT
DTSTART:20250309T070000
END:DAYLIGHT
BEGIN:STANDARD
TZOFFSETFROM:-0400
TZOFFSETTO:-0500
TZNAME:EST
DTSTART:20251102T060000
END:STANDARD
END:VTIMEZONE
BEGIN:VEVENT
DTSTART;TZID=America/New_York:20240821T113000
DTEND;TZID=America/New_York:20240821T123000
DTSTAMP:20260420T054035
CREATED:20240814T181531Z
LAST-MODIFIED:20240814T182554Z
UID:10000405-1724239800-1724243400@midjerseyaor.com
SUMMARY:Bright MLS Changes for NAR Settlement Compliance
DESCRIPTION:Join us to hear the latest and upcoming Bright MLS updates aimed at ensuring NAR settlement compliance and enhancing transparency for homebuyers and sellers. Including: \n• New Seller Concession Fields: Available at listing entry and close for improved agent-client communication. \n• Client Disclosure Form: Newly available to ensure clarity and compliance. • Removal of Compensation Fields: Eliminated from Bright and all reports to comply with the NAR settlement. \n• Unlimited Coming Soon Status: The 21-day limit will be removed\, requiring only the Expected On-Market Date. \n• Listings Entry Clarification: The MLS Entry Date must be within 2 days of the listing term beginning\, which is the first date any potential buyer may learn about the property. \n• New Disclosure Form Requirement: Mandatory for all clients\, providing essential disclosures and clarifying MLS marketing opportunities. \n  \nRegister Here
URL:https://midjerseyaor.com/events/brightchanges/
LOCATION:MJAR South River Office\, 14 Old Bridge Turnpike\, South River\, 08882\, United States
CATEGORIES:Events
END:VEVENT
END:VCALENDAR