BEGIN:VCALENDAR
VERSION:2.0
PRODID:-//Mid Jersey Association of REALTORS® - ECPv6.15.20//NONSGML v1.0//EN
CALSCALE:GREGORIAN
METHOD:PUBLISH
X-ORIGINAL-URL:https://midjerseyaor.com
X-WR-CALDESC:Events for Mid Jersey Association of REALTORS®
REFRESH-INTERVAL;VALUE=DURATION:PT1H
X-Robots-Tag:noindex
X-PUBLISHED-TTL:PT1H
BEGIN:VTIMEZONE
TZID:America/New_York
BEGIN:DAYLIGHT
TZOFFSETFROM:-0500
TZOFFSETTO:-0400
TZNAME:EDT
DTSTART:20230312T070000
END:DAYLIGHT
BEGIN:STANDARD
TZOFFSETFROM:-0400
TZOFFSETTO:-0500
TZNAME:EST
DTSTART:20231105T060000
END:STANDARD
BEGIN:DAYLIGHT
TZOFFSETFROM:-0500
TZOFFSETTO:-0400
TZNAME:EDT
DTSTART:20240310T070000
END:DAYLIGHT
BEGIN:STANDARD
TZOFFSETFROM:-0400
TZOFFSETTO:-0500
TZNAME:EST
DTSTART:20241103T060000
END:STANDARD
BEGIN:DAYLIGHT
TZOFFSETFROM:-0500
TZOFFSETTO:-0400
TZNAME:EDT
DTSTART:20250309T070000
END:DAYLIGHT
BEGIN:STANDARD
TZOFFSETFROM:-0400
TZOFFSETTO:-0500
TZNAME:EST
DTSTART:20251102T060000
END:STANDARD
END:VTIMEZONE
BEGIN:VEVENT
DTSTART;TZID=America/New_York:20241023T090000
DTEND;TZID=America/New_York:20241023T120000
DTSTAMP:20260420T023300
CREATED:20240923T164034Z
LAST-MODIFIED:20241021T132642Z
UID:10000420-1729674000-1729684800@midjerseyaor.com
SUMMARY:Annual Membership Meeting & Election of Officers & Directors
DESCRIPTION:Wednesday\, October 23\, 2024 \n9:00 AM – 12:00 PM \nNEW VENUE: \nPines Manor \n2085 Route 27 (Lincoln Hwy) \nEdison\, NJ 08817 \n(No Longer Being Held at Cobblestone Creek Country Club) \nNO COST FOR MEMBERS\nNon-Member Price: $20 \nJoin us for networking & breakfast\, an update from 2024 President Frank Glaush\, a presentation of the REALTOR® Emeritus Awards and the 2024 MJAR REALTOR® of the Year Award\, and acknowledgment of the 2024 Committee Members. \nAfter the program\, supercharge your social media presence on Facebook and Instagram with keynote speaker\, Desmond Stanley of The Incubator\, where he will provide you with the latest tools to elevate your brand\, generate valuable leads\, and stay top of mind of clients. \nFor questions or special accommodations\, please contact Maya Castellon at Events@MidJerseyAOR.com. \nWhen you register for this event using the button below\, you will need to log in to the MJAR Member Portal. Note: Your Portal username is your NRDS number\, and your default password is your last name – all lowercase. Once logged into the Member Portal\, go to “Upcoming Events” on the right side of the dashboard\, and click on “All” to locate the event and register. \nRegister Here
URL:https://midjerseyaor.com/events/2024annual/
LOCATION:Pines Manor\, 2085 Lincoln Hwy\, Edison\, NJ\, 08817\, United States
CATEGORIES:Events
ATTACH;FMTTYPE=image/png:https://midjerseyaor.com/wp-content/uploads/2024/09/Annual-Meeting-Election-3.png
END:VEVENT
BEGIN:VEVENT
DTSTART;TZID=America/New_York:20241023T100000
DTEND;TZID=America/New_York:20241023T110000
DTSTAMP:20260420T023300
CREATED:20240822T145818Z
LAST-MODIFIED:20240822T145818Z
UID:10000411-1729677600-1729681200@midjerseyaor.com
SUMMARY:FREE Bright MLS Webinar: Creative Searching using Bright MLS
DESCRIPTION:There are many ways to search for properties within Bright MLS. Join us to learn more creative ways to search like using the Map\, searching by Agent or Office\, finding Open Houses\, using market activity tools and more. \nRegister Here
URL:https://midjerseyaor.com/events/free-bright-mls-webinar-creative-searching-using-bright-mls-2/
LOCATION:NJ
CATEGORIES:Webinars
END:VEVENT
BEGIN:VEVENT
DTSTART;TZID=America/New_York:20241023T113000
DTEND;TZID=America/New_York:20241023T123000
DTSTAMP:20260420T023300
CREATED:20240822T145906Z
LAST-MODIFIED:20240822T145906Z
UID:10000412-1729683000-1729686600@midjerseyaor.com
SUMMARY:FREE Bright MLS Webinar: Getting to Know Bright’s Financial Tools
DESCRIPTION:Let’s explore the Financial tab and the tools available in bright MLS to assist you with providing helpful financial details to you and your clients. \nRegister Here
URL:https://midjerseyaor.com/events/free-bright-mls-webinar-getting-to-know-brights-financial-tools-2/
LOCATION:NJ
CATEGORIES:Webinars
END:VEVENT
END:VCALENDAR