BEGIN:VCALENDAR
VERSION:2.0
PRODID:-//Mid Jersey Association of REALTORS® - ECPv6.15.20//NONSGML v1.0//EN
CALSCALE:GREGORIAN
METHOD:PUBLISH
X-WR-CALNAME:Mid Jersey Association of REALTORS®
X-ORIGINAL-URL:https://midjerseyaor.com
X-WR-CALDESC:Events for Mid Jersey Association of REALTORS®
REFRESH-INTERVAL;VALUE=DURATION:PT1H
X-Robots-Tag:noindex
X-PUBLISHED-TTL:PT1H
BEGIN:VTIMEZONE
TZID:America/New_York
BEGIN:DAYLIGHT
TZOFFSETFROM:-0500
TZOFFSETTO:-0400
TZNAME:EDT
DTSTART:20230312T070000
END:DAYLIGHT
BEGIN:STANDARD
TZOFFSETFROM:-0400
TZOFFSETTO:-0500
TZNAME:EST
DTSTART:20231105T060000
END:STANDARD
BEGIN:DAYLIGHT
TZOFFSETFROM:-0500
TZOFFSETTO:-0400
TZNAME:EDT
DTSTART:20240310T070000
END:DAYLIGHT
BEGIN:STANDARD
TZOFFSETFROM:-0400
TZOFFSETTO:-0500
TZNAME:EST
DTSTART:20241103T060000
END:STANDARD
BEGIN:DAYLIGHT
TZOFFSETFROM:-0500
TZOFFSETTO:-0400
TZNAME:EDT
DTSTART:20250309T070000
END:DAYLIGHT
BEGIN:STANDARD
TZOFFSETFROM:-0400
TZOFFSETTO:-0500
TZNAME:EST
DTSTART:20251102T060000
END:STANDARD
END:VTIMEZONE
BEGIN:VEVENT
DTSTART;TZID=America/New_York:20241204T100000
DTEND;TZID=America/New_York:20241204T140000
DTSTAMP:20260419T230623
CREATED:20241029T170538Z
LAST-MODIFIED:20251017T154953Z
UID:10000425-1733306400-1733320800@midjerseyaor.com
SUMMARY:MJAR Installation & Holiday Party
DESCRIPTION:Wednesday\, December 4\, 2024 \n10:00 AM – 2:00 PM \nThe Ryland Inn \n115 Old Highway 28 \nWhitehouse Station\, NJ 08889 \n$20 MEMBERS / $40 Non-Members \nJoin us for a toast to the year at the MJAR Installation & Holiday Party as we celebrate the installation of the 2025 Officers and Directors and recognize the achievements and dedication of the outgoing MJAR leadership. This festive event will feature gourmet cuisine\, live music and door prizes all in a beautiful setting! \nFor questions or special accommodations\, please contact Maya Castellon at Events@MidJerseyAOR.com. \nWhen you register for this event using the button below\, you will need to log in to the MJAR Member Portal. Note: Your Portal username is your NRDS number\, and your default password is your last name – all lowercase. Once logged into the Member Portal\, go to “Upcoming Events” on the right side of the dashboard\, and click on “All” to locate the event and register. \nRegister Here
URL:https://midjerseyaor.com/events/2025installation832476/
LOCATION:The Ryland Inn\, 115 Old Hwy 28\, Whitehouse Station\, NJ\, 08889\, United States
CATEGORIES:Events
ATTACH;FMTTYPE=application/pdf:https://midjerseyaor.com/wp-content/uploads/2024/10/Installation-and-Holiday-party-banner-16-x-9-in-1.pdf
END:VEVENT
END:VCALENDAR