BEGIN:VCALENDAR
VERSION:2.0
PRODID:-//Mid Jersey Association of REALTORS® - ECPv6.15.20//NONSGML v1.0//EN
CALSCALE:GREGORIAN
METHOD:PUBLISH
X-ORIGINAL-URL:https://midjerseyaor.com
X-WR-CALDESC:Events for Mid Jersey Association of REALTORS®
REFRESH-INTERVAL;VALUE=DURATION:PT1H
X-Robots-Tag:noindex
X-PUBLISHED-TTL:PT1H
BEGIN:VTIMEZONE
TZID:America/New_York
BEGIN:DAYLIGHT
TZOFFSETFROM:-0500
TZOFFSETTO:-0400
TZNAME:EDT
DTSTART:20240310T070000
END:DAYLIGHT
BEGIN:STANDARD
TZOFFSETFROM:-0400
TZOFFSETTO:-0500
TZNAME:EST
DTSTART:20241103T060000
END:STANDARD
BEGIN:DAYLIGHT
TZOFFSETFROM:-0500
TZOFFSETTO:-0400
TZNAME:EDT
DTSTART:20250309T070000
END:DAYLIGHT
BEGIN:STANDARD
TZOFFSETFROM:-0400
TZOFFSETTO:-0500
TZNAME:EST
DTSTART:20251102T060000
END:STANDARD
BEGIN:DAYLIGHT
TZOFFSETFROM:-0500
TZOFFSETTO:-0400
TZNAME:EDT
DTSTART:20260308T070000
END:DAYLIGHT
BEGIN:STANDARD
TZOFFSETFROM:-0400
TZOFFSETTO:-0500
TZNAME:EST
DTSTART:20261101T060000
END:STANDARD
END:VTIMEZONE
BEGIN:VEVENT
DTSTART;TZID=America/New_York:20250304T100000
DTEND;TZID=America/New_York:20250304T113000
DTSTAMP:20260419T173408
CREATED:20250203T184055Z
LAST-MODIFIED:20250206T175749Z
UID:10000436-1741082400-1741087800@midjerseyaor.com
SUMMARY:Coffee & Commercial Real Estate: 1031 Exchange Basics
DESCRIPTION:Join us on Tuesday\, March 4th at 10:00 AM for the next installment of Coffee & Commercial Real Estate\, hosted by Jonathan Benowitz of Davis Commercial\, with special guest John Lee of 1031 IPX. The event will feature a presentation about 1031 Exchange Basics\, followed by a Q&A and a general Information Exchange about all things 1031 Exchange and Commercial Real Estate. \nUnderstanding 1031 Exchanges is essential for Realtors looking to help their clients defer capital gains taxes and maximize investment potential. Whether you specialize in residential or commercial brokerage\, knowledge of 1031 Exchanges is a powerful tool. \nWe look forward to seeing you there for an informative discussion and valuable networking with fellow real estate professionals! All preregistered attendees will receive a $5 gift card. \n$5 MJAR members (attendees that are preregistered with receive a $5 gift card.) \nFor any questions\, or special accommodation contact events@midjerseyaor.com. \nWhen you register for this event using the button below\, you will need to log in to the MJAR Member Portal. Note: Your Portal username is your NRDS number\, and your default password is your last name – all lowercase. Once logged into the Member Portal\, go to “Upcoming Events” on the right side of the dashboard\, and click on the event and register. \nRegister Here
URL:https://midjerseyaor.com/events/coffee-commercial-real-estate-1031-exchange-basics/
LOCATION:MJAR South River Office\, 14 Old Bridge Turnpike\, South River\, 08882\, United States
CATEGORIES:Events
ATTACH;FMTTYPE=image/png:https://midjerseyaor.com/wp-content/uploads/2025/02/Coffee-and-comercial-real-estate-banner.png
END:VEVENT
BEGIN:VEVENT
DTSTART;TZID=America/New_York:20250304T110000
DTEND;TZID=America/New_York:20250304T120000
DTSTAMP:20260419T173408
CREATED:20250227T152209Z
LAST-MODIFIED:20250227T152209Z
UID:10000470-1741086000-1741089600@midjerseyaor.com
SUMMARY:Free Supra Webinar- Agent Training: Intro to Supra Showing Manager
DESCRIPTION:Come join Supra for a 60-minute training introduction for you to begin using and scheduling. Please share with your members \nRegister Here
URL:https://midjerseyaor.com/events/free-supra-webinar-agent-training-intro-to-supra-showing-manager/2025-03-04/
LOCATION:NJ
END:VEVENT
END:VCALENDAR