BEGIN:VCALENDAR
VERSION:2.0
PRODID:-//Mid Jersey Association of REALTORS® - ECPv6.15.20//NONSGML v1.0//EN
CALSCALE:GREGORIAN
METHOD:PUBLISH
X-WR-CALNAME:Mid Jersey Association of REALTORS®
X-ORIGINAL-URL:https://midjerseyaor.com
X-WR-CALDESC:Events for Mid Jersey Association of REALTORS®
REFRESH-INTERVAL;VALUE=DURATION:PT1H
X-Robots-Tag:noindex
X-PUBLISHED-TTL:PT1H
BEGIN:VTIMEZONE
TZID:America/New_York
BEGIN:DAYLIGHT
TZOFFSETFROM:-0500
TZOFFSETTO:-0400
TZNAME:EDT
DTSTART:20240310T070000
END:DAYLIGHT
BEGIN:STANDARD
TZOFFSETFROM:-0400
TZOFFSETTO:-0500
TZNAME:EST
DTSTART:20241103T060000
END:STANDARD
BEGIN:DAYLIGHT
TZOFFSETFROM:-0500
TZOFFSETTO:-0400
TZNAME:EDT
DTSTART:20250309T070000
END:DAYLIGHT
BEGIN:STANDARD
TZOFFSETFROM:-0400
TZOFFSETTO:-0500
TZNAME:EST
DTSTART:20251102T060000
END:STANDARD
BEGIN:DAYLIGHT
TZOFFSETFROM:-0500
TZOFFSETTO:-0400
TZNAME:EDT
DTSTART:20260308T070000
END:DAYLIGHT
BEGIN:STANDARD
TZOFFSETFROM:-0400
TZOFFSETTO:-0500
TZNAME:EST
DTSTART:20261101T060000
END:STANDARD
END:VTIMEZONE
BEGIN:VEVENT
DTSTART;TZID=America/New_York:20250318T093000
DTEND;TZID=America/New_York:20250318T123000
DTSTAMP:20260419T174130
CREATED:20250108T175326Z
LAST-MODIFIED:20250108T183117Z
UID:10000431-1742290200-1742301000@midjerseyaor.com
SUMMARY:Agency Relationships and Disclosure – Understanding NJ requirements
DESCRIPTION:Continuing Education Credit:\n3 NJREC CORE CE CREDITS (C20169903) \nThis course satisfies the New Jersey Consumer Protection Enhancement Act requirement for one agency CE credit\, to be completed by the end of the current CE term (2023-2025). \nReal estate professionals can establish different types of real estate relationships with consumers\, which are then associated with different level of service. The passage of the 2024 Real Estate Consumer Protection Enhancement Act is providing some new options (Designated Agency) and requirements (Written service agreements\, Seller Disclosure Obligation for example)\nThe course will review the NJ business relationships\, discuss the concept of designated agency\, address the need for written service agreements\, understand the difference between relationship and compensation. Fiduciary obligations will also be detailed\, including the limitations of dual agency representation. \nThe course has been updated to include the relevant NJ Legislative changes effective Aug 1\, 2024 (more specifically: definition of designated agency\, the need for written service agreements\, requirement for a seller property condition disclosure form.) \nAttendance:\nThis class will be held in a hybrid setting.\nIn-person attendance at MJAR-Branchburg Office\, 3461 US Highway 22 East\, Building B\, Branchburg\, NJ 08876.\nVirtual attendees will receive a Zoom link via emailed prior to the class. Login 5 minutes in advance of the start of class. Please ensure your Zoom display name matches your real name so we can identify you. \nMember Cost: $15 / Non-Member Cost: $25\nInstructor: Isabelle Perkins \nRegister to Attend In-Person \nRegister to Attend Virtually
URL:https://midjerseyaor.com/events/agency-relationships-and-disclosure/
LOCATION:MJAR Branchburg Office\, 3461 US Highway 22 East\, Branchburg\, NJ\, 08876\, United States
CATEGORIES:Classes
END:VEVENT
BEGIN:VEVENT
DTSTART;TZID=America/New_York:20250318T110000
DTEND;TZID=America/New_York:20250318T120000
DTSTAMP:20260419T174131
CREATED:20250227T152209Z
LAST-MODIFIED:20250227T152209Z
UID:10000471-1742295600-1742299200@midjerseyaor.com
SUMMARY:Free Supra Webinar- Agent Training: Intro to Supra Showing Manager
DESCRIPTION:Come join Supra for a 60-minute training introduction for you to begin using and scheduling. Please share with your members \nRegister Here
URL:https://midjerseyaor.com/events/free-supra-webinar-agent-training-intro-to-supra-showing-manager/2025-03-18/
LOCATION:NJ
END:VEVENT
BEGIN:VEVENT
DTSTART;TZID=America/New_York:20250318T130000
DTEND;TZID=America/New_York:20250318T160000
DTSTAMP:20260419T174131
CREATED:20250116T190107Z
LAST-MODIFIED:20250117T204259Z
UID:10000432-1742302800-1742313600@midjerseyaor.com
SUMMARY:Fairness – It’s The Law!
DESCRIPTION:Treating all consumers equally and fairly is not only a sound business practice but it is also the law. This course reviews the legal obligations that all real estate licensees must adhere to\, including federal and state regulations. Follow-up discussions will address various consumer concerns\, such as service animals\, tenant applications\, and qualifications. Additionally\, risk management for real estate licensees will be covered through the development of best business practices. \nThe course will also include a discussion on the New Jersey Office of the Attorney General’s 2021 Memorandum on the Fair Chance in Housing Act (FCHA) legislation\, as well as an exploration of biases. \nThis course fulfills requirements for 3 Fair Housing Credits /Core NJ CE (Course Code: C20202567). \nMember Cost: $15 / Non-Member: $25\nInstructor: Isabelle Perkins \nRegister for In-Person Attendance \nRegister for Virtual Attendance
URL:https://midjerseyaor.com/events/fairness-its-the-law-2/
LOCATION:MJAR Branchburg Office\, 3461 US Highway 22 East\, Branchburg\, NJ\, 08876\, United States
CATEGORIES:Classes
ATTACH;FMTTYPE=application/pdf:https://midjerseyaor.com/wp-content/uploads/2025/01/Fairness-2025.pdf
END:VEVENT
END:VCALENDAR