BEGIN:VCALENDAR
VERSION:2.0
PRODID:-//Mid Jersey Association of REALTORS® - ECPv6.15.20//NONSGML v1.0//EN
CALSCALE:GREGORIAN
METHOD:PUBLISH
X-ORIGINAL-URL:https://midjerseyaor.com
X-WR-CALDESC:Events for Mid Jersey Association of REALTORS®
REFRESH-INTERVAL;VALUE=DURATION:PT1H
X-Robots-Tag:noindex
X-PUBLISHED-TTL:PT1H
BEGIN:VTIMEZONE
TZID:America/New_York
BEGIN:DAYLIGHT
TZOFFSETFROM:-0500
TZOFFSETTO:-0400
TZNAME:EDT
DTSTART:20240310T070000
END:DAYLIGHT
BEGIN:STANDARD
TZOFFSETFROM:-0400
TZOFFSETTO:-0500
TZNAME:EST
DTSTART:20241103T060000
END:STANDARD
BEGIN:DAYLIGHT
TZOFFSETFROM:-0500
TZOFFSETTO:-0400
TZNAME:EDT
DTSTART:20250309T070000
END:DAYLIGHT
BEGIN:STANDARD
TZOFFSETFROM:-0400
TZOFFSETTO:-0500
TZNAME:EST
DTSTART:20251102T060000
END:STANDARD
BEGIN:DAYLIGHT
TZOFFSETFROM:-0500
TZOFFSETTO:-0400
TZNAME:EDT
DTSTART:20260308T070000
END:DAYLIGHT
BEGIN:STANDARD
TZOFFSETFROM:-0400
TZOFFSETTO:-0500
TZNAME:EST
DTSTART:20261101T060000
END:STANDARD
END:VTIMEZONE
BEGIN:VEVENT
DTSTART;TZID=America/New_York:20250423T090000
DTEND;TZID=America/New_York:20250423T123000
DTSTAMP:20260419T160234
CREATED:20250327T161932Z
LAST-MODIFIED:20250327T185155Z
UID:10000474-1745398800-1745411400@midjerseyaor.com
SUMMARY:MJAR General Membership Meeting
DESCRIPTION:All Members are Welcome to Attend \nWednesday\, April 23\, 2025 \n9:00 AM – 12:30 PM \n9:00 AM – 9:30 AM – Breakfast & Networking \n9:30 AM – 10:30 AM – Membership Meeting \n10:30 AM – 12:30 PM – Additional Educational Sessions \nLOCATION: \nCrowne Plaza Edison \n2055 Lincoln Highway (Route 27) ~ Windsor Ballroom \nEdison\, NJ 08817 \nRegistration Fee: Members $10 (Non-Members $25) \nContinental Breakfast Included. Chance to Win Door Prizes. \nJoin us to hear updates from 2025 MJAR President\, Gareth Farmer\, and our dedicated MJAR Committees. Connect and network with fellow REALTOR® and Affiliate members to foster valuable relationships. After the membership meeting\, stay to hear from our featured educational session speakers who will share valuable industry insights. \nSpecial Guest Speakers: Jarrod Grasso\, NAR SVP of Industry Relations; Kathy Morin\, 2025 NJ REALTORS® President; Nick Manis\, 2026 NAR Regional VP of NJ\, NY & PA; Robert Blackman\, Bright MLS\, Customer Success Coach. \nAdditional Educational Sessions: Special Agent\, Federal Bureau of Investigation (FBI) on Vacant Land Fraud\, and Veronica L. McManus\, Director of Industry Relations\, Realtor Property Resource (RPR) on Keeping the Consumer Informed Using RPR Analytics and Data. \nFor questions or special accommodations\, please contact Maya Castellon at Events@MidJerseyAOR.com. \nWhen you register for this event using the button below\, you will need to log in to the MJAR Member Portal. Note: Your Portal username is your NRDS number\, and your default password is your last name – all lowercase. Once logged into the Member Portal\, go to “Upcoming Events” on the right side of the dashboard\, and click on “All” to locate the event and register. \nRegister Here
URL:https://midjerseyaor.com/events/membership-meeting/
LOCATION:Crowne Plaza Edison\, 2055 Lincoln Highway\, Edison\, NJ\, 08817\, United States
CATEGORIES:Events
END:VEVENT
END:VCALENDAR