BEGIN:VCALENDAR
VERSION:2.0
PRODID:-//Mid Jersey Association of REALTORS® - ECPv6.15.20//NONSGML v1.0//EN
CALSCALE:GREGORIAN
METHOD:PUBLISH
X-WR-CALNAME:Mid Jersey Association of REALTORS®
X-ORIGINAL-URL:https://midjerseyaor.com
X-WR-CALDESC:Events for Mid Jersey Association of REALTORS®
REFRESH-INTERVAL;VALUE=DURATION:PT1H
X-Robots-Tag:noindex
X-PUBLISHED-TTL:PT1H
BEGIN:VTIMEZONE
TZID:America/New_York
BEGIN:DAYLIGHT
TZOFFSETFROM:-0500
TZOFFSETTO:-0400
TZNAME:EDT
DTSTART:20240310T070000
END:DAYLIGHT
BEGIN:STANDARD
TZOFFSETFROM:-0400
TZOFFSETTO:-0500
TZNAME:EST
DTSTART:20241103T060000
END:STANDARD
BEGIN:DAYLIGHT
TZOFFSETFROM:-0500
TZOFFSETTO:-0400
TZNAME:EDT
DTSTART:20250309T070000
END:DAYLIGHT
BEGIN:STANDARD
TZOFFSETFROM:-0400
TZOFFSETTO:-0500
TZNAME:EST
DTSTART:20251102T060000
END:STANDARD
BEGIN:DAYLIGHT
TZOFFSETFROM:-0500
TZOFFSETTO:-0400
TZNAME:EDT
DTSTART:20260308T070000
END:DAYLIGHT
BEGIN:STANDARD
TZOFFSETFROM:-0400
TZOFFSETTO:-0500
TZNAME:EST
DTSTART:20261101T060000
END:STANDARD
END:VTIMEZONE
BEGIN:VEVENT
DTSTART;TZID=America/New_York:20250612T130000
DTEND;TZID=America/New_York:20250612T140000
DTSTAMP:20260419T160156
CREATED:20250505T155348Z
LAST-MODIFIED:20250508T145655Z
UID:10000509-1749733200-1749736800@midjerseyaor.com
SUMMARY:You've Got This! Live Webinar with Matthew Ferrara
DESCRIPTION:Brought to you by Mid Jersey Association of REALTORS® and NEXUS Association of REALTORS®\nYou’ve Got This! With Matthew Ferrara\, Real Estate Expert\n\n		\n	\n	\n	\n	\n		Matt Ferrara Video MJAR-NEXUS	\n	\n	\n\n	\nJoin Matthew Ferrara\, real estate expert and executive mentor\, as he shares key insights on the market and proven methods of growth to inspire you to reach the success you deserve this year. \nIn this webinar you’ll learn: \n\nHow to strengthen your mindset using The Growth Navigator & your Personal Mantra for success\nHow to create a sustainable sales strategy that drives listings and sales no matter what the market does next\nTwo things each week that lead to $20-40M pipeline\nShift your marketing approach using optimistic storytelling techniques to drive new business\n\nHow to Register: \nSTEP 1: Start by paying your registration fee through the MJAR Member Portal and you will receive your receipt. \nSTEP 2: You will receive another confirmation email with the Zoom link to add the event to your calendar. [*Please note: Registration is limited to pre-approved MJAR and NEXUS Members and Non-Members.] \nRegistration Fee: Members $15 (Non-Members $45) \nLog in to the MJAR Member Portal to register. Note: Your Portal username is your NRDS number\, and your default password is your last name – all lowercase. Once logged into the Member Portal\, go to “Upcoming Events” on the right side of the dashboard. \nRegister Here
URL:https://midjerseyaor.com/events/youve-got-this-matthew-ferrara/
LOCATION:Virtual – ZOOM Meeting\, ZOOM
CATEGORIES:Events
END:VEVENT
END:VCALENDAR