BEGIN:VCALENDAR
VERSION:2.0
PRODID:-//Mid Jersey Association of REALTORS® - ECPv6.15.20//NONSGML v1.0//EN
CALSCALE:GREGORIAN
METHOD:PUBLISH
X-WR-CALNAME:Mid Jersey Association of REALTORS®
X-ORIGINAL-URL:https://midjerseyaor.com
X-WR-CALDESC:Events for Mid Jersey Association of REALTORS®
REFRESH-INTERVAL;VALUE=DURATION:PT1H
X-Robots-Tag:noindex
X-PUBLISHED-TTL:PT1H
BEGIN:VTIMEZONE
TZID:America/New_York
BEGIN:DAYLIGHT
TZOFFSETFROM:-0500
TZOFFSETTO:-0400
TZNAME:EDT
DTSTART:20240310T070000
END:DAYLIGHT
BEGIN:STANDARD
TZOFFSETFROM:-0400
TZOFFSETTO:-0500
TZNAME:EST
DTSTART:20241103T060000
END:STANDARD
BEGIN:DAYLIGHT
TZOFFSETFROM:-0500
TZOFFSETTO:-0400
TZNAME:EDT
DTSTART:20250309T070000
END:DAYLIGHT
BEGIN:STANDARD
TZOFFSETFROM:-0400
TZOFFSETTO:-0500
TZNAME:EST
DTSTART:20251102T060000
END:STANDARD
BEGIN:DAYLIGHT
TZOFFSETFROM:-0500
TZOFFSETTO:-0400
TZNAME:EDT
DTSTART:20260308T070000
END:DAYLIGHT
BEGIN:STANDARD
TZOFFSETFROM:-0400
TZOFFSETTO:-0500
TZNAME:EST
DTSTART:20261101T060000
END:STANDARD
END:VTIMEZONE
BEGIN:VEVENT
DTSTART;TZID=America/New_York:20250807T100000
DTEND;TZID=America/New_York:20250807T110000
DTSTAMP:20260419T191140
CREATED:20250716T203241Z
LAST-MODIFIED:20250717T172825Z
UID:10000542-1754560800-1754564400@midjerseyaor.com
SUMMARY:Top Ten Issues Affecting Real Estate®
DESCRIPTION:Brought to you by The Counselors of Real Estate®\nTop Ten Issues Affecting Real Estate®\nJoin CRE Global Chair\, John Hentschel\, for a dynamic presentation of the Top Ten Issues Affecting Real Estate® report. \nThe Counselors of Real Estate’s signature thought leadership initiative is the annual Top Ten Issues Affecting Real Estate®. The report identifies the current and emerging issues expected to have the most significant impact on all sectors of real estate-each determined through polling\, discussion\, and debate among the broad CRE® membership. The Top Ten is an invaluable resource to clients of Realtors® and to the real estate industry in general. \nRegister in advance via your Member Portal to receive reminders! \nFREE Virtual Webinar – Join Zoom Meeting: https://us06web.zoom.us/j/88197378818 / Meeting ID: 881 9737 8818 \nLog in to the MJAR Member Portal to register. Note: Your Portal username is your NRDS number\, and your default password is your last name – all lowercase. Once logged into the Member Portal\, go to “Upcoming Events” on the right side of the dashboard. \nRegister Here
URL:https://midjerseyaor.com/events/cre-top-ten/
LOCATION:Virtual – ZOOM Meeting\, ZOOM
CATEGORIES:Events
END:VEVENT
BEGIN:VEVENT
DTSTART;TZID=America/New_York:20250807T110000
DTEND;TZID=America/New_York:20250807T120000
DTSTAMP:20260419T191140
CREATED:20250624T164736Z
LAST-MODIFIED:20250624T164736Z
UID:10000536-1754564400-1754568000@midjerseyaor.com
SUMMARY:Free Supra Webinar – Agent Training: Managed Access NMA/SA
DESCRIPTION:Come join Supra for an overview of management access. Please share with your members. \nRegister Here
URL:https://midjerseyaor.com/events/free-supra-webinar-agent-training-managed-access-nma-sa-4/2025-08-07/
LOCATION:NJ
END:VEVENT
END:VCALENDAR