BEGIN:VCALENDAR
VERSION:2.0
PRODID:-//Mid Jersey Association of REALTORS® - ECPv6.15.20//NONSGML v1.0//EN
CALSCALE:GREGORIAN
METHOD:PUBLISH
X-WR-CALNAME:Mid Jersey Association of REALTORS®
X-ORIGINAL-URL:https://midjerseyaor.com
X-WR-CALDESC:Events for Mid Jersey Association of REALTORS®
REFRESH-INTERVAL;VALUE=DURATION:PT1H
X-Robots-Tag:noindex
X-PUBLISHED-TTL:PT1H
BEGIN:VTIMEZONE
TZID:America/New_York
BEGIN:DAYLIGHT
TZOFFSETFROM:-0500
TZOFFSETTO:-0400
TZNAME:EDT
DTSTART:20240310T070000
END:DAYLIGHT
BEGIN:STANDARD
TZOFFSETFROM:-0400
TZOFFSETTO:-0500
TZNAME:EST
DTSTART:20241103T060000
END:STANDARD
BEGIN:DAYLIGHT
TZOFFSETFROM:-0500
TZOFFSETTO:-0400
TZNAME:EDT
DTSTART:20250309T070000
END:DAYLIGHT
BEGIN:STANDARD
TZOFFSETFROM:-0400
TZOFFSETTO:-0500
TZNAME:EST
DTSTART:20251102T060000
END:STANDARD
BEGIN:DAYLIGHT
TZOFFSETFROM:-0500
TZOFFSETTO:-0400
TZNAME:EDT
DTSTART:20260308T070000
END:DAYLIGHT
BEGIN:STANDARD
TZOFFSETFROM:-0400
TZOFFSETTO:-0500
TZNAME:EST
DTSTART:20261101T060000
END:STANDARD
END:VTIMEZONE
BEGIN:VEVENT
DTSTART;TZID=America/New_York:20250910T100000
DTEND;TZID=America/New_York:20250910T113000
DTSTAMP:20260419T211838
CREATED:20250715T153143Z
LAST-MODIFIED:20250715T153143Z
UID:10000541-1757498400-1757503800@midjerseyaor.com
SUMMARY:Unlock Your Edge: AI and Skill-Building for the Modern REALTOR®
DESCRIPTION:Brought to you by Mid Jersey Association of REALTORS® Young Professionals Network Committee\nUnlock Your Edge: AI and Skill-Building for the Modern REALTOR®\nUnlock your edge this fall with MJAR YPN’s dynamic webinar exploring how REALTORS® can use AI\, skill-building\, and smart planning to level up their business. Hear from top NAR YPN Advisory Board members and local pros as they share real-world strategies for growth\, tech adoption\, and staying ahead in a fast-moving market. \nIn this webinar you’ll learn: \n\nHow to leverage AI tools to boost productivity\, marketing\, and client engagement.\nThe top skill sets modern REALTORS® need to stay competitive in 2025 and beyond.\nSmart strategies for setting business goals and managing finances in a shifting market.\n\nRegister in advance via your Member Portal to receive reminders! \nFREE Virtual Webinar – Join Zoom Meeting: https://us06web.zoom.us/j/81250202758 / Meeting ID: 812 5020 2758 \nLog in to the MJAR Member Portal to register. Note: Your Portal username is your NRDS number\, and your default password is your last name – all lowercase. Once logged into the Member Portal\, go to “Upcoming Events” on the right side of the dashboard. \nRegister Here
URL:https://midjerseyaor.com/events/ypn-webinar/
LOCATION:Virtual – ZOOM Meeting\, ZOOM
CATEGORIES:Events
END:VEVENT
BEGIN:VEVENT
DTSTART;TZID=America/New_York:20250910T110000
DTEND;TZID=America/New_York:20250910T120000
DTSTAMP:20260419T211838
CREATED:20250624T163924Z
LAST-MODIFIED:20250624T163924Z
UID:10000527-1757502000-1757505600@midjerseyaor.com
SUMMARY:Free Supra Webinar- Agent Training: eKEY Basic & Professional Training
DESCRIPTION:Come join Supra for a 90-minute training of all of the features of eKEY Basic and then the last 1/2 hour will be eKEY Professional. Please share with your members \nRegister Here
URL:https://midjerseyaor.com/events/free-supra-webinar-agent-training-ekey-basic-professional-training/2025-09-10/
LOCATION:NJ
END:VEVENT
END:VCALENDAR