BEGIN:VCALENDAR
VERSION:2.0
PRODID:-//Mid Jersey Association of REALTORS® - ECPv6.15.20//NONSGML v1.0//EN
CALSCALE:GREGORIAN
METHOD:PUBLISH
X-WR-CALNAME:Mid Jersey Association of REALTORS®
X-ORIGINAL-URL:https://midjerseyaor.com
X-WR-CALDESC:Events for Mid Jersey Association of REALTORS®
REFRESH-INTERVAL;VALUE=DURATION:PT1H
X-Robots-Tag:noindex
X-PUBLISHED-TTL:PT1H
BEGIN:VTIMEZONE
TZID:America/New_York
BEGIN:DAYLIGHT
TZOFFSETFROM:-0500
TZOFFSETTO:-0400
TZNAME:EDT
DTSTART:20240310T070000
END:DAYLIGHT
BEGIN:STANDARD
TZOFFSETFROM:-0400
TZOFFSETTO:-0500
TZNAME:EST
DTSTART:20241103T060000
END:STANDARD
BEGIN:DAYLIGHT
TZOFFSETFROM:-0500
TZOFFSETTO:-0400
TZNAME:EDT
DTSTART:20250309T070000
END:DAYLIGHT
BEGIN:STANDARD
TZOFFSETFROM:-0400
TZOFFSETTO:-0500
TZNAME:EST
DTSTART:20251102T060000
END:STANDARD
BEGIN:DAYLIGHT
TZOFFSETFROM:-0500
TZOFFSETTO:-0400
TZNAME:EDT
DTSTART:20260308T070000
END:DAYLIGHT
BEGIN:STANDARD
TZOFFSETFROM:-0400
TZOFFSETTO:-0500
TZNAME:EST
DTSTART:20261101T060000
END:STANDARD
END:VTIMEZONE
BEGIN:VEVENT
DTSTART;TZID=America/New_York:20251009T083000
DTEND;TZID=America/New_York:20251009T120000
DTSTAMP:20260419T211838
CREATED:20250826T183006Z
LAST-MODIFIED:20251003T150119Z
UID:10000555-1759998600-1760011200@midjerseyaor.com
SUMMARY:DEI Panel Discussion
DESCRIPTION:Brought to you by MJAR’s Diversity\, Equity & Inclusion Committee \nDEI Panel Discussion\nAuthor & Media Personality Dr. Randal Pinkett – Keynote Speaker\nJoin us to connect with fellow REALTORS® and Affiliate members while hearing from leaders of New Jersey’s top diversity associations. Keynote Speaker Dr. Randal Pinkett—entrepreneur\, technologist\, author\, and Co-Founder\, Chairman & CEO of BCT Partners—will share his data-driven approach to advancing diversity\, equity\, and inclusion in homeownership\, followed by insights from panelists at NAHREP\, NAREB\, WCR\, and AREAA. \nGuest panelists include: \n\nNicole Dowling\, Past President\, Central NJ Chapter\, National Association of Hispanic Real Estate Professionals (NAHREP®)\nJanay Malloy\, VP\, NY/NJ Regional\, National Association of Real Estate Brokers (NAREB)\nLynne Mortimer\, State President\, Women’s Council of REALTORS® (WCR)\nJoel Pascua\, VP\, Central NJ Chapter\, Asian Real Estate Association of America (AREAA)\n\nContinental Breakfast Included \nRegistration Fee: Members $10 (Non-Members $25) \n8:30-9:15 AM: Breakfast & Networking\n9:15-10:15 AM: Keynote Speaker\n10:15 AM-12:00 PM: Panel Discussion \nLog in to the MJAR Member Portal to register. Note: If you are logging in for the first time\, your Portal username is your NRDS number\, and your default password is your last name – all lowercase. Once logged into the Member Portal\, go to “Upcoming Events” on the right side of the dashboard. \nRegister Here
URL:https://midjerseyaor.com/events/mjar-dei-panel/
LOCATION:Pines Manor\, 2085 Route 27\, Edison\, 08817\, United States
CATEGORIES:Events
END:VEVENT
BEGIN:VEVENT
DTSTART;TZID=America/New_York:20251009T110000
DTEND;TZID=America/New_York:20251009T120000
DTSTAMP:20260419T211838
CREATED:20250624T164736Z
LAST-MODIFIED:20250624T164736Z
UID:10000538-1760007600-1760011200@midjerseyaor.com
SUMMARY:Free Supra Webinar – Agent Training: Managed Access NMA/SA
DESCRIPTION:Come join Supra for an overview of management access. Please share with your members. \nRegister Here
URL:https://midjerseyaor.com/events/free-supra-webinar-agent-training-managed-access-nma-sa-4/2025-10-09/
LOCATION:NJ
END:VEVENT
END:VCALENDAR