BEGIN:VCALENDAR
VERSION:2.0
PRODID:-//Mid Jersey Association of REALTORS® - ECPv6.15.20//NONSGML v1.0//EN
CALSCALE:GREGORIAN
METHOD:PUBLISH
X-ORIGINAL-URL:https://midjerseyaor.com
X-WR-CALDESC:Events for Mid Jersey Association of REALTORS®
REFRESH-INTERVAL;VALUE=DURATION:PT1H
X-Robots-Tag:noindex
X-PUBLISHED-TTL:PT1H
BEGIN:VTIMEZONE
TZID:America/New_York
BEGIN:DAYLIGHT
TZOFFSETFROM:-0500
TZOFFSETTO:-0400
TZNAME:EDT
DTSTART:20240310T070000
END:DAYLIGHT
BEGIN:STANDARD
TZOFFSETFROM:-0400
TZOFFSETTO:-0500
TZNAME:EST
DTSTART:20241103T060000
END:STANDARD
BEGIN:DAYLIGHT
TZOFFSETFROM:-0500
TZOFFSETTO:-0400
TZNAME:EDT
DTSTART:20250309T070000
END:DAYLIGHT
BEGIN:STANDARD
TZOFFSETFROM:-0400
TZOFFSETTO:-0500
TZNAME:EST
DTSTART:20251102T060000
END:STANDARD
BEGIN:DAYLIGHT
TZOFFSETFROM:-0500
TZOFFSETTO:-0400
TZNAME:EDT
DTSTART:20260308T070000
END:DAYLIGHT
BEGIN:STANDARD
TZOFFSETFROM:-0400
TZOFFSETTO:-0500
TZNAME:EST
DTSTART:20261101T060000
END:STANDARD
END:VTIMEZONE
BEGIN:VEVENT
DTSTART;TZID=America/New_York:20251016T090000
DTEND;TZID=America/New_York:20251016T170000
DTSTAMP:20260419T211853
CREATED:20250701T135613Z
LAST-MODIFIED:20250910T183318Z
UID:10000516-1760605200-1760634000@midjerseyaor.com
SUMMARY:The AI Powered Real Estate Professional
DESCRIPTION:Earn a REBI Certificate\nMid Jersey Association of REALTORS® is proud to offer this Real Estate Business Institute (REBI) certificate course: The AI Powered Real Estate Professional. REBI is the largest affiliate of the National Association of REALTORS® with over 50\,000 members worldwide and is a globally recognized authority valued for its expertise in advancing the professional development of real estate professionals. \nThis certificate course is designed for real estate professionals who want to harness the power of Artificial Intelligence (AI) to improve their productivity\, make better decisions\, and stay ahead in the competitive market. It covers the basics of AI\, its applications in real estate\, marketing with AI\, and practical productivity tools. \nThis course will teach you how to: \n\nUnderstand the latest market trends and their impact on real estate.\nDevelop advanced communication skills utilizing AI.\nMaster digital tools and platforms for real estate marketing and sales.\nLeverage effective strategies for property valuation and analysis.\nApply your understanding of legal and ethical considerations in real estate related to artificial intelligence.\n\nThis course has the following Modules: \n\nComponents of AI\nMarketing With AI\nAI Productivity and Business Application\n\nThis full day class will be held online via ZOOM. The login information and course materials will be shared upon registration. \nInstructor: Matthew Rathbun is the Executive Vice President of a firm overseeing 250 agents serving Virginia\, Maryland and DC. Matthew is the recipient of numerous national\, state and local REALTOR® awards and has been educating agents across the country for many years. Learn more about Matthew here. \nSpecial Early Registration Pricing!\nRegister by September 30 to take advantage of our discounted rates:\nMJAR Members: $110 (Regularly $125)\nNon-Members: $145 \nDon’t miss out — register early and save! \nContact Maya Castellon\, Education & Events Coordinator with any questions\, events@midjerseyaor.com or call (732) 442-3400 x.103. \nLog in to the MJAR Member Portal to register. Note: If you are logging in for the first time\, your Portal username is your NRDS number\, and your default password is your last name – all lowercase. Once logged into the Member Portal\, go to “Upcoming Courses” on the bottom of the dashboard\, and click on the class to register. \nRegister Here
URL:https://midjerseyaor.com/events/ai-real-estate-pro/
LOCATION:Virtual – ZOOM Meeting\, ZOOM
CATEGORIES:Classes
END:VEVENT
END:VCALENDAR