BEGIN:VCALENDAR
VERSION:2.0
PRODID:-//Mid Jersey Association of REALTORS® - ECPv6.15.20//NONSGML v1.0//EN
CALSCALE:GREGORIAN
METHOD:PUBLISH
X-ORIGINAL-URL:https://midjerseyaor.com
X-WR-CALDESC:Events for Mid Jersey Association of REALTORS®
REFRESH-INTERVAL;VALUE=DURATION:PT1H
X-Robots-Tag:noindex
X-PUBLISHED-TTL:PT1H
BEGIN:VTIMEZONE
TZID:America/New_York
BEGIN:DAYLIGHT
TZOFFSETFROM:-0500
TZOFFSETTO:-0400
TZNAME:EDT
DTSTART:20250309T070000
END:DAYLIGHT
BEGIN:STANDARD
TZOFFSETFROM:-0400
TZOFFSETTO:-0500
TZNAME:EST
DTSTART:20251102T060000
END:STANDARD
BEGIN:DAYLIGHT
TZOFFSETFROM:-0500
TZOFFSETTO:-0400
TZNAME:EDT
DTSTART:20260308T070000
END:DAYLIGHT
BEGIN:STANDARD
TZOFFSETFROM:-0400
TZOFFSETTO:-0500
TZNAME:EST
DTSTART:20261101T060000
END:STANDARD
BEGIN:DAYLIGHT
TZOFFSETFROM:-0500
TZOFFSETTO:-0400
TZNAME:EDT
DTSTART:20270314T070000
END:DAYLIGHT
BEGIN:STANDARD
TZOFFSETFROM:-0400
TZOFFSETTO:-0500
TZNAME:EST
DTSTART:20271107T060000
END:STANDARD
END:VTIMEZONE
BEGIN:VEVENT
DTSTART;TZID=America/New_York:20260318T093000
DTEND;TZID=America/New_York:20260318T110000
DTSTAMP:20260419T123130
CREATED:20260227T171605Z
LAST-MODIFIED:20260227T171659Z
UID:10000702-1773826200-1773831600@midjerseyaor.com
SUMMARY:Fair Chance In Housing Act Training
DESCRIPTION:The New Jersey Division on Civil Rights (DCR)\nToday\, nearly one-third of the adult working age population in the U.S. has a conviction record. Many of these people have been denied housing\, though most pose no threat to their communities. New Jersey’s Fair Chance in Housing Act (FCHA) remedies this form of discrimination by establishing a fair process for consideration of conviction histories during the application process. Join us for this interactive training that will provide an overview of FCHA\, including effective implementation strategies and model forms that can be utilized by housing providers. Participants will also explore how conviction record screenings have disproportionately impacted communities of color\, and consider ways to create discrimination-free housing environments. \nNOTE: This training focuses specifically on the Fair Chance in Housing Act and consideration of criminal history during the housing application process. For a more general overview of housing protections\, sign up for DCR’s training\, The New Jersey Law Against Discrimination in Housing on March 19th. \nNJ Real Estate CE Approved\nNJ Real Estate CE Approved- 1 credit \nRegister for DCR’s Free Virtual training by signing up below. \nRegister for March 18th from 9:30am to 11:00am
URL:https://midjerseyaor.com/events/fair-chance-in-housing-act-training/
LOCATION:Virtual – ZOOM Meeting\, ZOOM
CATEGORIES:Classes
END:VEVENT
END:VCALENDAR