BEGIN:VCALENDAR
VERSION:2.0
PRODID:-//Mid Jersey Association of REALTORS® - ECPv6.15.20//NONSGML v1.0//EN
CALSCALE:GREGORIAN
METHOD:PUBLISH
X-ORIGINAL-URL:https://midjerseyaor.com
X-WR-CALDESC:Events for Mid Jersey Association of REALTORS®
REFRESH-INTERVAL;VALUE=DURATION:PT1H
X-Robots-Tag:noindex
X-PUBLISHED-TTL:PT1H
BEGIN:VTIMEZONE
TZID:America/New_York
BEGIN:DAYLIGHT
TZOFFSETFROM:-0500
TZOFFSETTO:-0400
TZNAME:EDT
DTSTART:20250309T070000
END:DAYLIGHT
BEGIN:STANDARD
TZOFFSETFROM:-0400
TZOFFSETTO:-0500
TZNAME:EST
DTSTART:20251102T060000
END:STANDARD
BEGIN:DAYLIGHT
TZOFFSETFROM:-0500
TZOFFSETTO:-0400
TZNAME:EDT
DTSTART:20260308T070000
END:DAYLIGHT
BEGIN:STANDARD
TZOFFSETFROM:-0400
TZOFFSETTO:-0500
TZNAME:EST
DTSTART:20261101T060000
END:STANDARD
BEGIN:DAYLIGHT
TZOFFSETFROM:-0500
TZOFFSETTO:-0400
TZNAME:EDT
DTSTART:20270314T070000
END:DAYLIGHT
BEGIN:STANDARD
TZOFFSETFROM:-0400
TZOFFSETTO:-0500
TZNAME:EST
DTSTART:20271107T060000
END:STANDARD
END:VTIMEZONE
BEGIN:VEVENT
DTSTART;TZID=America/New_York:20260428T143000
DTEND;TZID=America/New_York:20260428T173000
DTSTAMP:20260419T105638
CREATED:20260413T141654Z
LAST-MODIFIED:20260413T173536Z
UID:10000721-1777386600-1777397400@midjerseyaor.com
SUMMARY:REALTOR® Code of Ethics
DESCRIPTION:Continuing Education Credit:\n3 NJREC ETHICS CE CREDITS (C20200442) \nThis course covers the REALTOR® Code of Ethics of the National Association of REALTORS in its entirety. Students will learn about the Preamble to the Code\, the 17 Articles of the Code and their respective Standards of Practice\, as well as the Pathways to Professionalism. \nAttendance:\nVirtual Webinar \nMember Cost: FREE / Non-Member: $10\nInstructor: David Sweeney\, SFR\, CRS\, ABR\, CLHMS \nWebinar Registration
URL:https://midjerseyaor.com/events/realtor-code-of-ethics3/
LOCATION:Virtual – ZOOM Meeting\, ZOOM
CATEGORIES:Classes
END:VEVENT
BEGIN:VEVENT
DTSTART;TZID=America/New_York:20260428T180000
DTEND;TZID=America/New_York:20260428T190000
DTSTAMP:20260419T105638
CREATED:20260413T143435Z
LAST-MODIFIED:20260413T143647Z
UID:10000722-1777399200-1777402800@midjerseyaor.com
SUMMARY:New Member Welcome Meeting Webinar
DESCRIPTION:These sessions are designed to provide personalized support and an overview of the many benefits that come with your Mid Jersey Association of REALTORS® (MJAR) membership. \n\nMeet members of the MJAR leadership team and learn how to get involved in your Association.\nConnect with MJAR Affiliate Members.\nMeet the Association staff who support you throughout your membership.\nGet your questions answered as a new REALTOR®.\nLearn about valuable member benefits.\nHear about upcoming Committee Events and Programs.\nUnderstand the difference between MJAR and the MLS.\n\n6:00 – 7:00 PM VIRTUAL Webinar\nNo Cost to Attend \nWebinar Registration
URL:https://midjerseyaor.com/events/new-member-welcome-meeting-3/
LOCATION:Virtual – ZOOM Meeting\, ZOOM
CATEGORIES:Orientations
END:VEVENT
END:VCALENDAR