BEGIN:VCALENDAR
VERSION:2.0
PRODID:-//Mid Jersey Association of REALTORS® - ECPv6.15.20//NONSGML v1.0//EN
CALSCALE:GREGORIAN
METHOD:PUBLISH
X-WR-CALNAME:Mid Jersey Association of REALTORS®
X-ORIGINAL-URL:https://midjerseyaor.com
X-WR-CALDESC:Events for Mid Jersey Association of REALTORS®
REFRESH-INTERVAL;VALUE=DURATION:PT1H
X-Robots-Tag:noindex
X-PUBLISHED-TTL:PT1H
BEGIN:VTIMEZONE
TZID:America/New_York
BEGIN:DAYLIGHT
TZOFFSETFROM:-0500
TZOFFSETTO:-0400
TZNAME:EDT
DTSTART:20250309T070000
END:DAYLIGHT
BEGIN:STANDARD
TZOFFSETFROM:-0400
TZOFFSETTO:-0500
TZNAME:EST
DTSTART:20251102T060000
END:STANDARD
BEGIN:DAYLIGHT
TZOFFSETFROM:-0500
TZOFFSETTO:-0400
TZNAME:EDT
DTSTART:20260308T070000
END:DAYLIGHT
BEGIN:STANDARD
TZOFFSETFROM:-0400
TZOFFSETTO:-0500
TZNAME:EST
DTSTART:20261101T060000
END:STANDARD
BEGIN:DAYLIGHT
TZOFFSETFROM:-0500
TZOFFSETTO:-0400
TZNAME:EDT
DTSTART:20270314T070000
END:DAYLIGHT
BEGIN:STANDARD
TZOFFSETFROM:-0400
TZOFFSETTO:-0500
TZNAME:EST
DTSTART:20271107T060000
END:STANDARD
END:VTIMEZONE
BEGIN:VEVENT
DTSTART;TZID=America/New_York:20260429T093000
DTEND;TZID=America/New_York:20260429T110000
DTSTAMP:20260419T105514
CREATED:20260323T180827Z
LAST-MODIFIED:20260323T180912Z
UID:10000713-1777455000-1777460400@midjerseyaor.com
SUMMARY:Assistance Animals in Housing
DESCRIPTION:The New Jersey Division on Civil Rights (DCR)\nIn New Jersey\, housing providers\, employers\, and places of public accommodation are required to modify or make exceptions to their policies governing animals in order to accommodate people with disabilities. In this session\, DCR representatives will clarify what the New Jersey Law Against Discrimination says about assistance animals\, and answer some of the questions we frequently hear from members of the public. Through case studies and discussion\, participants will learn about their rights and obligations under the law regarding service animals and emotional support animals. \nDCR’s Free Virtual Trainings!\nNJ Real Estate CE Approved – 1 credit\nNew Jersey State Board of Real Estate Appraisers Approved for CE Credits \nRegister for DCR’s Free Virtual training by signing up below. \nRegister for April 29th from 9:30am to 11:00am
URL:https://midjerseyaor.com/events/assistance-animals-in-housing/
LOCATION:Virtual – ZOOM Meeting\, ZOOM
CATEGORIES:Classes
END:VEVENT
BEGIN:VEVENT
DTSTART;TZID=America/New_York:20260429T100000
DTEND;TZID=America/New_York:20260429T110000
DTSTAMP:20260419T105514
CREATED:20260331T195823Z
LAST-MODIFIED:20260331T195823Z
UID:10000717-1777456800-1777460400@midjerseyaor.com
SUMMARY:Community Service Committee Meeting (Virtual)
DESCRIPTION:
URL:https://midjerseyaor.com/events/community-service-committee-meeting/
LOCATION:NJ
CATEGORIES:Committee Meetings
END:VEVENT
BEGIN:VEVENT
DTSTART;TZID=America/New_York:20260429T103000
DTEND;TZID=America/New_York:20260429T113000
DTSTAMP:20260419T105514
CREATED:20260312T182225Z
LAST-MODIFIED:20260312T182225Z
UID:10000708-1777458600-1777462200@midjerseyaor.com
SUMMARY:RPAC/Government Affairs Committee Meeting via Zoom
DESCRIPTION:
URL:https://midjerseyaor.com/events/rpac-government-affairs-committee-meeting-via-zoom/
LOCATION:NJ
CATEGORIES:Committee Meetings
END:VEVENT
END:VCALENDAR