BEGIN:VCALENDAR
VERSION:2.0
PRODID:-//Mid Jersey Association of REALTORS® - ECPv6.15.20//NONSGML v1.0//EN
CALSCALE:GREGORIAN
METHOD:PUBLISH
X-WR-CALNAME:Mid Jersey Association of REALTORS®
X-ORIGINAL-URL:https://midjerseyaor.com
X-WR-CALDESC:Events for Mid Jersey Association of REALTORS®
REFRESH-INTERVAL;VALUE=DURATION:PT1H
X-Robots-Tag:noindex
X-PUBLISHED-TTL:PT1H
BEGIN:VTIMEZONE
TZID:America/New_York
BEGIN:DAYLIGHT
TZOFFSETFROM:-0500
TZOFFSETTO:-0400
TZNAME:EDT
DTSTART:20250309T070000
END:DAYLIGHT
BEGIN:STANDARD
TZOFFSETFROM:-0400
TZOFFSETTO:-0500
TZNAME:EST
DTSTART:20251102T060000
END:STANDARD
BEGIN:DAYLIGHT
TZOFFSETFROM:-0500
TZOFFSETTO:-0400
TZNAME:EDT
DTSTART:20260308T070000
END:DAYLIGHT
BEGIN:STANDARD
TZOFFSETFROM:-0400
TZOFFSETTO:-0500
TZNAME:EST
DTSTART:20261101T060000
END:STANDARD
BEGIN:DAYLIGHT
TZOFFSETFROM:-0500
TZOFFSETTO:-0400
TZNAME:EDT
DTSTART:20270314T070000
END:DAYLIGHT
BEGIN:STANDARD
TZOFFSETFROM:-0400
TZOFFSETTO:-0500
TZNAME:EST
DTSTART:20271107T060000
END:STANDARD
END:VTIMEZONE
BEGIN:VEVENT
DTSTART;TZID=America/New_York:20260505T180000
DTEND;TZID=America/New_York:20260505T200000
DTSTAMP:20260419T123117
CREATED:20260324T153404Z
LAST-MODIFIED:20260324T154001Z
UID:10000715-1778004000-1778011200@midjerseyaor.com
SUMMARY:Equal Professional Services & (NJLAD) NJ Law Against Discrimination
DESCRIPTION:Continuing Education Credit:\n2 NJREC FAIR HOUSING CE CREDITS (C20204585) \nThis 2-hour continuing education course is co-sponsored by the Mid Jersey Association of REALTORS® and NEXUS Association of REALTORS®. \nAdopting systematic procedures will help ensure real estate agents are providing consistent services to all their clients. This course will help you establish those practices while adhering to the (NJLAD) NJ Law Against Discrimination. \nThis course will also satisfy your 2-hour NAR Fair Housing requirement. \nAttendance:\nThis class will be held virtually on Tuesday\, May 5 from 6:00 PM – 8:00 PM. Virtual attendees will receive a Zoom link emailed prior to the class. Login 15 minutes in advance of the start of class. Please ensure your Zoom display name matches your license name so we can identify you. \nMember Cost: $20 / Non-Member Cost: $30\nInstructor: Anna M. Janda \nRegister to Attend Virtually
URL:https://midjerseyaor.com/events/equal-prof-services-njlad/
LOCATION:Virtual – ZOOM Meeting\, ZOOM
CATEGORIES:Classes
END:VEVENT
END:VCALENDAR