BEGIN:VCALENDAR
VERSION:2.0
PRODID:-//Mid Jersey Association of REALTORS® - ECPv6.15.20//NONSGML v1.0//EN
CALSCALE:GREGORIAN
METHOD:PUBLISH
X-ORIGINAL-URL:https://midjerseyaor.com
X-WR-CALDESC:Events for Mid Jersey Association of REALTORS®
REFRESH-INTERVAL;VALUE=DURATION:PT1H
X-Robots-Tag:noindex
X-PUBLISHED-TTL:PT1H
BEGIN:VTIMEZONE
TZID:America/New_York
BEGIN:DAYLIGHT
TZOFFSETFROM:-0500
TZOFFSETTO:-0400
TZNAME:EDT
DTSTART:20250309T070000
END:DAYLIGHT
BEGIN:STANDARD
TZOFFSETFROM:-0400
TZOFFSETTO:-0500
TZNAME:EST
DTSTART:20251102T060000
END:STANDARD
BEGIN:DAYLIGHT
TZOFFSETFROM:-0500
TZOFFSETTO:-0400
TZNAME:EDT
DTSTART:20260308T070000
END:DAYLIGHT
BEGIN:STANDARD
TZOFFSETFROM:-0400
TZOFFSETTO:-0500
TZNAME:EST
DTSTART:20261101T060000
END:STANDARD
BEGIN:DAYLIGHT
TZOFFSETFROM:-0500
TZOFFSETTO:-0400
TZNAME:EDT
DTSTART:20270314T070000
END:DAYLIGHT
BEGIN:STANDARD
TZOFFSETFROM:-0400
TZOFFSETTO:-0500
TZNAME:EST
DTSTART:20271107T060000
END:STANDARD
END:VTIMEZONE
BEGIN:VEVENT
DTSTART;TZID=America/New_York:20260506T110000
DTEND;TZID=America/New_York:20260506T123000
DTSTAMP:20260419T123053
CREATED:20260210T173432Z
LAST-MODIFIED:20260225T180936Z
UID:10000653-1778065200-1778070600@midjerseyaor.com
SUMMARY:Supra eKey Basic & Professional Training
DESCRIPTION:The first hour will be all of the features of eKEY Basic and then the last 1/2 hour will be eKEY Professional. There will be a break in between to answer any eKEY Basic questions and a break at the end of eKEY Professional to answer questions. To get the most out of the live demonstration\, please make sure you have your eKEY downloaded & authorized so that you can follow along. Please let training know if you have any questions.
URL:https://midjerseyaor.com/events/supra-ekey-basic-professional-training-2/
LOCATION:Virtual – ZOOM Meeting\, ZOOM
CATEGORIES:Webinars
END:VEVENT
BEGIN:VEVENT
DTSTART;TZID=America/New_York:20260506T110000
DTEND;TZID=America/New_York:20260506T140000
DTSTAMP:20260419T123053
CREATED:20260407T180212Z
LAST-MODIFIED:20260407T180212Z
UID:10000719-1778065200-1778076000@midjerseyaor.com
SUMMARY:Shred Day - A Free Member Benefit
DESCRIPTION:Wednesday\, May 6\, 11:00 AM – 2:00 PM\nMJAR Headquarters \nJoin Mid Jersey Association of REALTORS® for our annual Shred Day\, a complimentary member benefit designed to help you safely dispose of sensitive documents—while enjoying a fun and social afternoon! Bring your confidential documents to be securely shredded onsite and take advantage of a great opportunity to connect with fellow members. \nWhat to Expect: \n\nOnsite Document Shredding by American Shredder\nLunch with 2026 MJAR President Kevin McPheeters\nRPR Training Session with Valentina Grbavac\nFree Ice Cream & Tacos (on us!)\n\nImportant: Please bring your business card for member identification to participate in shredding. \nBonus Opportunity: \nProfessional Headshots available for $35\n(15-minute sessions | Limited to 8 spots)\nProvided by MJAR Affiliate Acme Video Productions & Creative Custom Photography \nFor more information\, contact MJAR Director or Education & Events\, Maya Castellon at events@MidJerseyAOR.com or call (732) 442-3400\, Ext. 103. Shredding by American Shredder & Ice Cream by NitroGirl and Tacos by Tacoholics. \nLog in to the MJAR Member Portal to register. Note: If you are logging in for the first time\, your Portal username is your NRDS number\, and your default password is your last name – all lowercase. Once logged into the Member Portal\, go to “Upcoming Events” on the right side of the dashboard\, and click on “Shred Day & Ice Cream” to register. \nShred Day Registration
URL:https://midjerseyaor.com/events/shred-day-for-members/
LOCATION:MJAR South River Office\, 14 Old Bridge Turnpike\, South River\, 08882\, United States
CATEGORIES:Events
END:VEVENT
END:VCALENDAR