BEGIN:VCALENDAR
VERSION:2.0
PRODID:-//Mid Jersey Association of REALTORS® - ECPv6.15.20//NONSGML v1.0//EN
CALSCALE:GREGORIAN
METHOD:PUBLISH
X-WR-CALNAME:Mid Jersey Association of REALTORS®
X-ORIGINAL-URL:https://midjerseyaor.com
X-WR-CALDESC:Events for Mid Jersey Association of REALTORS®
REFRESH-INTERVAL;VALUE=DURATION:PT1H
X-Robots-Tag:noindex
X-PUBLISHED-TTL:PT1H
BEGIN:VTIMEZONE
TZID:America/New_York
BEGIN:DAYLIGHT
TZOFFSETFROM:-0500
TZOFFSETTO:-0400
TZNAME:EDT
DTSTART:20220313T070000
END:DAYLIGHT
BEGIN:STANDARD
TZOFFSETFROM:-0400
TZOFFSETTO:-0500
TZNAME:EST
DTSTART:20221106T060000
END:STANDARD
BEGIN:DAYLIGHT
TZOFFSETFROM:-0500
TZOFFSETTO:-0400
TZNAME:EDT
DTSTART:20230312T070000
END:DAYLIGHT
BEGIN:STANDARD
TZOFFSETFROM:-0400
TZOFFSETTO:-0500
TZNAME:EST
DTSTART:20231105T060000
END:STANDARD
BEGIN:DAYLIGHT
TZOFFSETFROM:-0500
TZOFFSETTO:-0400
TZNAME:EDT
DTSTART:20240310T070000
END:DAYLIGHT
BEGIN:STANDARD
TZOFFSETFROM:-0400
TZOFFSETTO:-0500
TZNAME:EST
DTSTART:20241103T060000
END:STANDARD
END:VTIMEZONE
BEGIN:VEVENT
DTSTART;TZID=America/New_York:20230208T093000
DTEND;TZID=America/New_York:20230208T123000
DTSTAMP:20260421T151402
CREATED:20221114T201443Z
LAST-MODIFIED:20221114T201522Z
UID:10000036-1675848600-1675859400@midjerseyaor.com
SUMMARY:Fair Housing and Cultural Diversity Class (3 Fair Housing Credits)
DESCRIPTION:This interactive 3 hour course will give agents a better understanding of the Federal and State Fair Housing laws and the role that cultural diversity plays in upholding these laws. As a result of having taken this course\, the real estate professional will have a greater understanding of effective communication methods that lead to improved service of a multicultural clientele. \nMember Cost: $35.00\nNon-Member Cost: $45.00\nInstructor: Eileen Cahill\nCredit: 3 Fair Housing Credits \nRegister Here
URL:https://midjerseyaor.com/events/fair-housing-and-cultural-diversity-class-3-fair-housing-credits/
CATEGORIES:Classes
END:VEVENT
BEGIN:VEVENT
DTSTART;TZID=America/New_York:20230214T093000
DTEND;TZID=America/New_York:20230214T123000
DTSTAMP:20260421T151402
CREATED:20221128T212000Z
LAST-MODIFIED:20221128T212000Z
UID:10000043-1676367000-1676377800@midjerseyaor.com
SUMMARY:REALTOR® Code of Ethics Class (3 Ethics Credits)
DESCRIPTION:This course covers the REALTOR® Code of Ethics of the National Association of REALTORS® in it’s entirety. Students will learn about the Preamble to the Code\, the 17 Articles of the Code and their respective Standards of Practice\, as well as the Pathways to Professionalism. In addition to providing three (3) ethics credits towards your NJ license renewal\, this course will also satisfy the NAR triennial ethics requirement for Cycle 7. \nMember Cost: $30.00\nNon-Member Cost: $40.00\nInstructor: David Sweeney\nCredits: 3 Ethics Credits \nRegister Here
URL:https://midjerseyaor.com/events/realtor-code-of-ethics-class-3-ethics-credits/
CATEGORIES:Classes
END:VEVENT
BEGIN:VEVENT
DTSTART;TZID=America/New_York:20230217T093000
DTEND;TZID=America/New_York:20230217T113000
DTSTAMP:20260421T151402
CREATED:20221114T202042Z
LAST-MODIFIED:20221114T202120Z
UID:10000037-1676626200-1676633400@midjerseyaor.com
SUMMARY:Residential Lending Fundamentals Class (2 Elective Credits)
DESCRIPTION:This class will explore key elements in the mortgage lending for your real estate business. Course topics include the major mortgage financing programs and guidelines\, construction lending\, the impact of regulations on the mortgage process and real estate\, property appraisals review\, and types of mortgage fraud. \nMember Cost: $5.00\nNon-Member Cost: $10.00\nInstructor: Joseph Scorese\nCredit: 2 Elective Credits \nRegister Here
URL:https://midjerseyaor.com/events/residential-lending-fundamentals/
CATEGORIES:Classes
END:VEVENT
BEGIN:VEVENT
DTSTART;TZID=America/New_York:20230223T093000
DTEND;TZID=America/New_York:20230223T123000
DTSTAMP:20260421T151402
CREATED:20221114T202946Z
LAST-MODIFIED:20221114T202946Z
UID:10000038-1677144600-1677155400@midjerseyaor.com
SUMMARY:Advertising Regulations Class (3 Core Credits)
DESCRIPTION:This presentation is a compilation of the most important regulations pertaining to advertising such as the NJ Real Estate Commission rules and regulations\, the NAR Code of Ethics\, NAR’s trademark regulations\, local MLS regulations\, and the Truth in Lending Law. \nMember Cost: $35.00\nNon-Member Cost: $45.00\nInstructor: Isabelle Perkins\nCredits: 3 Core Credits \nRegister Here
URL:https://midjerseyaor.com/events/advertising-regulations-class-3-core-credits/
CATEGORIES:Classes
END:VEVENT
BEGIN:VEVENT
DTSTART;TZID=America/New_York:20230228T100000
DTEND;TZID=America/New_York:20230228T110000
DTSTAMP:20260421T151402
CREATED:20221114T203157Z
LAST-MODIFIED:20230209T211320Z
UID:10000039-1677578400-1677582000@midjerseyaor.com
SUMMARY:What's Under the Dome? A Legislative Update on the Issues Impacting New Jersey Real Estate Class (1 Elective Credit)
DESCRIPTION:This one hour course\, presented by NJ REALTORS® Director of RPAC and Regulatory Affairs\, is designed to update agents on current legislation affecting the real estate industry in our market area. Upon completion of this course\, attendees will be able to identify and discuss the most updated rules and regulations impacting real estate in New Jersey. \nMember Cost: $5.00\nNon-Member Cost: $10.00\nInstructor: Bruce Shapiro\nCredits: 1 Elective Credit \nRegister Here
URL:https://midjerseyaor.com/events/tax-stories-part-2-class-1-elective-credit/
CATEGORIES:Classes
END:VEVENT
END:VCALENDAR