BEGIN:VCALENDAR
VERSION:2.0
PRODID:-//Mid Jersey Association of REALTORS® - ECPv6.15.20//NONSGML v1.0//EN
CALSCALE:GREGORIAN
METHOD:PUBLISH
X-WR-CALNAME:Mid Jersey Association of REALTORS®
X-ORIGINAL-URL:https://midjerseyaor.com
X-WR-CALDESC:Events for Mid Jersey Association of REALTORS®
REFRESH-INTERVAL;VALUE=DURATION:PT1H
X-Robots-Tag:noindex
X-PUBLISHED-TTL:PT1H
BEGIN:VTIMEZONE
TZID:America/New_York
BEGIN:DAYLIGHT
TZOFFSETFROM:-0500
TZOFFSETTO:-0400
TZNAME:EDT
DTSTART:20220313T070000
END:DAYLIGHT
BEGIN:STANDARD
TZOFFSETFROM:-0400
TZOFFSETTO:-0500
TZNAME:EST
DTSTART:20221106T060000
END:STANDARD
BEGIN:DAYLIGHT
TZOFFSETFROM:-0500
TZOFFSETTO:-0400
TZNAME:EDT
DTSTART:20230312T070000
END:DAYLIGHT
BEGIN:STANDARD
TZOFFSETFROM:-0400
TZOFFSETTO:-0500
TZNAME:EST
DTSTART:20231105T060000
END:STANDARD
BEGIN:DAYLIGHT
TZOFFSETFROM:-0500
TZOFFSETTO:-0400
TZNAME:EDT
DTSTART:20240310T070000
END:DAYLIGHT
BEGIN:STANDARD
TZOFFSETFROM:-0400
TZOFFSETTO:-0500
TZNAME:EST
DTSTART:20241103T060000
END:STANDARD
END:VTIMEZONE
BEGIN:VEVENT
DTSTART;TZID=America/New_York:20231031T100000
DTEND;TZID=America/New_York:20231031T120000
DTSTAMP:20260421T025903
CREATED:20230928T203003Z
LAST-MODIFIED:20230928T203003Z
UID:10000349-1698746400-1698753600@midjerseyaor.com
SUMMARY:Perfect Pricing with Easy\, Accurate CMA's from RPR Class (2 Elective CE Credits)
DESCRIPTION:Attend this course to learn how to: apply your local market intelligence to refine the RVM/AVM with adjustments; subtract value for needed home improvements; use RPR slider bars to further adjust a property’s value based on market and home conditions; and adjust the weight of comps so you can judge which should be considered more. You’ll also learn how to lead clients through the intricacies of market realities with easy-to-understand facts and graphics and create a Seller’s Report that shows off your market expertise! \n  \nRegister Here
URL:https://midjerseyaor.com/events/perfect-pricing-with-easy-accurate-cmas-from-rpr-class-2-elective-ce-credits/
LOCATION:NJ
CATEGORIES:Classes
END:VEVENT
END:VCALENDAR