BEGIN:VCALENDAR
VERSION:2.0
PRODID:-//Mid Jersey Association of REALTORS® - ECPv6.15.20//NONSGML v1.0//EN
CALSCALE:GREGORIAN
METHOD:PUBLISH
X-WR-CALNAME:Mid Jersey Association of REALTORS®
X-ORIGINAL-URL:https://midjerseyaor.com
X-WR-CALDESC:Events for Mid Jersey Association of REALTORS®
REFRESH-INTERVAL;VALUE=DURATION:PT1H
X-Robots-Tag:noindex
X-PUBLISHED-TTL:PT1H
BEGIN:VTIMEZONE
TZID:America/New_York
BEGIN:DAYLIGHT
TZOFFSETFROM:-0500
TZOFFSETTO:-0400
TZNAME:EDT
DTSTART:20220313T070000
END:DAYLIGHT
BEGIN:STANDARD
TZOFFSETFROM:-0400
TZOFFSETTO:-0500
TZNAME:EST
DTSTART:20221106T060000
END:STANDARD
BEGIN:DAYLIGHT
TZOFFSETFROM:-0500
TZOFFSETTO:-0400
TZNAME:EDT
DTSTART:20230312T070000
END:DAYLIGHT
BEGIN:STANDARD
TZOFFSETFROM:-0400
TZOFFSETTO:-0500
TZNAME:EST
DTSTART:20231105T060000
END:STANDARD
BEGIN:DAYLIGHT
TZOFFSETFROM:-0500
TZOFFSETTO:-0400
TZNAME:EDT
DTSTART:20240310T070000
END:DAYLIGHT
BEGIN:STANDARD
TZOFFSETFROM:-0400
TZOFFSETTO:-0500
TZNAME:EST
DTSTART:20241103T060000
END:STANDARD
END:VTIMEZONE
BEGIN:VEVENT
DTSTART;TZID=America/New_York:20230131T093000
DTEND;TZID=America/New_York:20230131T123000
DTSTAMP:20260421T164257
CREATED:20221230T135949Z
LAST-MODIFIED:20221230T135949Z
UID:10000329-1675157400-1675168200@midjerseyaor.com
SUMMARY:Financial Planning for the Real Estate Professional Class (3 Elective Credits)
DESCRIPTION:As independent contractors\, financial planning is key to the success of all real estate agents. This class will review budgeting\, investment planning\, tax planning\, business planning and other topics to contribute to your long-term success. \nMember Cost: $5.00\nNon-Member Cost: $10.00\nInstructor: John Haslach\nCredits: 3 Elective Credits \nRegister Here
URL:https://midjerseyaor.com/events/financial-planning-for-the-real-estate-professional-class-3-elective-credits/
CATEGORIES:Classes
END:VEVENT
END:VCALENDAR