BEGIN:VCALENDAR
VERSION:2.0
PRODID:-//Mid Jersey Association of REALTORS® - ECPv6.15.20//NONSGML v1.0//EN
CALSCALE:GREGORIAN
METHOD:PUBLISH
X-ORIGINAL-URL:https://midjerseyaor.com
X-WR-CALDESC:Events for Mid Jersey Association of REALTORS®
REFRESH-INTERVAL;VALUE=DURATION:PT1H
X-Robots-Tag:noindex
X-PUBLISHED-TTL:PT1H
BEGIN:VTIMEZONE
TZID:America/New_York
BEGIN:DAYLIGHT
TZOFFSETFROM:-0500
TZOFFSETTO:-0400
TZNAME:EDT
DTSTART:20230312T070000
END:DAYLIGHT
BEGIN:STANDARD
TZOFFSETFROM:-0400
TZOFFSETTO:-0500
TZNAME:EST
DTSTART:20231105T060000
END:STANDARD
BEGIN:DAYLIGHT
TZOFFSETFROM:-0500
TZOFFSETTO:-0400
TZNAME:EDT
DTSTART:20240310T070000
END:DAYLIGHT
BEGIN:STANDARD
TZOFFSETFROM:-0400
TZOFFSETTO:-0500
TZNAME:EST
DTSTART:20241103T060000
END:STANDARD
BEGIN:DAYLIGHT
TZOFFSETFROM:-0500
TZOFFSETTO:-0400
TZNAME:EDT
DTSTART:20250309T070000
END:DAYLIGHT
BEGIN:STANDARD
TZOFFSETFROM:-0400
TZOFFSETTO:-0500
TZNAME:EST
DTSTART:20251102T060000
END:STANDARD
END:VTIMEZONE
BEGIN:VEVENT
DTSTART;TZID=America/New_York:20240611T090000
DTEND;TZID=America/New_York:20240612T170000
DTSTAMP:20260420T170731
CREATED:20240508T154834Z
LAST-MODIFIED:20240517T134411Z
UID:10000385-1718096400-1718211600@midjerseyaor.com
SUMMARY:Take the ABR® Course for Free
DESCRIPTION:This two-day in-person Accredited Buyer’s Representative (ABR®) Designation course focuses on key information and skills you need today when working with buyers\, so you can be prepared to articulate and demonstrate your value and help buyers understand written buyer representation agreements. Light breakfast and lunch will be provided both days. View the flyer here. Attendance on both days is required. \nEarn 12 NJREC CE Ethics Credits by completing this course (code: C20161033). Current cycle for the Code of Ethics training: January 1\, 2022 -December 31\, 2024. \nThis course is part of the requirements to earn the ABR® Designation. Learn more here. \nTuesday June 11 & Wednesday June 12. Both days are 9:00 am – 5:00 pm each day. \nRegister Here
URL:https://midjerseyaor.com/events/abr-course/
LOCATION:MJAR South River Office\, 14 Old Bridge Turnpike\, South River\, 08882\, United States
CATEGORIES:Classes
END:VEVENT
END:VCALENDAR