BEGIN:VCALENDAR
VERSION:2.0
PRODID:-//Mid Jersey Association of REALTORS® - ECPv6.15.20//NONSGML v1.0//EN
CALSCALE:GREGORIAN
METHOD:PUBLISH
X-WR-CALNAME:Mid Jersey Association of REALTORS®
X-ORIGINAL-URL:https://midjerseyaor.com
X-WR-CALDESC:Events for Mid Jersey Association of REALTORS®
REFRESH-INTERVAL;VALUE=DURATION:PT1H
X-Robots-Tag:noindex
X-PUBLISHED-TTL:PT1H
BEGIN:VTIMEZONE
TZID:America/New_York
BEGIN:DAYLIGHT
TZOFFSETFROM:-0500
TZOFFSETTO:-0400
TZNAME:EDT
DTSTART:20230312T070000
END:DAYLIGHT
BEGIN:STANDARD
TZOFFSETFROM:-0400
TZOFFSETTO:-0500
TZNAME:EST
DTSTART:20231105T060000
END:STANDARD
BEGIN:DAYLIGHT
TZOFFSETFROM:-0500
TZOFFSETTO:-0400
TZNAME:EDT
DTSTART:20240310T070000
END:DAYLIGHT
BEGIN:STANDARD
TZOFFSETFROM:-0400
TZOFFSETTO:-0500
TZNAME:EST
DTSTART:20241103T060000
END:STANDARD
BEGIN:DAYLIGHT
TZOFFSETFROM:-0500
TZOFFSETTO:-0400
TZNAME:EDT
DTSTART:20250309T070000
END:DAYLIGHT
BEGIN:STANDARD
TZOFFSETFROM:-0400
TZOFFSETTO:-0500
TZNAME:EST
DTSTART:20251102T060000
END:STANDARD
END:VTIMEZONE
BEGIN:VEVENT
DTSTART;TZID=America/New_York:20240819T090000
DTEND;TZID=America/New_York:20240820T163000
DTSTAMP:20260420T120001
CREATED:20240709T145948Z
LAST-MODIFIED:20240808T193635Z
UID:10000394-1724058000-1724171400@midjerseyaor.com
SUMMARY:Accredited Buyer's Representative (ABR®) Designation Course
DESCRIPTION:This two-day in-person Accredited Buyer’s Representative (ABR®) Designation course focuses on key information and skills you need today when working with buyers\, so you can be prepared to articulate and demonstrate your value and help buyers understand written buyer representation agreements. Light breakfast and lunch will be provided both days. Attendance on both days is required. \nThis FREE ABR course valued at $295 is sponsored by the National Association of REALTORS®. \nEarn 12 NJREC CE Ethics Credits by completing this course (code: C20161033). Current cycle for the Code of Ethics training: January 1\, 2022 -December 31\, 2024. \nThis course is part of the requirements to earn the ABR® Designation. Learn more here. \nMonday August 19 & Tuesday August 20. Both days are 9:00 am – 4:30 pm each day. \nVirtual Attendance: Sold Out (In-person only) \nA digital copy of the ABR Student Manual will be available to all registrants. (The deadline to order a hard-copy student manual is noon on Fri. August 9.) \nMember Cost: FREE\nInstructor: Patty Badia \nWhen you register for this event using the button below\, you will need to log in to the MJAR Member Portal. Note: Your Portal username is your NRDS number\, and your default password is your last name – all lowercase. Once logged into the Member Portal\, go to “Upcoming Events” on the right side of the dashboard\, and click on “All” to locate the event and register. \nRegister Here
URL:https://midjerseyaor.com/events/abr2024/
LOCATION:NJ PSA/FEA Conference Center\, 12 Centre Drive\, Monroe Township\, NJ\, 08831\, United States
CATEGORIES:Classes
END:VEVENT
END:VCALENDAR