BEGIN:VCALENDAR
VERSION:2.0
PRODID:-//Mid Jersey Association of REALTORS® - ECPv6.15.20//NONSGML v1.0//EN
CALSCALE:GREGORIAN
METHOD:PUBLISH
X-WR-CALNAME:Mid Jersey Association of REALTORS®
X-ORIGINAL-URL:https://midjerseyaor.com
X-WR-CALDESC:Events for Mid Jersey Association of REALTORS®
REFRESH-INTERVAL;VALUE=DURATION:PT1H
X-Robots-Tag:noindex
X-PUBLISHED-TTL:PT1H
BEGIN:VTIMEZONE
TZID:America/New_York
BEGIN:DAYLIGHT
TZOFFSETFROM:-0500
TZOFFSETTO:-0400
TZNAME:EDT
DTSTART:20250309T070000
END:DAYLIGHT
BEGIN:STANDARD
TZOFFSETFROM:-0400
TZOFFSETTO:-0500
TZNAME:EST
DTSTART:20251102T060000
END:STANDARD
BEGIN:DAYLIGHT
TZOFFSETFROM:-0500
TZOFFSETTO:-0400
TZNAME:EDT
DTSTART:20260308T070000
END:DAYLIGHT
BEGIN:STANDARD
TZOFFSETFROM:-0400
TZOFFSETTO:-0500
TZNAME:EST
DTSTART:20261101T060000
END:STANDARD
BEGIN:DAYLIGHT
TZOFFSETFROM:-0500
TZOFFSETTO:-0400
TZNAME:EDT
DTSTART:20270314T070000
END:DAYLIGHT
BEGIN:STANDARD
TZOFFSETFROM:-0400
TZOFFSETTO:-0500
TZNAME:EST
DTSTART:20271107T060000
END:STANDARD
END:VTIMEZONE
BEGIN:VEVENT
DTSTART;TZID=America/New_York:20260127T130000
DTEND;TZID=America/New_York:20260127T160000
DTSTAMP:20260419T083728
CREATED:20260102T145912Z
LAST-MODIFIED:20260126T144557Z
UID:10000580-1769518800-1769529600@midjerseyaor.com
SUMMARY:REALTOR® Code of Ethics
DESCRIPTION:***Virtual***\nContinuing Education Credit:\n3 NJREC ETHICS CE CREDITS (C20200442) \nThis course covers the REALTOR Code of Ethics of the National Association of REALTORS in its entirety. Students will learn about the Preamble to the Code\, the 17 Articles of the Code and their respective Standards of Practice\, as well as the Pathways to Professionalism. \nAttendance:\nRegister below in advance to receive the Zoom link. \nMember Cost: FREE\nInstructor: Jonathan Kessler \nRegister to Attend In-Person \n 
URL:https://midjerseyaor.com/events/realtor-code-of-ethics1/
LOCATION:MJAR Branchburg Office\, 3461 US Highway 22 East\, Branchburg\, NJ\, 08876\, United States
CATEGORIES:Classes
END:VEVENT
END:VCALENDAR