BEGIN:VCALENDAR
VERSION:2.0
PRODID:-//Mid Jersey Association of REALTORS® - ECPv6.15.20//NONSGML v1.0//EN
CALSCALE:GREGORIAN
METHOD:PUBLISH
X-WR-CALNAME:Mid Jersey Association of REALTORS®
X-ORIGINAL-URL:https://midjerseyaor.com
X-WR-CALDESC:Events for Mid Jersey Association of REALTORS®
REFRESH-INTERVAL;VALUE=DURATION:PT1H
X-Robots-Tag:noindex
X-PUBLISHED-TTL:PT1H
BEGIN:VTIMEZONE
TZID:UTC
BEGIN:STANDARD
TZOFFSETFROM:+0000
TZOFFSETTO:+0000
TZNAME:UTC
DTSTART:20210101T000000
END:STANDARD
END:VTIMEZONE
BEGIN:VEVENT
DTSTART;TZID=UTC:20221005T093000
DTEND;TZID=UTC:20221005T103000
DTSTAMP:20260419T101201
CREATED:20220921T235236Z
LAST-MODIFIED:20221001T002110Z
UID:10000002-1664962200-1664965800@midjerseyaor.com
SUMMARY:FREE Bright MLS Webinar – Manage and Monitor Listing Activity
DESCRIPTION:Register Here
URL:https://midjerseyaor.com/events/free-bright-mls-webinar-manage-and-monitor-listing-activity/
CATEGORIES:Webinars
END:VEVENT
BEGIN:VEVENT
DTSTART;TZID=UTC:20221005T110000
DTEND;TZID=UTC:20221005T120000
DTSTAMP:20260419T101201
CREATED:20220921T235337Z
LAST-MODIFIED:20221001T002041Z
UID:10000003-1664967600-1664971200@midjerseyaor.com
SUMMARY:FREE Bright MLS Webinar – Using Market Reports to Educate Your Buyers
DESCRIPTION:Register Here
URL:https://midjerseyaor.com/events/free-bright-mls-webinar-using-market-reports-to-educate-your-buyers/
CATEGORIES:Webinars
END:VEVENT
END:VCALENDAR