BEGIN:VCALENDAR
VERSION:2.0
PRODID:-//Mid Jersey Association of REALTORS® - ECPv6.15.20//NONSGML v1.0//EN
CALSCALE:GREGORIAN
METHOD:PUBLISH
X-ORIGINAL-URL:https://midjerseyaor.com
X-WR-CALDESC:Events for Mid Jersey Association of REALTORS®
REFRESH-INTERVAL;VALUE=DURATION:PT1H
X-Robots-Tag:noindex
X-PUBLISHED-TTL:PT1H
BEGIN:VTIMEZONE
TZID:UTC
BEGIN:STANDARD
TZOFFSETFROM:+0000
TZOFFSETTO:+0000
TZNAME:UTC
DTSTART:20210101T000000
END:STANDARD
END:VTIMEZONE
BEGIN:VEVENT
DTSTART;TZID=UTC:20221025T113000
DTEND;TZID=UTC:20221025T123000
DTSTAMP:20260419T100804
CREATED:20221001T001335Z
LAST-MODIFIED:20221114T173330Z
UID:10000011-1666697400-1666701000@midjerseyaor.com
SUMMARY:FREE Supra Webinar - eKey Professional Agent Training
DESCRIPTION:Register Here
URL:https://midjerseyaor.com/events/free-supra-webinar-ekey-professional-agent-training/
CATEGORIES:Webinars
END:VEVENT
END:VCALENDAR