BEGIN:VCALENDAR
VERSION:2.0
PRODID:-//Mid Jersey Association of REALTORS® - ECPv6.15.20//NONSGML v1.0//EN
CALSCALE:GREGORIAN
METHOD:PUBLISH
X-ORIGINAL-URL:https://midjerseyaor.com
X-WR-CALDESC:Events for Mid Jersey Association of REALTORS®
REFRESH-INTERVAL;VALUE=DURATION:PT1H
X-Robots-Tag:noindex
X-PUBLISHED-TTL:PT1H
BEGIN:VTIMEZONE
TZID:UTC
BEGIN:STANDARD
TZOFFSETFROM:+0000
TZOFFSETTO:+0000
TZNAME:UTC
DTSTART:20210101T000000
END:STANDARD
END:VTIMEZONE
BEGIN:VEVENT
DTSTART;TZID=UTC:20221102T093000
DTEND;TZID=UTC:20221102T103000
DTSTAMP:20260419T084007
CREATED:20221001T001739Z
LAST-MODIFIED:20221001T001739Z
UID:10000013-1667381400-1667385000@midjerseyaor.com
SUMMARY:FREE Bright MLS Webinar - Tools to Get Started with Bright MLS
DESCRIPTION:Register Here
URL:https://midjerseyaor.com/events/free-bright-mls-webinar-tools-to-get-started-with-bright-mls/
CATEGORIES:Webinars
END:VEVENT
BEGIN:VEVENT
DTSTART;TZID=UTC:20221102T110000
DTEND;TZID=UTC:20221102T120000
DTSTAMP:20260419T084007
CREATED:20221001T002306Z
LAST-MODIFIED:20221001T002345Z
UID:10000015-1667386800-1667390400@midjerseyaor.com
SUMMARY:FREE Bright MLS Webinar – Bright MLS Search Essentials
DESCRIPTION:Register Here
URL:https://midjerseyaor.com/events/free-bright-mls-webinar-bright-mls-search-essentials/
CATEGORIES:Webinars
END:VEVENT
END:VCALENDAR