BEGIN:VCALENDAR
VERSION:2.0
PRODID:-//Mid Jersey Association of REALTORS® - ECPv6.15.20//NONSGML v1.0//EN
CALSCALE:GREGORIAN
METHOD:PUBLISH
X-WR-CALNAME:Mid Jersey Association of REALTORS®
X-ORIGINAL-URL:https://midjerseyaor.com
X-WR-CALDESC:Events for Mid Jersey Association of REALTORS®
REFRESH-INTERVAL;VALUE=DURATION:PT1H
X-Robots-Tag:noindex
X-PUBLISHED-TTL:PT1H
BEGIN:VTIMEZONE
TZID:America/New_York
BEGIN:DAYLIGHT
TZOFFSETFROM:-0500
TZOFFSETTO:-0400
TZNAME:EDT
DTSTART:20220313T070000
END:DAYLIGHT
BEGIN:STANDARD
TZOFFSETFROM:-0400
TZOFFSETTO:-0500
TZNAME:EST
DTSTART:20221106T060000
END:STANDARD
BEGIN:DAYLIGHT
TZOFFSETFROM:-0500
TZOFFSETTO:-0400
TZNAME:EDT
DTSTART:20230312T070000
END:DAYLIGHT
BEGIN:STANDARD
TZOFFSETFROM:-0400
TZOFFSETTO:-0500
TZNAME:EST
DTSTART:20231105T060000
END:STANDARD
BEGIN:DAYLIGHT
TZOFFSETFROM:-0500
TZOFFSETTO:-0400
TZNAME:EDT
DTSTART:20240310T070000
END:DAYLIGHT
BEGIN:STANDARD
TZOFFSETFROM:-0400
TZOFFSETTO:-0500
TZNAME:EST
DTSTART:20241103T060000
END:STANDARD
END:VTIMEZONE
BEGIN:VEVENT
DTSTART;TZID=America/New_York:20230307T090000
DTEND;TZID=America/New_York:20230308T170000
DTSTAMP:20260423T013140
CREATED:20230228T144543Z
LAST-MODIFIED:20230228T144543Z
UID:10000333-1678179600-1678294800@midjerseyaor.com
SUMMARY:Accredited Buyer's Representative (ABR®) Designation
DESCRIPTION:This two-day course serves as the core of the Accredited Buyer’s Representative (ABR) designation program\, which is the benchmark of excellence in buyer representation. This course aims to set the foundation of training\, skills\, and resources to help real estate professionals succeed in today’s marketplace as buyer’s representatives. This course is a fundamental resource for understanding the duties that REALTORS owe to clients\, customers\, the public\, and fellow REALTORS as outlined in NAR’s Code of Ethics. Upon receiving this designation\, this course will also satisfy your NAR ethics requirement and may be eligible for one industry unit towards your 2023 NJ REALTORS® Circle of Excellence. \nInstructor: Diane Disbrow\nCost: $280\nCredit: 12 Ethics Credits\nLocation: Metro Centre Association of REALTORS® | 14 Old Bridge Turnpike\, South River\, NJ \nRegister Here
URL:https://midjerseyaor.com/events/accredited-buyers-representative-abr-designation/
CATEGORIES:Classes
END:VEVENT
BEGIN:VEVENT
DTSTART;TZID=America/New_York:20230309T113000
DTEND;TZID=America/New_York:20230309T123000
DTSTAMP:20260423T013140
CREATED:20221228T155820Z
LAST-MODIFIED:20230302T210045Z
UID:10000248-1678361400-1678365000@midjerseyaor.com
SUMMARY:Free Supra Webinar - Agent Training: eKey Basic
DESCRIPTION:Come join Supra for an overview of eKEY Basic.  Please share with your members.   \nRegister Here
URL:https://midjerseyaor.com/events/free-supra-webinar-agent-training-ekey-basic-4/
CATEGORIES:Webinars
END:VEVENT
BEGIN:VEVENT
DTSTART;TZID=America/New_York:20230314T113000
DTEND;TZID=America/New_York:20230314T123000
DTSTAMP:20260423T013140
CREATED:20221228T155108Z
LAST-MODIFIED:20250225T174430Z
UID:10000069-1678793400-1678797000@midjerseyaor.com
SUMMARY:Free Supra Webinar - Agent Training: eKey Basic
DESCRIPTION:Come join Supra for an overview of eKEY Basic. Please share with your members. \nRegister Here
URL:https://midjerseyaor.com/events/free-supra-webinar-agent-training-ekey-basic/2023-03-14/
CATEGORIES:Webinars
END:VEVENT
BEGIN:VEVENT
DTSTART;TZID=America/New_York:20230315T113000
DTEND;TZID=America/New_York:20230315T123000
DTSTAMP:20260423T013140
CREATED:20221228T161746Z
LAST-MODIFIED:20221228T161746Z
UID:10000272-1678879800-1678883400@midjerseyaor.com
SUMMARY:Free Supra Webinar - Agent Training: SupraWEB
DESCRIPTION:Learn about the agent Supra website where you can manage their business. \nRegister Here
URL:https://midjerseyaor.com/events/free-supra-webinar-agent-training-supraweb/2023-03-15/
CATEGORIES:Webinars
END:VEVENT
BEGIN:VEVENT
DTSTART;TZID=America/New_York:20230316T093000
DTEND;TZID=America/New_York:20230316T123000
DTSTAMP:20260423T013141
CREATED:20221128T212214Z
LAST-MODIFIED:20221128T212214Z
UID:10000044-1678959000-1678969800@midjerseyaor.com
SUMMARY:Multiple Offers - Be Prepared Class (3 Core Credits)
DESCRIPTION:Changes in the market are placing licensees more often in multiple offer situations. A good understanding of the legal requirements and ethical issues will reduce risks and better protect the clients. \nMember Cost: $35.00\nNon-Member Cost: $45.00\nInstructor: Isabelle Perkins\nCredits: 3 Core Credits \nRegister Here
URL:https://midjerseyaor.com/events/multiple-offers-be-prepared-class-3-core-credits/
CATEGORIES:Classes
END:VEVENT
BEGIN:VEVENT
DTSTART;TZID=America/New_York:20230321T100000
DTEND;TZID=America/New_York:20230321T120000
DTSTAMP:20260423T013141
CREATED:20230209T201004Z
LAST-MODIFIED:20230209T201004Z
UID:10000332-1679392800-1679400000@midjerseyaor.com
SUMMARY:Lead Paint & Real Estate Class (2 Elective Credits)
DESCRIPTION:Lead Paint is becoming more relevant in real estate transactions in today’s market. This class discusses the history of lead\, in paint\, dust\, soil\, and drinking water. This class dives\ndeep into the laws and regulations\, discusses what types of sampling and inspections are needed\, and how to find a licensed lead inspector. \nMember Cost: $5.00\nNon-Member Cost: $10.00\nInstructor: David Sulock\nCredits: 2 Elective Credits \nRegister Here
URL:https://midjerseyaor.com/events/lead-paint-real-estate-class-2-elective-credits/
CATEGORIES:Classes
END:VEVENT
BEGIN:VEVENT
DTSTART;TZID=America/New_York:20230322T093000
DTEND;TZID=America/New_York:20230322T103000
DTSTAMP:20260423T013141
CREATED:20221229T144619Z
LAST-MODIFIED:20221229T144619Z
UID:10000309-1679477400-1679481000@midjerseyaor.com
SUMMARY:Free Bright MLS Webinar: Prospecting: Identifying Your Target Market in Bright Public Records
DESCRIPTION:Prospecting: Identifying Your Target Market in Bright Public Records \nAre you looking to find new buyers\, sellers\, or even investors? Come join us to learn how to use Public Records in Bright MLS to prospect for new business.\n  \nRegister Here
URL:https://midjerseyaor.com/events/free-bright-mls-webinar-prospecting-identifying-your-target-market-in-bright-public-records/
CATEGORIES:Webinars
END:VEVENT
BEGIN:VEVENT
DTSTART;TZID=America/New_York:20230322T100000
DTEND;TZID=America/New_York:20230322T110000
DTSTAMP:20260423T013141
CREATED:20221221T170444Z
LAST-MODIFIED:20221221T170444Z
UID:10000053-1679479200-1679482800@midjerseyaor.com
SUMMARY:New Member Orientation
DESCRIPTION:New Member Orientation is required by the National Association of REALTORS® for all members joining the Realtor Association. This program will educate new members on the benefits of their Realtor membership and includes valuable information for their success. \nRegister Here
URL:https://midjerseyaor.com/events/new-member-orientation-8/
CATEGORIES:Orientations
END:VEVENT
BEGIN:VEVENT
DTSTART;TZID=America/New_York:20230322T110000
DTEND;TZID=America/New_York:20230322T120000
DTSTAMP:20260423T013141
CREATED:20221229T144808Z
LAST-MODIFIED:20221229T144808Z
UID:10000310-1679482800-1679486400@midjerseyaor.com
SUMMARY:Free Bright MLS Webinar: Manage & Collaborate with Buyers Using Bright MLS
DESCRIPTION:Manage and Collaborate with Buyers Using Bright MLS  \nDescription: Do you want to work with your buyers more effectively and efficiently in Bright MLS? In this class we will show you how to: \n\nManage your contacts\nAutomate your notifications and email communication\nTrack your client home search activity\nSchedule and share showing itineraries\n\n  \nRegister Here
URL:https://midjerseyaor.com/events/free-bright-mls-webinar-manage-collaborate-with-buyers-using-bright-mls/
CATEGORIES:Webinars
END:VEVENT
BEGIN:VEVENT
DTSTART;TZID=America/New_York:20230322T113000
DTEND;TZID=America/New_York:20230322T123000
DTSTAMP:20260423T013141
CREATED:20221228T161032Z
LAST-MODIFIED:20221228T161032Z
UID:10000260-1679484600-1679488200@midjerseyaor.com
SUMMARY:Free Supra Webinar - Agent Training: eKey Professional
DESCRIPTION:Take your Supra eKEY to the next level. \nRegister Here
URL:https://midjerseyaor.com/events/free-supra-webinar-agent-training-ekey-professional-2/2023-03-22/
CATEGORIES:Webinars
END:VEVENT
BEGIN:VEVENT
DTSTART;TZID=America/New_York:20230330T093000
DTEND;TZID=America/New_York:20230330T123000
DTSTAMP:20260423T013141
CREATED:20221128T212423Z
LAST-MODIFIED:20230208T205315Z
UID:10000045-1680168600-1680179400@midjerseyaor.com
SUMMARY:Code of Ethics & The Fair Housing Act Class (2 Ethics Credits\, 1 Fair Housing Credit)
DESCRIPTION:This 3-hour course will satisfy the NAR Code of Ethics requirement and the NJ ethics and fair housing continuing education requirements. Upon successfully completing this course\, students will understand how to practice real estate in the most ethical way possible and the actions taken when ethics are in question. In addition to the ethics component\, the course will also review both the Federal and State Fair Housing guidelines to ensure equal housing opportunities for all. \nMember Cost: $35.00\nNon-Member Cost: $45.00\nInstructor: Eileen Cahill\nCredit: 2 Ethics Credits\, 1 Fair Housing Credit \nRegister Here
URL:https://midjerseyaor.com/events/code-of-ethics-the-fair-housing-act-class-2-ethics-credits-1-fair-housing-credit-2/
CATEGORIES:Classes
END:VEVENT
END:VCALENDAR