BEGIN:VCALENDAR
VERSION:2.0
PRODID:-//Mid Jersey Association of REALTORS® - ECPv6.15.20//NONSGML v1.0//EN
CALSCALE:GREGORIAN
METHOD:PUBLISH
X-WR-CALNAME:Mid Jersey Association of REALTORS®
X-ORIGINAL-URL:https://midjerseyaor.com
X-WR-CALDESC:Events for Mid Jersey Association of REALTORS®
REFRESH-INTERVAL;VALUE=DURATION:PT1H
X-Robots-Tag:noindex
X-PUBLISHED-TTL:PT1H
BEGIN:VTIMEZONE
TZID:America/New_York
BEGIN:DAYLIGHT
TZOFFSETFROM:-0500
TZOFFSETTO:-0400
TZNAME:EDT
DTSTART:20220313T070000
END:DAYLIGHT
BEGIN:STANDARD
TZOFFSETFROM:-0400
TZOFFSETTO:-0500
TZNAME:EST
DTSTART:20221106T060000
END:STANDARD
BEGIN:DAYLIGHT
TZOFFSETFROM:-0500
TZOFFSETTO:-0400
TZNAME:EDT
DTSTART:20230312T070000
END:DAYLIGHT
BEGIN:STANDARD
TZOFFSETFROM:-0400
TZOFFSETTO:-0500
TZNAME:EST
DTSTART:20231105T060000
END:STANDARD
BEGIN:DAYLIGHT
TZOFFSETFROM:-0500
TZOFFSETTO:-0400
TZNAME:EDT
DTSTART:20240310T070000
END:DAYLIGHT
BEGIN:STANDARD
TZOFFSETFROM:-0400
TZOFFSETTO:-0500
TZNAME:EST
DTSTART:20241103T060000
END:STANDARD
END:VTIMEZONE
BEGIN:VEVENT
DTSTART;VALUE=DATE:20230407
DTEND;VALUE=DATE:20230408
DTSTAMP:20260423T013142
CREATED:20221228T192636Z
LAST-MODIFIED:20221228T192636Z
UID:10000296-1680825600-1680911999@midjerseyaor.com
SUMMARY:CORE Offices Closed - Good Friday
DESCRIPTION:
URL:https://midjerseyaor.com/events/core-offices-closed-good-friday/
CATEGORIES:MJAR Office Closures
END:VEVENT
BEGIN:VEVENT
DTSTART;TZID=America/New_York:20230411T093000
DTEND;TZID=America/New_York:20230411T123000
DTSTAMP:20260423T013142
CREATED:20221205T192124Z
LAST-MODIFIED:20221205T192124Z
UID:10000046-1681205400-1681216200@midjerseyaor.com
SUMMARY:Agency Relationships and Disclosures - Understanding NJ Regulations Class (3 Core Credits)
DESCRIPTION:Real estate licensees need to understand their representation status in all relationships to abide by the regulations\, provide proper disclosures and manage their risks. \nMember Cost: $35.00\nNon-Member Cost: $45.00\nInstructor: Isabelle Perkins\nCredit: 3 Core Credits \nRegister Here
URL:https://midjerseyaor.com/events/agency-relationships-and-disclosures-understanding-nj-regulations-class-3-core-credits/
CATEGORIES:Classes
END:VEVENT
BEGIN:VEVENT
DTSTART;TZID=America/New_York:20230411T113000
DTEND;TZID=America/New_York:20230411T123000
DTSTAMP:20260423T013142
CREATED:20221228T155108Z
LAST-MODIFIED:20250225T174430Z
UID:10000070-1681212600-1681216200@midjerseyaor.com
SUMMARY:Free Supra Webinar - Agent Training: eKey Basic
DESCRIPTION:Come join Supra for an overview of eKEY Basic. Please share with your members. \nRegister Here
URL:https://midjerseyaor.com/events/free-supra-webinar-agent-training-ekey-basic/2023-04-11/
CATEGORIES:Webinars
END:VEVENT
BEGIN:VEVENT
DTSTART;TZID=America/New_York:20230413T113000
DTEND;TZID=America/New_York:20230413T123000
DTSTAMP:20260423T013142
CREATED:20221228T155834Z
LAST-MODIFIED:20221228T155834Z
UID:10000249-1681385400-1681389000@midjerseyaor.com
SUMMARY:Free Supra Webinar - Agent Training: eKey Basic
DESCRIPTION:Come join Supra for an overview of eKEY Basic.  Please share with your members.   \nRegister Here
URL:https://midjerseyaor.com/events/free-supra-webinar-agent-training-ekey-basic-5/
CATEGORIES:Webinars
END:VEVENT
BEGIN:VEVENT
DTSTART;TZID=America/New_York:20230414T093000
DTEND;TZID=America/New_York:20230414T123000
DTSTAMP:20260423T013142
CREATED:20221205T192406Z
LAST-MODIFIED:20221205T192406Z
UID:10000047-1681464600-1681475400@midjerseyaor.com
SUMMARY:The Mortgage Loan Process for Real Estate Professionals Class (3 Elective Credits)
DESCRIPTION:The mortgage loan process can be very tedious. It is very important that a real estate agent is fully aware of the step-by-step process and has the knowledge to guide the home buyer throughout the mortgage loan process and align them with the expectations of buying a new home. \nMember Cost: $5.00\nNon-Member Cost: $10.00\nInstructor: Joseph Scorese\nCredit: 3 Elective Credits \nRegister Here
URL:https://midjerseyaor.com/events/the-mortgage-loan-process-for-real-estate-professionals-class-3-elective-credits/
CATEGORIES:Classes
END:VEVENT
BEGIN:VEVENT
DTSTART;TZID=America/New_York:20230419T100000
DTEND;TZID=America/New_York:20230419T110000
DTSTAMP:20260423T013142
CREATED:20230320T182053Z
LAST-MODIFIED:20230320T182053Z
UID:10000334-1681898400-1681902000@midjerseyaor.com
SUMMARY:New Member Orientation
DESCRIPTION:New Member Orientation is required by the National Association of REALTORS® for all members joining the Realtor Association. This program will educate new members on the benefits of their Realtor membership and includes valuable information for their success. \nRegister Here
URL:https://midjerseyaor.com/events/new-member-orientation-9/
CATEGORIES:Orientations
END:VEVENT
BEGIN:VEVENT
DTSTART;TZID=America/New_York:20230419T113000
DTEND;TZID=America/New_York:20230419T123000
DTSTAMP:20260423T013142
CREATED:20221228T161746Z
LAST-MODIFIED:20221228T161746Z
UID:10000273-1681903800-1681907400@midjerseyaor.com
SUMMARY:Free Supra Webinar - Agent Training: SupraWEB
DESCRIPTION:Learn about the agent Supra website where you can manage their business. \nRegister Here
URL:https://midjerseyaor.com/events/free-supra-webinar-agent-training-supraweb/2023-04-19/
CATEGORIES:Webinars
END:VEVENT
BEGIN:VEVENT
DTSTART;TZID=America/New_York:20230420T093000
DTEND;TZID=America/New_York:20230420T123000
DTSTAMP:20260423T013142
CREATED:20221205T192742Z
LAST-MODIFIED:20221205T192742Z
UID:10000049-1681983000-1681993800@midjerseyaor.com
SUMMARY:Advertising Regulations Class (3 Core Credits)
DESCRIPTION:This presentation is a compilation of the most important regulations pertaining to advertising such as the NJ Real Estate Commission rules and regulations\, the NAR Code of Ethics\, NAR’s trademark regulations\, local MLS regulations\, and the Truth in Lending Law. \nMember Cost: $35.00\nNon-Member Cost: $45.00\nInstructor: Isabelle Perkins\nCredits: 3 Core Credits \nRegister Here
URL:https://midjerseyaor.com/events/advertising-regulations-class-3-core-credits-2/
CATEGORIES:Classes
END:VEVENT
BEGIN:VEVENT
DTSTART;TZID=America/New_York:20230425T090000
DTEND;TZID=America/New_York:20230425T120000
DTSTAMP:20260423T013142
CREATED:20230320T183032Z
LAST-MODIFIED:20230320T183105Z
UID:10000338-1682413200-1682424000@midjerseyaor.com
SUMMARY:CORE's "NJ REALTORS® Circle of Excellence Awards" Celebration Breakfast
DESCRIPTION:CORE’s largest-attended annual event celebrates members who are recipients of the NJ REALTORS® Circle of Excellence Sales Award®. In 2022\, 498 CORE members received the Circle of Excellence award! Registration closes Monday\, April 17. \nRegistration Info \nSponsorship Info
URL:https://midjerseyaor.com/events/16402/
LOCATION:The Palace at Somerset Park\, 333 Davidson Avenue\, Somerset\, NJ\, 08873\, United States
CATEGORIES:Events
ATTACH;FMTTYPE=image/png:https://midjerseyaor.com/wp-content/uploads/2023/02/CoExc-Celebration-Breakfast-3.png
END:VEVENT
BEGIN:VEVENT
DTSTART;TZID=America/New_York:20230426T113000
DTEND;TZID=America/New_York:20230426T123000
DTSTAMP:20260423T013142
CREATED:20221228T161032Z
LAST-MODIFIED:20221228T161032Z
UID:10000261-1682508600-1682512200@midjerseyaor.com
SUMMARY:Free Supra Webinar - Agent Training: eKey Professional
DESCRIPTION:Take your Supra eKEY to the next level. \nRegister Here
URL:https://midjerseyaor.com/events/free-supra-webinar-agent-training-ekey-professional-2/2023-04-26/
CATEGORIES:Webinars
END:VEVENT
BEGIN:VEVENT
DTSTART;TZID=America/New_York:20230427T093000
DTEND;TZID=America/New_York:20230427T103000
DTSTAMP:20260423T013142
CREATED:20221205T192639Z
LAST-MODIFIED:20221205T192639Z
UID:10000048-1682587800-1682591400@midjerseyaor.com
SUMMARY:The Fair Housing Act Class (1 Fair Housing Credit)
DESCRIPTION:This class is the 1-hour Fair Housing component of the 3-hour Code of Ethics & Fair Housing Act class. Upon completion\, attendees will receive 1 Fair Housing CE credit towards their license renewal. \nMember Cost: $10.00\nNon-Member Cost: $20.00\nInstructor: Eileen Cahill\nCredit: 1 Fair Housing Credit \nRegister Here
URL:https://midjerseyaor.com/events/the-fair-housing-act-class-1-fair-housing-credit/
CATEGORIES:Classes
END:VEVENT
END:VCALENDAR