BEGIN:VCALENDAR
VERSION:2.0
PRODID:-//Mid Jersey Association of REALTORS® - ECPv6.15.20//NONSGML v1.0//EN
CALSCALE:GREGORIAN
METHOD:PUBLISH
X-ORIGINAL-URL:https://midjerseyaor.com
X-WR-CALDESC:Events for Mid Jersey Association of REALTORS®
REFRESH-INTERVAL;VALUE=DURATION:PT1H
X-Robots-Tag:noindex
X-PUBLISHED-TTL:PT1H
BEGIN:VTIMEZONE
TZID:America/New_York
BEGIN:DAYLIGHT
TZOFFSETFROM:-0500
TZOFFSETTO:-0400
TZNAME:EDT
DTSTART:20230312T070000
END:DAYLIGHT
BEGIN:STANDARD
TZOFFSETFROM:-0400
TZOFFSETTO:-0500
TZNAME:EST
DTSTART:20231105T060000
END:STANDARD
BEGIN:DAYLIGHT
TZOFFSETFROM:-0500
TZOFFSETTO:-0400
TZNAME:EDT
DTSTART:20240310T070000
END:DAYLIGHT
BEGIN:STANDARD
TZOFFSETFROM:-0400
TZOFFSETTO:-0500
TZNAME:EST
DTSTART:20241103T060000
END:STANDARD
BEGIN:DAYLIGHT
TZOFFSETFROM:-0500
TZOFFSETTO:-0400
TZNAME:EDT
DTSTART:20250309T070000
END:DAYLIGHT
BEGIN:STANDARD
TZOFFSETFROM:-0400
TZOFFSETTO:-0500
TZNAME:EST
DTSTART:20251102T060000
END:STANDARD
END:VTIMEZONE
BEGIN:VEVENT
DTSTART;TZID=America/New_York:20240709T113000
DTEND;TZID=America/New_York:20240709T123000
DTSTAMP:20260420T054030
CREATED:20221228T155108Z
LAST-MODIFIED:20250225T174430Z
UID:10000085-1720524600-1720528200@midjerseyaor.com
SUMMARY:Free Supra Webinar - Agent Training: eKey Basic
DESCRIPTION:Come join Supra for an overview of eKEY Basic. Please share with your members. \nRegister Here
URL:https://midjerseyaor.com/events/free-supra-webinar-agent-training-ekey-basic/2024-07-09/
LOCATION:NJ
CATEGORIES:Webinars
END:VEVENT
BEGIN:VEVENT
DTSTART;TZID=America/New_York:20240711T130000
DTEND;TZID=America/New_York:20240711T160000
DTSTAMP:20260420T054030
CREATED:20240320T155635Z
LAST-MODIFIED:20240606T202422Z
UID:10000373-1720702800-1720713600@midjerseyaor.com
SUMMARY:Review and Updates of the REALTOR® Code of Ethics Class (3 Ethics Credits)
DESCRIPTION:This seminar will review each article of the Code of Ethics\, how it compares to the licensing regulations and how it impacts your activities as a REALTOR. Detailed review of the 17 articles of the Code of Ethics\, including: how do the articles of the Code compare to the licensing obligations\, what do I do when someone does not comply and best practices to avoid arbitration\, with a particular focus on the most recent changes of the last few years. Class includes discussion and extensive use of examples/situations. Meets NAR triennial requirements. \nMember Cost: FREE\nInstructor: Isabelle Perkins \nRegister Here
URL:https://midjerseyaor.com/events/coe711/
LOCATION:MJAR South River Office\, 14 Old Bridge Turnpike\, South River\, 08882\, United States
CATEGORIES:Classes
END:VEVENT
BEGIN:VEVENT
DTSTART;TZID=America/New_York:20240725T093000
DTEND;TZID=America/New_York:20240725T110000
DTSTAMP:20260420T054030
CREATED:20240702T203357Z
LAST-MODIFIED:20240703T153906Z
UID:10000393-1721899800-1721905200@midjerseyaor.com
SUMMARY:Commercial Real Estate Meet Up
DESCRIPTION:Join Jonathan Benowitz of Davis Commercial Real Estate for a cup of coffee\, networking\, and the ability to promote your properties to other commercial agents! All attendees will receive a free Commercial Real Estate REALTOR® pin and the CREATE publication. \nWhen you register for this event using the button below\, you will need to log in to the MJAR Member Portal. Note: Your Portal username is your NRDS number\, and your default password is your last name – all lowercase. Once logged into the Member Portal\, go to “Upcoming Events” on the right side of the dashboard\, and click on “All” to locate the event and register. \nRegister Here
URL:https://midjerseyaor.com/events/commercial/
LOCATION:MJAR South River Office\, 14 Old Bridge Turnpike\, South River\, 08882\, United States
CATEGORIES:Events
END:VEVENT
BEGIN:VEVENT
DTSTART;TZID=America/New_York:20240729T100000
DTEND;TZID=America/New_York:20240729T103000
DTSTAMP:20260420T054030
CREATED:20240719T141218Z
LAST-MODIFIED:20240719T142009Z
UID:10000398-1722247200-1722249000@midjerseyaor.com
SUMMARY:Bright MLS Changes and NAR Settlement Updates
DESCRIPTION:Join us for a live webinar to hear the latest and upcoming Bright MLS updates aimed at ensuring NAR settlement compliance and enhancing transparency for homebuyers and sellers. \nRecent Updates as of June 12th:\n• New Seller Concession Fields: Available at listing entry and close for improved agent-client communication.\n• Client Disclosure Form: Newly available to ensure clarity and compliance. \nUpcoming in August:\n• Removal of Compensation Fields: Eliminated from Bright and all reports to comply with the NAR settlement.\n• Unlimited Coming Soon Status: The 21-day limit will be removed\, requiring only the Expected On-Market Date.\n• Listings Entry Clarification: The MLS Entry Date must be within 2 days of the listing term beginning\, which is the first date any potential buyer may learn about the property.\n• New Disclosure Form Requirement: Mandatory for all clients\, providing essential disclosures and clarifying MLS marketing opportunities. \nOpen to all members.\nInstructor: Robert Blackman \nRegister Here
URL:https://midjerseyaor.com/events/bright-mls-changes-and-nar-settlement-updates/
LOCATION:NJ
CATEGORIES:Events
END:VEVENT
END:VCALENDAR