BEGIN:VCALENDAR
VERSION:2.0
PRODID:-//Mid Jersey Association of REALTORS® - ECPv6.15.20//NONSGML v1.0//EN
CALSCALE:GREGORIAN
METHOD:PUBLISH
X-ORIGINAL-URL:https://midjerseyaor.com
X-WR-CALDESC:Events for Mid Jersey Association of REALTORS®
REFRESH-INTERVAL;VALUE=DURATION:PT1H
X-Robots-Tag:noindex
X-PUBLISHED-TTL:PT1H
BEGIN:VTIMEZONE
TZID:America/New_York
BEGIN:DAYLIGHT
TZOFFSETFROM:-0500
TZOFFSETTO:-0400
TZNAME:EDT
DTSTART:20230312T070000
END:DAYLIGHT
BEGIN:STANDARD
TZOFFSETFROM:-0400
TZOFFSETTO:-0500
TZNAME:EST
DTSTART:20231105T060000
END:STANDARD
BEGIN:DAYLIGHT
TZOFFSETFROM:-0500
TZOFFSETTO:-0400
TZNAME:EDT
DTSTART:20240310T070000
END:DAYLIGHT
BEGIN:STANDARD
TZOFFSETFROM:-0400
TZOFFSETTO:-0500
TZNAME:EST
DTSTART:20241103T060000
END:STANDARD
BEGIN:DAYLIGHT
TZOFFSETFROM:-0500
TZOFFSETTO:-0400
TZNAME:EDT
DTSTART:20250309T070000
END:DAYLIGHT
BEGIN:STANDARD
TZOFFSETFROM:-0400
TZOFFSETTO:-0500
TZNAME:EST
DTSTART:20251102T060000
END:STANDARD
END:VTIMEZONE
BEGIN:VEVENT
DTSTART;TZID=America/New_York:20241204T100000
DTEND;TZID=America/New_York:20241204T140000
DTSTAMP:20260419T211959
CREATED:20241029T170538Z
LAST-MODIFIED:20251017T154953Z
UID:10000425-1733306400-1733320800@midjerseyaor.com
SUMMARY:MJAR Installation & Holiday Party
DESCRIPTION:Wednesday\, December 4\, 2024 \n10:00 AM – 2:00 PM \nThe Ryland Inn \n115 Old Highway 28 \nWhitehouse Station\, NJ 08889 \n$20 MEMBERS / $40 Non-Members \nJoin us for a toast to the year at the MJAR Installation & Holiday Party as we celebrate the installation of the 2025 Officers and Directors and recognize the achievements and dedication of the outgoing MJAR leadership. This festive event will feature gourmet cuisine\, live music and door prizes all in a beautiful setting! \nFor questions or special accommodations\, please contact Maya Castellon at Events@MidJerseyAOR.com. \nWhen you register for this event using the button below\, you will need to log in to the MJAR Member Portal. Note: Your Portal username is your NRDS number\, and your default password is your last name – all lowercase. Once logged into the Member Portal\, go to “Upcoming Events” on the right side of the dashboard\, and click on “All” to locate the event and register. \nRegister Here
URL:https://midjerseyaor.com/events/2025installation832476/
LOCATION:The Ryland Inn\, 115 Old Hwy 28\, Whitehouse Station\, NJ\, 08889\, United States
CATEGORIES:Events
ATTACH;FMTTYPE=application/pdf:https://midjerseyaor.com/wp-content/uploads/2024/10/Installation-and-Holiday-party-banner-16-x-9-in-1.pdf
END:VEVENT
BEGIN:VEVENT
DTSTART;TZID=America/New_York:20241205T173000
DTEND;TZID=America/New_York:20241205T203000
DTSTAMP:20260419T211959
CREATED:20241021T163306Z
LAST-MODIFIED:20241113T144651Z
UID:10000423-1733419800-1733430600@midjerseyaor.com
SUMMARY:Code of Ethics & The Fair Housing Act
DESCRIPTION:Continuing Education Credit:\nNew Jersey Real Estate: 2 Ethics Credits (C20202156)\nNew Jersey Real Estate: 1 Fair Housing Credit (C20202848) \nThis 3-hour course fulfills both the NAR Triennial Requirement and the NJREC Continuing Education requirement. Upon successful completion\, students will gain an understanding of ethical real estate practices and the appropriate actions to take when ethical issues arise. The course also covers Federal and State Fair Housing guidelines\, celebrating over 50 years of Fair Housing and promoting equal housing opportunities for all. To receive CE credit for online courses\, attendees must participate fully and interact throughout the entire webinar. \nVirtual Attendance:\nThe Zoom link will be emailed prior to the class. Login 10 minutes in advance of the start of class. \nCAMERA: If possible\, please turn-on your camera (except during breaks.)\nAUDIO: Please keep your microphone muted throughout the duration of the class. If you have questions for the instructor\, please use the Chat function to submit your questions or comments. \nATTENDANCE POLICY\nStudents must return from all breaks promptly. Absence for 15 minutes or more from the course will disqualify you from earning continuing education credit. No credit for attendance will be given for partially attended classes. \nMember Cost: FREE\nInstructor: Eileen Cahill \nRegister Here
URL:https://midjerseyaor.com/events/code-of-ethics-the-fair-housing-act-2/
LOCATION:NJ
CATEGORIES:Classes
ATTACH;FMTTYPE=application/pdf:https://midjerseyaor.com/wp-content/uploads/2024/10/COE-Fair-Housing-Act-Banner-600-x-200-px-.pdf
END:VEVENT
BEGIN:VEVENT
DTSTART;TZID=America/New_York:20241210T113000
DTEND;TZID=America/New_York:20241210T123000
DTSTAMP:20260419T211959
CREATED:20221228T155108Z
LAST-MODIFIED:20250225T174430Z
UID:10000090-1733830200-1733833800@midjerseyaor.com
SUMMARY:Free Supra Webinar - Agent Training: eKey Basic
DESCRIPTION:Come join Supra for an overview of eKEY Basic. Please share with your members. \nRegister Here
URL:https://midjerseyaor.com/events/free-supra-webinar-agent-training-ekey-basic/2024-12-10/
LOCATION:NJ
CATEGORIES:Webinars
END:VEVENT
BEGIN:VEVENT
DTSTART;TZID=America/New_York:20241211T113000
DTEND;TZID=America/New_York:20241211T113000
DTSTAMP:20260419T211959
CREATED:20241024T173041Z
LAST-MODIFIED:20241125T202032Z
UID:10000424-1733916600-1733916600@midjerseyaor.com
SUMMARY:Triple Play Hospitality Room For Members Only
DESCRIPTION:Triple Play 2024: Mid Jersey AOR & Nexus AOR Hospitality Room \nAtlantic City Convention Center\, Room #201 \n11:30 AM – 2:30 PM \nJoin Mid Jersey AOR & Nexus AOR at our Triple Play Hospitality Room on Wednesday\, December 11\, 2024. \nRegister for a hot lunch – served in the Hospitality Room\, where you can relax and network with other members. \nIn collaboration with Nexus Association of REALTORS. \nOPEN TO MEMBERS ONLY   |   Cost: $5.00 \nDeadline to Register: December 4\, 2024 \nFor questions or special accommodations\, please contact Maya Castellon at Events@MidJerseyAOR.com. \nWhen you register for this event using the button below\, you will need to log in to the MJAR Member Portal. Note: Your Portal username is your NRDS number\, and your default password is your last name – all lowercase. Once logged into the Member Portal\, go to “Upcoming Events” on the right side of the dashboard\, and click on “All” to locate the event and register. \nRegister Here
URL:https://midjerseyaor.com/events/mjar-nexus-triple-play/
LOCATION:Atlantic City Convention Center\, 1 Convention Boulevard\, Atlantic City\, NJ\, 08401\, United States
CATEGORIES:Events
ATTACH;FMTTYPE=application/pdf:https://midjerseyaor.com/wp-content/uploads/2024/10/Nwsltr-Annual-Mtg-Banner-600x200-1.pdf
END:VEVENT
BEGIN:VEVENT
DTSTART;TZID=America/New_York:20241218T100000
DTEND;TZID=America/New_York:20241218T110000
DTSTAMP:20260419T211959
CREATED:20240822T150149Z
LAST-MODIFIED:20240822T150149Z
UID:10000415-1734516000-1734519600@midjerseyaor.com
SUMMARY:FREE Bright MLS Webinar: Bright MLS Basics - What you Need to Know to Get Started!
DESCRIPTION:Let us help you get started in our system with a tour of your workspace and a review of all the products and tools that are included with your subscription. We will also cover preferences\, notifications\, and branding in the MLS to help ensure you are set up for success! \nRegister Here
URL:https://midjerseyaor.com/events/free-bright-mls-webinar-bright-mls-basics-what-you-need-to-know-to-get-started-3/
LOCATION:NJ
CATEGORIES:Webinars
END:VEVENT
BEGIN:VEVENT
DTSTART;TZID=America/New_York:20241218T113000
DTEND;TZID=America/New_York:20241218T123000
DTSTAMP:20260419T211959
CREATED:20240822T150232Z
LAST-MODIFIED:20240822T150232Z
UID:10000416-1734521400-1734525000@midjerseyaor.com
SUMMARY:FREE Bright MLS Webinar: Brand Yourself through Bright MLS!
DESCRIPTION:Building or enhancing your brand is a must for any real estate agent. Let us walk you through the system and show you all the ways you can brand yourself to your contacts and potential clients. We will review updating your headshot\, headers and footers\, signature\, CMA material\, Bright’s consumer site and more! \nRegister Here
URL:https://midjerseyaor.com/events/free-bright-mls-webinar-brand-yourself-through-bright-mls-2/
LOCATION:NJ
CATEGORIES:Webinars
END:VEVENT
BEGIN:VEVENT
DTSTART;TZID=America/New_York:20241218T160000
DTEND;TZID=America/New_York:20241218T180000
DTSTAMP:20260419T211959
CREATED:20241114T200539Z
LAST-MODIFIED:20241118T213141Z
UID:10000426-1734537600-1734544800@midjerseyaor.com
SUMMARY:Happy Hour Holiday Mixer\, Toy Drive & Game Night
DESCRIPTION:Happy Hour Holiday Mixer\, Toy Drive & Game Night \n4:00 PM – 6:00 PM \nJoin Mid Jersey AOR’s Young Professionals Network and Community Service Committee’s on Wednesday\, December 18\, 2024 for a fun happy hour of networking\, interactive games\, and a chance to donate a gently-used toy to Second Chance Toys. Light appetizers and drinks served. The quantity of drinks alloted is dependent on your toy contribution. 100% of proceeds collected benefit Second Chance Toys. \nBring your friends! Walk-ins welcomed! \n$5.00 plus 1 toy donation or more (2 drink tickets) \n$5.00 without a toy donation (1 drink ticket) \nFor questions or special accommodations\, please contact Maya Castellon at Events@MidJerseyAOR.com. \nWhen you register for this event using the button below\, you will need to log in to the MJAR Member Portal. Note: Your Portal username is your NRDS number\, and your default password is your last name – all lowercase. Once logged into the Member Portal\, go to “Upcoming Events” on the right side of the dashboard\, and click on “All” to locate the event and register. \nRegister Here
URL:https://midjerseyaor.com/events/happyhourmixer-toydrive/
LOCATION:Bahama Breeze – Woodbridge Center\, 520 Woodbridge Center Drive\, Woodbridge\, NJ\, 07095\, United States
CATEGORIES:Events
ATTACH;FMTTYPE=application/pdf:https://midjerseyaor.com/wp-content/uploads/2024/11/Holiday-Mixer-Toy-Drive-600-x-200-px-1.pdf
END:VEVENT
END:VCALENDAR