BEGIN:VCALENDAR
VERSION:2.0
PRODID:-//Mid Jersey Association of REALTORS® - ECPv6.15.20//NONSGML v1.0//EN
CALSCALE:GREGORIAN
METHOD:PUBLISH
X-ORIGINAL-URL:https://midjerseyaor.com
X-WR-CALDESC:Events for Mid Jersey Association of REALTORS®
REFRESH-INTERVAL;VALUE=DURATION:PT1H
X-Robots-Tag:noindex
X-PUBLISHED-TTL:PT1H
BEGIN:VTIMEZONE
TZID:America/New_York
BEGIN:DAYLIGHT
TZOFFSETFROM:-0500
TZOFFSETTO:-0400
TZNAME:EDT
DTSTART:20240310T070000
END:DAYLIGHT
BEGIN:STANDARD
TZOFFSETFROM:-0400
TZOFFSETTO:-0500
TZNAME:EST
DTSTART:20241103T060000
END:STANDARD
BEGIN:DAYLIGHT
TZOFFSETFROM:-0500
TZOFFSETTO:-0400
TZNAME:EDT
DTSTART:20250309T070000
END:DAYLIGHT
BEGIN:STANDARD
TZOFFSETFROM:-0400
TZOFFSETTO:-0500
TZNAME:EST
DTSTART:20251102T060000
END:STANDARD
BEGIN:DAYLIGHT
TZOFFSETFROM:-0500
TZOFFSETTO:-0400
TZNAME:EDT
DTSTART:20260308T070000
END:DAYLIGHT
BEGIN:STANDARD
TZOFFSETFROM:-0400
TZOFFSETTO:-0500
TZNAME:EST
DTSTART:20261101T060000
END:STANDARD
END:VTIMEZONE
BEGIN:VEVENT
DTSTART;TZID=America/New_York:20250113T100000
DTEND;TZID=America/New_York:20250113T110000
DTSTAMP:20260419T192333
CREATED:20241219T174120Z
LAST-MODIFIED:20241219T174120Z
UID:10000428-1736762400-1736766000@midjerseyaor.com
SUMMARY:FREE Bright MLS Webinar: Prospecting in Bright’s Public Records
DESCRIPTION:Prospecting in Bright’s Public Records \nLearn how to effectively use Bright Public Records to identify properties for prospecting and export that data. We will review how to identify target markets so you can reach potential sellers\, buyers and investors to help build your business. \nRegister Here
URL:https://midjerseyaor.com/events/free-bright-mls-webinar/
LOCATION:NJ
CATEGORIES:Webinars
END:VEVENT
BEGIN:VEVENT
DTSTART;TZID=America/New_York:20250114T100000
DTEND;TZID=America/New_York:20250114T110000
DTSTAMP:20260419T192333
CREATED:20241219T154741Z
LAST-MODIFIED:20250107T182030Z
UID:10000427-1736848800-1736852400@midjerseyaor.com
SUMMARY:New Member Orientation
DESCRIPTION:Discover how Mid Jersey AOR (MJAR) connects you to expert advice and personalized professional support. As a new member\, we strongly suggest you attend\, as this program is designed to educate you on the many benefits of your REALTOR® membership and provide valuable information to help you succeed. \nOrientation sessions are held virtually via Zoom\, and we will send you detailed instructions to join. For any questions\, reach out to us at events@midjerseyaor.com. \nWhen you register for this event using the button below\, you will need to log in to the MJAR Member Portal. Note: Your Portal username is your NRDS number\, and your default password is your last name – all lowercase. Once logged into the Member Portal\, go to “Upcoming Events” on the right side of the dashboard\, and click on the event and register. \nRegister Here
URL:https://midjerseyaor.com/events/new-member-orientations-2025/
LOCATION:MJAR South River Office\, 14 Old Bridge Turnpike\, South River\, 08882\, United States
CATEGORIES:Orientations
ATTACH;FMTTYPE=image/png:https://midjerseyaor.com/wp-content/uploads/2024/12/New-Member-Orientation-600x200-1.png
END:VEVENT
BEGIN:VEVENT
DTSTART;TZID=America/New_York:20250114T113000
DTEND;TZID=America/New_York:20250114T123000
DTSTAMP:20260419T192333
CREATED:20221228T155108Z
LAST-MODIFIED:20250225T174430Z
UID:10000091-1736854200-1736857800@midjerseyaor.com
SUMMARY:Free Supra Webinar - Agent Training: eKey Basic
DESCRIPTION:Come join Supra for an overview of eKEY Basic. Please share with your members. \nRegister Here
URL:https://midjerseyaor.com/events/free-supra-webinar-agent-training-ekey-basic/2025-01-14/
LOCATION:NJ
CATEGORIES:Webinars
END:VEVENT
BEGIN:VEVENT
DTSTART;TZID=America/New_York:20250122T100000
DTEND;TZID=America/New_York:20250122T113000
DTSTAMP:20260419T192333
CREATED:20250102T162329Z
LAST-MODIFIED:20250102T162329Z
UID:10000430-1737540000-1737545400@midjerseyaor.com
SUMMARY:2024-2025 Tax & Accounting Update!
DESCRIPTION:Join Chris Whalen\, CPA\, a seasoned tax specialist\, for an in-depth exploration of the latest tax and accounting changes affecting the real estate industry. With over 30 years of experience advising thousands of clients\, Chris is a trusted authority in real estate tax\, accounting\, and financial strategy. This seminar offers practical insights and expert guidance to help you confidently navigate today’s evolving tax landscape. \nThis session will be HYBRID: offered both in-person at our Headquarters\, 14 Old Bridge Turnpike\, South River\, NJ 08882 AND via ZOOM (a link will be provided to those who register). \n$15 MJAR members / $25 non-members \nFor any questions\, or special accommodation contact events@midjerseyaor.com. \nWhen you register for this event using the button below\, you will need to log in to the MJAR Member Portal. Note: Your Portal username is your NRDS number\, and your default password is your last name – all lowercase. Once logged into the Member Portal\, go to “Upcoming Events” on the right side of the dashboard\, and click on the event and register. \nRegister Here
URL:https://midjerseyaor.com/events/tax-update-chris-whalen-cpa/
LOCATION:MJAR South River Office\, 14 Old Bridge Turnpike\, South River\, 08882\, United States
CATEGORIES:Events
END:VEVENT
BEGIN:VEVENT
DTSTART;TZID=America/New_York:20250124T073000
DTEND;TZID=America/New_York:20250124T110000
DTSTAMP:20260419T192333
CREATED:20241223T180915Z
LAST-MODIFIED:20250820T170739Z
UID:10000429-1737703800-1737716400@midjerseyaor.com
SUMMARY:Princeton Mercer Regional Chamber's Real Estate Forecast
DESCRIPTION:MJAR has partnered with Princeton Mercer Regional Chamber. Join the largest diverse gathering of real estate pros in Central NJ to hear projections for the year ahead and to network with your peers. Your ticket includes breakfast\, networking\, and a morning of insight\, including predictions for the Central NJ real estate markets. In order for MJAR members to receive the discounted rate\, complete the following steps for registration. \nStep 1) Choose Future Member ticket\nStep 2) Put in attendee information\nStep 3) Click + on Promo Code\nStep 4) Enter Promo Code “PromoPartner” and hit apply\nStep 5) Check Out \nTo register for the upcoming 2025 Central NJ Real Estate Forecast\, go the Chamber website event calendar or \nRegister Here
URL:https://midjerseyaor.com/events/princeton-mercer-regional-chamber-re-forecast/
LOCATION:Princeton Marriott at Forrestal\, 100 College Road East\, Princeton\, NJ\, 08690\, United States
CATEGORIES:Events
END:VEVENT
END:VCALENDAR