BEGIN:VCALENDAR
VERSION:2.0
PRODID:-//Mid Jersey Association of REALTORS® - ECPv6.15.20//NONSGML v1.0//EN
CALSCALE:GREGORIAN
METHOD:PUBLISH
X-ORIGINAL-URL:https://midjerseyaor.com
X-WR-CALDESC:Events for Mid Jersey Association of REALTORS®
REFRESH-INTERVAL;VALUE=DURATION:PT1H
X-Robots-Tag:noindex
X-PUBLISHED-TTL:PT1H
BEGIN:VTIMEZONE
TZID:America/New_York
BEGIN:DAYLIGHT
TZOFFSETFROM:-0500
TZOFFSETTO:-0400
TZNAME:EDT
DTSTART:20240310T070000
END:DAYLIGHT
BEGIN:STANDARD
TZOFFSETFROM:-0400
TZOFFSETTO:-0500
TZNAME:EST
DTSTART:20241103T060000
END:STANDARD
BEGIN:DAYLIGHT
TZOFFSETFROM:-0500
TZOFFSETTO:-0400
TZNAME:EDT
DTSTART:20250309T070000
END:DAYLIGHT
BEGIN:STANDARD
TZOFFSETFROM:-0400
TZOFFSETTO:-0500
TZNAME:EST
DTSTART:20251102T060000
END:STANDARD
BEGIN:DAYLIGHT
TZOFFSETFROM:-0500
TZOFFSETTO:-0400
TZNAME:EDT
DTSTART:20260308T070000
END:DAYLIGHT
BEGIN:STANDARD
TZOFFSETFROM:-0400
TZOFFSETTO:-0500
TZNAME:EST
DTSTART:20261101T060000
END:STANDARD
END:VTIMEZONE
BEGIN:VEVENT
DTSTART;TZID=America/New_York:20250501T140000
DTEND;TZID=America/New_York:20250501T150000
DTSTAMP:20260419T123220
CREATED:20250212T184829Z
LAST-MODIFIED:20250401T190523Z
UID:10000442-1746108000-1746111600@midjerseyaor.com
SUMMARY:Introduction to Short Sales and Foreclosures
DESCRIPTION:The Sokol Law Firm has been handling real estate matters since 2006. We began specializing in short sales around 2010 and since then we have closed over 3\,700 short sale transactions. We have a system to handle these complex transactions and a professional\, communicative staff to guide you through them. We utilize our own software and short sale documentation but also have a comprehensive database of lender specific documents and lender contacts which allows us to speed up the lengthy short sale process. \nInstructor: William G. Sokol\, Esq.\nFREE Virtual Class – Join Zoom Meeting: https://us06web.zoom.us/j/85956787086 / Meeting ID: 859 5678 7086 \nThis Education Session is brought to you by MJAR Affiliate Member\, The Sokol Firm\, Attorneys at Law. \nRegister by logging into the MJAR Member Portal. Note: Your Portal username is your NRDS number\, and your default password is your last name – all lowercase. Once logged into the Member Portal\, go to “Upcoming Events” on the right side of the dashboard\, and click on the event and register. \nRegister Here
URL:https://midjerseyaor.com/events/short-sales-and-foreclosures/
LOCATION:Virtual – ZOOM Meeting\, ZOOM
CATEGORIES:Affiliate Education,Events
END:VEVENT
BEGIN:VEVENT
DTSTART;TZID=America/New_York:20250506T110000
DTEND;TZID=America/New_York:20250506T120000
DTSTAMP:20260419T123220
CREATED:20250324T171827Z
LAST-MODIFIED:20250324T171827Z
UID:10000486-1746529200-1746532800@midjerseyaor.com
SUMMARY:Free Supra Webinar- Agent Training: Intro to Supra Showing Manager
DESCRIPTION:Come join Supra for a 60-minute training introduction for you to begin using and scheduling. Please share with your members \nRegister Here
URL:https://midjerseyaor.com/events/free-supra-webinar-agent-training-intro-to-supra-showing-manager-2/2025-05-06/
LOCATION:NJ
END:VEVENT
BEGIN:VEVENT
DTSTART;TZID=America/New_York:20250508T110000
DTEND;TZID=America/New_York:20250508T120000
DTSTAMP:20260419T123220
CREATED:20250324T172207Z
LAST-MODIFIED:20250324T172207Z
UID:10000491-1746702000-1746705600@midjerseyaor.com
SUMMARY:Free Supra Webinar – Agent Training: Managed Access NMA/SA
DESCRIPTION:Come join Supra for an overview of management access. Please share with your members. \nRegister Here
URL:https://midjerseyaor.com/events/free-supra-webinar-agent-training-managed-access-nma-sa-2/2025-05-08/
LOCATION:NJ
END:VEVENT
BEGIN:VEVENT
DTSTART;TZID=America/New_York:20250512T100000
DTEND;TZID=America/New_York:20250512T110000
DTSTAMP:20260419T123220
CREATED:20250403T204229Z
LAST-MODIFIED:20250403T204229Z
UID:10000505-1747044000-1747047600@midjerseyaor.com
SUMMARY:FREE Bright MLS Webinar: Creating a CMA in Bright MLS
DESCRIPTION:Creating a CMA in Bright MLS \nLearn how to create a comparative market analysis (CMA) in Bright MLS that can help your sellers set the right price or assist your buyers in better understanding the pricing in the current market. \nRegister Here
URL:https://midjerseyaor.com/events/free-bright-mls-webinar-creating-a-cma-in-bright-mls/
LOCATION:NJ
CATEGORIES:Webinars
END:VEVENT
BEGIN:VEVENT
DTSTART;TZID=America/New_York:20250515T110000
DTEND;TZID=America/New_York:20250515T140000
DTSTAMP:20260419T123220
CREATED:20250403T140811Z
LAST-MODIFIED:20250403T140811Z
UID:10000493-1747306800-1747317600@midjerseyaor.com
SUMMARY:Shred Day & Ice Cream For Members
DESCRIPTION:Shred Day **A Free Member Benefit**\nShred your sensitive documents and have some free ice cream — it’s on us! \n11:00 AM – 2:00PM \nGather your sensitive documents and bring them to be shredded onsite at the MJAR Headquarters. This is a free benefit of MJAR Members and Affiliates. \nBring your business card for identification to be able to have documents shredded for free. Shredding by American Shredder. \nFor more information\, contact Maya Castellon at events@MidJerseyAOR.com or call (732) 442-3400\, Ext. 103. Shredding by American Shredder & Ice Cream by NitroGirl. \nLog in to the MJAR Member Portal to register. Note: Your Portal username is your NRDS number\, and your default password is your last name – all lowercase. Once logged into the Member Portal\, go to “Upcoming Events” on the right side of the dashboard\, and click on “Shred Day & Ice Cream” to register. \nRegister Here
URL:https://midjerseyaor.com/events/shred-day-ice-cream/
LOCATION:MJAR South River Office\, 14 Old Bridge Turnpike\, South River\, 08882\, United States
CATEGORIES:Events
END:VEVENT
BEGIN:VEVENT
DTSTART;TZID=America/New_York:20250520T110000
DTEND;TZID=America/New_York:20250520T120000
DTSTAMP:20260419T123220
CREATED:20250324T171827Z
LAST-MODIFIED:20250324T171827Z
UID:10000487-1747738800-1747742400@midjerseyaor.com
SUMMARY:Free Supra Webinar- Agent Training: Intro to Supra Showing Manager
DESCRIPTION:Come join Supra for a 60-minute training introduction for you to begin using and scheduling. Please share with your members \nRegister Here
URL:https://midjerseyaor.com/events/free-supra-webinar-agent-training-intro-to-supra-showing-manager-2/2025-05-20/
LOCATION:NJ
END:VEVENT
BEGIN:VEVENT
DTSTART;TZID=America/New_York:20250520T140000
DTEND;TZID=America/New_York:20250520T160000
DTSTAMP:20260419T123220
CREATED:20250421T132859Z
LAST-MODIFIED:20250502T145129Z
UID:10000508-1747749600-1747756800@midjerseyaor.com
SUMMARY:NJ Legal Update for Brokers/Managers
DESCRIPTION:Join us for a Legal Update by Conor J. Hennessey\, of the Greenbaum\, Rowe\, Smith & Davis Law Firm\, for an update on New Jersey legal issues affecting all licensees. The session will be followed by a brief question-and-answer period. \nRegistration Fee: Members $10 (Non-Members $25) \nLog in to the MJAR Member Portal to register. Note: Your Portal username is your NRDS number\, and your default password is your last name – all lowercase. Once logged into the Member Portal\, go to “Upcoming Events” on the right side of the dashboard\, and click on “Shred Day & Ice Cream” to register. \nRegister Here
URL:https://midjerseyaor.com/events/nj-legal-update/
LOCATION:MJAR Branchburg Office\, 3461 US Highway 22 East\, Branchburg\, NJ\, 08876\, United States
CATEGORIES:Events
END:VEVENT
BEGIN:VEVENT
DTSTART;TZID=America/New_York:20250522T103000
DTEND;TZID=America/New_York:20250522T123000
DTSTAMP:20260419T123220
CREATED:20250408T172746Z
LAST-MODIFIED:20250417T134909Z
UID:10000507-1747909800-1747917000@midjerseyaor.com
SUMMARY:Tour of BAPS Akshardham Temple
DESCRIPTION:Join a private tour of the largest Hindu temple in North America\n BAPS Swaminarayan Akshardham\nTour Details: \n10:30 AM – Meet at the 50 ft tall golden statue next to the parking lot\, near the entrance. \n10:50 AM – Our group will proceed together through Security to the Welcome Center. \n11:00 AM – Guided tour promptly begins. \n**12:00 PM – Join fellow MJAR members for lunch at the Shayona Cafe!** \nPlease observe the BAPS Swaminarayan Akshardham dress code here. \nMember Cost: $5\nPrivate Guided Tour for MJAR Members \nLog in to the MJAR Member Portal to register. Note: Your Portal username is your NRDS number\, and your default password is your last name – all lowercase. Once logged into the Member Portal\, go to “Upcoming Events” on the right side of the dashboard. \nRegister Here
URL:https://midjerseyaor.com/events/baps-temple-tour/
LOCATION:BAPS Swaminarayan Akshardham\, 112 N Main Street\, Robbinsville Twp\, NJ\, 08561\, United States
CATEGORIES:Events
END:VEVENT
END:VCALENDAR