BEGIN:VCALENDAR
VERSION:2.0
PRODID:-//Mid Jersey Association of REALTORS® - ECPv6.15.20//NONSGML v1.0//EN
CALSCALE:GREGORIAN
METHOD:PUBLISH
X-WR-CALNAME:Mid Jersey Association of REALTORS®
X-ORIGINAL-URL:https://midjerseyaor.com
X-WR-CALDESC:Events for Mid Jersey Association of REALTORS®
REFRESH-INTERVAL;VALUE=DURATION:PT1H
X-Robots-Tag:noindex
X-PUBLISHED-TTL:PT1H
BEGIN:VTIMEZONE
TZID:America/New_York
BEGIN:DAYLIGHT
TZOFFSETFROM:-0500
TZOFFSETTO:-0400
TZNAME:EDT
DTSTART:20240310T070000
END:DAYLIGHT
BEGIN:STANDARD
TZOFFSETFROM:-0400
TZOFFSETTO:-0500
TZNAME:EST
DTSTART:20241103T060000
END:STANDARD
BEGIN:DAYLIGHT
TZOFFSETFROM:-0500
TZOFFSETTO:-0400
TZNAME:EDT
DTSTART:20250309T070000
END:DAYLIGHT
BEGIN:STANDARD
TZOFFSETFROM:-0400
TZOFFSETTO:-0500
TZNAME:EST
DTSTART:20251102T060000
END:STANDARD
BEGIN:DAYLIGHT
TZOFFSETFROM:-0500
TZOFFSETTO:-0400
TZNAME:EDT
DTSTART:20260308T070000
END:DAYLIGHT
BEGIN:STANDARD
TZOFFSETFROM:-0400
TZOFFSETTO:-0500
TZNAME:EST
DTSTART:20261101T060000
END:STANDARD
END:VTIMEZONE
BEGIN:VEVENT
DTSTART;TZID=America/New_York:20250603T110000
DTEND;TZID=America/New_York:20250603T120000
DTSTAMP:20260419T141530
CREATED:20250324T171827Z
LAST-MODIFIED:20250324T171827Z
UID:10000488-1748948400-1748952000@midjerseyaor.com
SUMMARY:Free Supra Webinar- Agent Training: Intro to Supra Showing Manager
DESCRIPTION:Come join Supra for a 60-minute training introduction for you to begin using and scheduling. Please share with your members \nRegister Here
URL:https://midjerseyaor.com/events/free-supra-webinar-agent-training-intro-to-supra-showing-manager-2/2025-06-03/
LOCATION:NJ
END:VEVENT
BEGIN:VEVENT
DTSTART;TZID=America/New_York:20250605T110000
DTEND;TZID=America/New_York:20250605T120000
DTSTAMP:20260419T141530
CREATED:20250324T172207Z
LAST-MODIFIED:20250324T172207Z
UID:10000492-1749121200-1749124800@midjerseyaor.com
SUMMARY:Free Supra Webinar – Agent Training: Managed Access NMA/SA
DESCRIPTION:Come join Supra for an overview of management access. Please share with your members. \nRegister Here
URL:https://midjerseyaor.com/events/free-supra-webinar-agent-training-managed-access-nma-sa-2/2025-06-05/
LOCATION:NJ
END:VEVENT
BEGIN:VEVENT
DTSTART;TZID=America/New_York:20250609T100000
DTEND;TZID=America/New_York:20250609T110000
DTSTAMP:20260419T141530
CREATED:20250403T204527Z
LAST-MODIFIED:20250403T204527Z
UID:10000506-1749463200-1749466800@midjerseyaor.com
SUMMARY:FREE Bright MLS Webinar: Bright MLS Buyer Tools
DESCRIPTION:Bright MLS Buyer Tools \nLearn the various ways to effectively work with your buyers through Bright MLS. We will review setting up Contacts\, Searching\, various ways of sharing your results and how to track your client’s activity. \nRegister Here
URL:https://midjerseyaor.com/events/free-bright-mls-webinar-bright-mls-buyer-tools/
LOCATION:NJ
CATEGORIES:Webinars
END:VEVENT
BEGIN:VEVENT
DTSTART;TZID=America/New_York:20250612T130000
DTEND;TZID=America/New_York:20250612T140000
DTSTAMP:20260419T141530
CREATED:20250505T155348Z
LAST-MODIFIED:20250508T145655Z
UID:10000509-1749733200-1749736800@midjerseyaor.com
SUMMARY:You've Got This! Live Webinar with Matthew Ferrara
DESCRIPTION:Brought to you by Mid Jersey Association of REALTORS® and NEXUS Association of REALTORS®\nYou’ve Got This! With Matthew Ferrara\, Real Estate Expert\n\n		\n	\n	\n	\n	\n		Matt Ferrara Video MJAR-NEXUS	\n	\n	\n\n	\nJoin Matthew Ferrara\, real estate expert and executive mentor\, as he shares key insights on the market and proven methods of growth to inspire you to reach the success you deserve this year. \nIn this webinar you’ll learn: \n\nHow to strengthen your mindset using The Growth Navigator & your Personal Mantra for success\nHow to create a sustainable sales strategy that drives listings and sales no matter what the market does next\nTwo things each week that lead to $20-40M pipeline\nShift your marketing approach using optimistic storytelling techniques to drive new business\n\nHow to Register: \nSTEP 1: Start by paying your registration fee through the MJAR Member Portal and you will receive your receipt. \nSTEP 2: You will receive another confirmation email with the Zoom link to add the event to your calendar. [*Please note: Registration is limited to pre-approved MJAR and NEXUS Members and Non-Members.] \nRegistration Fee: Members $15 (Non-Members $45) \nLog in to the MJAR Member Portal to register. Note: Your Portal username is your NRDS number\, and your default password is your last name – all lowercase. Once logged into the Member Portal\, go to “Upcoming Events” on the right side of the dashboard. \nRegister Here
URL:https://midjerseyaor.com/events/youve-got-this-matthew-ferrara/
LOCATION:Virtual – ZOOM Meeting\, ZOOM
CATEGORIES:Events
END:VEVENT
BEGIN:VEVENT
DTSTART;TZID=America/New_York:20250617T110000
DTEND;TZID=America/New_York:20250617T120000
DTSTAMP:20260419T141530
CREATED:20250324T171827Z
LAST-MODIFIED:20250324T171827Z
UID:10000489-1750158000-1750161600@midjerseyaor.com
SUMMARY:Free Supra Webinar- Agent Training: Intro to Supra Showing Manager
DESCRIPTION:Come join Supra for a 60-minute training introduction for you to begin using and scheduling. Please share with your members \nRegister Here
URL:https://midjerseyaor.com/events/free-supra-webinar-agent-training-intro-to-supra-showing-manager-2/2025-06-17/
LOCATION:NJ
END:VEVENT
BEGIN:VEVENT
DTSTART;TZID=America/New_York:20250618T100000
DTEND;TZID=America/New_York:20250618T113000
DTSTAMP:20260419T141530
CREATED:20250401T190333Z
LAST-MODIFIED:20250430T191621Z
UID:10000504-1750240800-1750246200@midjerseyaor.com
SUMMARY:How to Write Winning Offers
DESCRIPTION:Are you struggling to get your buyers’ offers accepted in today’s ultra-competitive market? Join us for an exclusive seminar where you’ll learn proven strategies to help your clients win bidding wars and close deals faster. We’ll cover everything from appraisal gap strategies to seller-paid rate buydowns\, creative down payment solutions\, and how to use lender-backed tactics to strengthen your offers. Walk away with actionable insights\, scripts\, and tools to position yourself as a top-performing agent in any market. \nInstructor: Lucas Hernandez \n*HYBRID Offering*\nFREE Virtual Class – Join Zoom Meeting: https://us06web.zoom.us/j/84895165580 / Meeting ID: 848 9516 5580\nOR\nFREE IN-PERSON LOCATION: MJAR Branchburg Office: 3461 Route 22 E\, Bldg.B\, Hunterdon Somerset Professional Plaza\, Branchburg\, NJ 08876 \nThis Education Session is brought to you by MJAR Affiliate Member\, MLB Residential Lending. \nRegister by logging into the MJAR Member Portal. Note: Your Portal username is your NRDS number\, and your default password is your last name – all lowercase. Once logged into the Member Portal\, go to “Upcoming Events” on the right side of the dashboard\, and click on the event and register. \nRegister Here
URL:https://midjerseyaor.com/events/how-to-write-winning-offers/
LOCATION:MJAR Branchburg Office\, 3461 US Highway 22 East\, Branchburg\, NJ\, 08876\, United States
CATEGORIES:Affiliate Education,Events
END:VEVENT
END:VCALENDAR