BEGIN:VCALENDAR
VERSION:2.0
PRODID:-//Mid Jersey Association of REALTORS® - ECPv6.15.20//NONSGML v1.0//EN
CALSCALE:GREGORIAN
METHOD:PUBLISH
X-WR-CALNAME:Mid Jersey Association of REALTORS®
X-ORIGINAL-URL:https://midjerseyaor.com
X-WR-CALDESC:Events for Mid Jersey Association of REALTORS®
REFRESH-INTERVAL;VALUE=DURATION:PT1H
X-Robots-Tag:noindex
X-PUBLISHED-TTL:PT1H
BEGIN:VTIMEZONE
TZID:America/New_York
BEGIN:DAYLIGHT
TZOFFSETFROM:-0500
TZOFFSETTO:-0400
TZNAME:EDT
DTSTART:20240310T070000
END:DAYLIGHT
BEGIN:STANDARD
TZOFFSETFROM:-0400
TZOFFSETTO:-0500
TZNAME:EST
DTSTART:20241103T060000
END:STANDARD
BEGIN:DAYLIGHT
TZOFFSETFROM:-0500
TZOFFSETTO:-0400
TZNAME:EDT
DTSTART:20250309T070000
END:DAYLIGHT
BEGIN:STANDARD
TZOFFSETFROM:-0400
TZOFFSETTO:-0500
TZNAME:EST
DTSTART:20251102T060000
END:STANDARD
BEGIN:DAYLIGHT
TZOFFSETFROM:-0500
TZOFFSETTO:-0400
TZNAME:EDT
DTSTART:20260308T070000
END:DAYLIGHT
BEGIN:STANDARD
TZOFFSETFROM:-0400
TZOFFSETTO:-0500
TZNAME:EST
DTSTART:20261101T060000
END:STANDARD
END:VTIMEZONE
BEGIN:VEVENT
DTSTART;TZID=America/New_York:20250701T110000
DTEND;TZID=America/New_York:20250701T120000
DTSTAMP:20260419T160212
CREATED:20250624T162139Z
LAST-MODIFIED:20250624T163259Z
UID:10000517-1751367600-1751371200@midjerseyaor.com
SUMMARY:Free Supra Webinar- Agent Training: Intro to Supra Showing Manager
DESCRIPTION:Come join Supra for a 60-minute training introduction for you to begin using and scheduling. Please share with your members \nRegister Here
URL:https://midjerseyaor.com/events/free-supra-webinar-agent-training-managed-access-nma-sa-3/2025-07-01/
LOCATION:NJ
END:VEVENT
BEGIN:VEVENT
DTSTART;TZID=America/New_York:20250708T100000
DTEND;TZID=America/New_York:20250708T110000
DTSTAMP:20260419T160212
CREATED:20250502T131623Z
LAST-MODIFIED:20250509T161906Z
UID:10000510-1751968800-1751972400@midjerseyaor.com
SUMMARY:New Member Orientation
DESCRIPTION:Join our virtual New Member Orientation!\nThese sessions are designed to provide expert guidance\, personalized support\, and an overview of the many benefits that come with your MJAR REALTOR® membership. We strongly encourage all new members to attend and gain valuable insights to help you succeed in your real estate journey. \nIf you have any questions\, feel free to contact us at events@midjerseyaor.com—we’re here to help! \nPresented by: Jonathan Kessler\, Broker/Realtor\nFREE Virtual Orientation – Join Zoom Meeting: https://us06web.zoom.us/j/82568023147 / Meeting ID: 825 6802 3147 \nWhen you register for this event using the button below\, you will need to log in to the MJAR Member Portal. Note: Your Portal username is your NRDS number\, and your default password is your last name – all lowercase. Once logged into the Member Portal\, go to “Upcoming Events” on the right side of the dashboard\, and click on the event and register. \nRegister Here
URL:https://midjerseyaor.com/events/new-member-orientation-32/
LOCATION:Virtual – ZOOM Meeting\, ZOOM
CATEGORIES:Orientations
ATTACH;FMTTYPE=image/png:https://midjerseyaor.com/wp-content/uploads/2025/05/New-Member-Orientation-600x200-2.png
END:VEVENT
BEGIN:VEVENT
DTSTART;TZID=America/New_York:20250709T110000
DTEND;TZID=America/New_York:20250709T120000
DTSTAMP:20260419T160212
CREATED:20250624T163924Z
LAST-MODIFIED:20250624T163924Z
UID:10000525-1752058800-1752062400@midjerseyaor.com
SUMMARY:Free Supra Webinar- Agent Training: eKEY Basic & Professional Training
DESCRIPTION:Come join Supra for a 90-minute training of all of the features of eKEY Basic and then the last 1/2 hour will be eKEY Professional. Please share with your members \nRegister Here
URL:https://midjerseyaor.com/events/free-supra-webinar-agent-training-ekey-basic-professional-training/2025-07-09/
LOCATION:NJ
END:VEVENT
BEGIN:VEVENT
DTSTART;TZID=America/New_York:20250710T100000
DTEND;TZID=America/New_York:20250710T113000
DTSTAMP:20260419T160212
CREATED:20250502T201747Z
LAST-MODIFIED:20250519T171245Z
UID:10000511-1752141600-1752147000@midjerseyaor.com
SUMMARY:Find More Sellers
DESCRIPTION:How Top Agents Are Getting More Listings: 15 Tips That Actually Work \nMovement Mortgage spoke with leading real estate agents across the country to uncover the strategies they’re using to secure more listings in a competitive market. In this presentation\, we’ll share insights from top producers and reveal the proven tactics they’re using to grow their listing inventory right now. \nInstructors: Alex Rivera and Jeffrey Koerner\nFREE Virtual Class – Join Zoom Meeting: https://us06web.zoom.us/j/88168699316 / Meeting ID: 881 6869 9316 \nThis Education Session is brought to you by MJAR Affiliate Member\, Movement Mortgage. \nRegister by logging into the MJAR Member Portal. Note: Your Portal username is your NRDS number\, and your default password is your last name – all lowercase. Once logged into the Member Portal\, go to “Upcoming Events” on the right side of the dashboard\, and click on the event and register. \nRegister Here
URL:https://midjerseyaor.com/events/find-more-sellers/
LOCATION:Virtual – ZOOM Meeting\, ZOOM
CATEGORIES:Affiliate Education,Events
END:VEVENT
BEGIN:VEVENT
DTSTART;TZID=America/New_York:20250711T110000
DTEND;TZID=America/New_York:20250711T120000
DTSTAMP:20260419T160212
CREATED:20250624T164407Z
LAST-MODIFIED:20250624T164407Z
UID:10000529-1752231600-1752235200@midjerseyaor.com
SUMMARY:Free Supra Webinar- Intro to eKey & SupraWEB Essentials
DESCRIPTION:Come join Supra to interact with the Supra trainer and others for the Q&A monthly review for agents. Please share with your members \nRegister Here
URL:https://midjerseyaor.com/events/free-supra-webinar-intro-to-ekey-supraweb-essentials/2025-07-11/
LOCATION:NJ
END:VEVENT
BEGIN:VEVENT
DTSTART;TZID=America/New_York:20250714T100000
DTEND;TZID=America/New_York:20250714T110000
DTSTAMP:20260419T160212
CREATED:20250605T161938Z
LAST-MODIFIED:20250605T165357Z
UID:10000513-1752487200-1752490800@midjerseyaor.com
SUMMARY:FREE Bright MLS Webinar: Learn About Your New Bright MLS Listing Management System
DESCRIPTION:Learn About Your New Bright MLS Listing Management System \nJoin Bright MLS Success Coach Robert Blackman to discover the smarter\, faster way to add and edit your listings! Bright’s new Listing Management system* combines seamless mobile responsiveness with the timesaving power of AI-assisted features for an enhanced experience that helps you get more done with less effort. Join us for a walkthrough of the new system and learn about its efficiency-boosting benefits. (*Available for NJ offices first\, Sneak peek for PA agents) \nRegister Here
URL:https://midjerseyaor.com/events/bright-mls-listing-management-system/
LOCATION:NJ
CATEGORIES:Webinars
END:VEVENT
BEGIN:VEVENT
DTSTART;TZID=America/New_York:20250722T110000
DTEND;TZID=America/New_York:20250722T120000
DTSTAMP:20260419T160212
CREATED:20250624T162139Z
LAST-MODIFIED:20250624T163259Z
UID:10000518-1753182000-1753185600@midjerseyaor.com
SUMMARY:Free Supra Webinar- Agent Training: Intro to Supra Showing Manager
DESCRIPTION:Come join Supra for a 60-minute training introduction for you to begin using and scheduling. Please share with your members \nRegister Here
URL:https://midjerseyaor.com/events/free-supra-webinar-agent-training-managed-access-nma-sa-3/2025-07-22/
LOCATION:NJ
END:VEVENT
BEGIN:VEVENT
DTSTART;TZID=America/New_York:20250723T143000
DTEND;TZID=America/New_York:20250723T190000
DTSTAMP:20260419T160212
CREATED:20250609T135452Z
LAST-MODIFIED:20250624T161427Z
UID:10000512-1753281000-1753297200@midjerseyaor.com
SUMMARY:MJAR Blood Drive
DESCRIPTION:NJ Blood Services Blood Drive\nBrought to you by MJAR’s Community Service Committee\nBe a hero in under an hour! The Mid Jersey Association of REALTORS® is proud to host an NJ Blood Services Blood Drive\, led by our Community Service Committee. Join us on July July 23rd\, anytime between 2:30pm and 7:00pm—roll up your sleeve and help save lives. Your donation can make a life-changing impact right here in our community. \nDonations will take place in the NJ Blood Services Bus mobile\, conveniently parked outside our office. \nWalk-ins are welcome—appointments are encouraged for your convenience! Save time by making an appointment below. Or visit: www.nybc.org/drive – Sponsor code:72990 \nPrepare to donate: \n\nEat well and hydrate\nBring a photo ID\nFeel good and symptom free\nMust be 17+ or 16 with parental consent form\nMeet minimum weight requirements\nFor full eligibility requirements and COVID-19 information\, visit nybc.org/eligibility.\nDonors 76 years & older will need a doctor’s note unless one is on file.\n\nAs a thank you for giving back\, all blood donors will be treated to a complimentary catered dinner from a local favorite restaurant—served right here at our office. \nDo something amazing today. Save a life. Give Blood! \nRegister Here
URL:https://midjerseyaor.com/events/blood-drive/
LOCATION:MJAR South River Office\, 14 Old Bridge Turnpike\, South River\, 08882\, United States
CATEGORIES:Events
ATTACH;FMTTYPE=image/png:https://midjerseyaor.com/wp-content/uploads/2025/06/Blood-Drive-Banner.png
END:VEVENT
BEGIN:VEVENT
DTSTART;TZID=America/New_York:20250724T110000
DTEND;TZID=America/New_York:20250724T120000
DTSTAMP:20260419T160212
CREATED:20250624T164736Z
LAST-MODIFIED:20250624T164736Z
UID:10000535-1753354800-1753358400@midjerseyaor.com
SUMMARY:Free Supra Webinar – Agent Training: Managed Access NMA/SA
DESCRIPTION:Come join Supra for an overview of management access. Please share with your members. \nRegister Here
URL:https://midjerseyaor.com/events/free-supra-webinar-agent-training-managed-access-nma-sa-4/2025-07-24/
LOCATION:NJ
END:VEVENT
END:VCALENDAR