BEGIN:VCALENDAR
VERSION:2.0
PRODID:-//Mid Jersey Association of REALTORS® - ECPv6.15.20//NONSGML v1.0//EN
CALSCALE:GREGORIAN
METHOD:PUBLISH
X-ORIGINAL-URL:https://midjerseyaor.com
X-WR-CALDESC:Events for Mid Jersey Association of REALTORS®
REFRESH-INTERVAL;VALUE=DURATION:PT1H
X-Robots-Tag:noindex
X-PUBLISHED-TTL:PT1H
BEGIN:VTIMEZONE
TZID:America/New_York
BEGIN:DAYLIGHT
TZOFFSETFROM:-0500
TZOFFSETTO:-0400
TZNAME:EDT
DTSTART:20240310T070000
END:DAYLIGHT
BEGIN:STANDARD
TZOFFSETFROM:-0400
TZOFFSETTO:-0500
TZNAME:EST
DTSTART:20241103T060000
END:STANDARD
BEGIN:DAYLIGHT
TZOFFSETFROM:-0500
TZOFFSETTO:-0400
TZNAME:EDT
DTSTART:20250309T070000
END:DAYLIGHT
BEGIN:STANDARD
TZOFFSETFROM:-0400
TZOFFSETTO:-0500
TZNAME:EST
DTSTART:20251102T060000
END:STANDARD
BEGIN:DAYLIGHT
TZOFFSETFROM:-0500
TZOFFSETTO:-0400
TZNAME:EDT
DTSTART:20260308T070000
END:DAYLIGHT
BEGIN:STANDARD
TZOFFSETFROM:-0400
TZOFFSETTO:-0500
TZNAME:EST
DTSTART:20261101T060000
END:STANDARD
END:VTIMEZONE
BEGIN:VEVENT
DTSTART;VALUE=DATE:20250901
DTEND;VALUE=DATE:20250902
DTSTAMP:20260419T192333
CREATED:20250820T171605Z
LAST-MODIFIED:20250820T173328Z
UID:10000549-1756684800-1756771199@midjerseyaor.com
SUMMARY:MJAR Offices Closed for Labor Day
DESCRIPTION:
URL:https://midjerseyaor.com/events/mjar-offices-closed-for-labor-day/
LOCATION:NJ
CATEGORIES:MJAR Office Closures
END:VEVENT
BEGIN:VEVENT
DTSTART;TZID=America/New_York:20250904T110000
DTEND;TZID=America/New_York:20250904T120000
DTSTAMP:20260419T192333
CREATED:20250624T164736Z
LAST-MODIFIED:20250624T164736Z
UID:10000537-1756983600-1756987200@midjerseyaor.com
SUMMARY:Free Supra Webinar – Agent Training: Managed Access NMA/SA
DESCRIPTION:Come join Supra for an overview of management access. Please share with your members. \nRegister Here
URL:https://midjerseyaor.com/events/free-supra-webinar-agent-training-managed-access-nma-sa-4/2025-09-04/
LOCATION:NJ
END:VEVENT
BEGIN:VEVENT
DTSTART;TZID=America/New_York:20250905T110000
DTEND;TZID=America/New_York:20250905T120000
DTSTAMP:20260419T192333
CREATED:20250624T164407Z
LAST-MODIFIED:20250624T164407Z
UID:10000531-1757070000-1757073600@midjerseyaor.com
SUMMARY:Free Supra Webinar- Intro to eKey & SupraWEB Essentials
DESCRIPTION:Come join Supra to interact with the Supra trainer and others for the Q&A monthly review for agents. Please share with your members \nRegister Here
URL:https://midjerseyaor.com/events/free-supra-webinar-intro-to-ekey-supraweb-essentials/2025-09-05/
LOCATION:NJ
END:VEVENT
BEGIN:VEVENT
DTSTART;TZID=America/New_York:20250910T100000
DTEND;TZID=America/New_York:20250910T113000
DTSTAMP:20260419T192333
CREATED:20250715T153143Z
LAST-MODIFIED:20250715T153143Z
UID:10000541-1757498400-1757503800@midjerseyaor.com
SUMMARY:Unlock Your Edge: AI and Skill-Building for the Modern REALTOR®
DESCRIPTION:Brought to you by Mid Jersey Association of REALTORS® Young Professionals Network Committee\nUnlock Your Edge: AI and Skill-Building for the Modern REALTOR®\nUnlock your edge this fall with MJAR YPN’s dynamic webinar exploring how REALTORS® can use AI\, skill-building\, and smart planning to level up their business. Hear from top NAR YPN Advisory Board members and local pros as they share real-world strategies for growth\, tech adoption\, and staying ahead in a fast-moving market. \nIn this webinar you’ll learn: \n\nHow to leverage AI tools to boost productivity\, marketing\, and client engagement.\nThe top skill sets modern REALTORS® need to stay competitive in 2025 and beyond.\nSmart strategies for setting business goals and managing finances in a shifting market.\n\nRegister in advance via your Member Portal to receive reminders! \nFREE Virtual Webinar – Join Zoom Meeting: https://us06web.zoom.us/j/81250202758 / Meeting ID: 812 5020 2758 \nLog in to the MJAR Member Portal to register. Note: Your Portal username is your NRDS number\, and your default password is your last name – all lowercase. Once logged into the Member Portal\, go to “Upcoming Events” on the right side of the dashboard. \nRegister Here
URL:https://midjerseyaor.com/events/ypn-webinar/
LOCATION:Virtual – ZOOM Meeting\, ZOOM
CATEGORIES:Events
END:VEVENT
BEGIN:VEVENT
DTSTART;TZID=America/New_York:20250910T110000
DTEND;TZID=America/New_York:20250910T120000
DTSTAMP:20260419T192333
CREATED:20250624T163924Z
LAST-MODIFIED:20250624T163924Z
UID:10000527-1757502000-1757505600@midjerseyaor.com
SUMMARY:Free Supra Webinar- Agent Training: eKEY Basic & Professional Training
DESCRIPTION:Come join Supra for a 90-minute training of all of the features of eKEY Basic and then the last 1/2 hour will be eKEY Professional. Please share with your members \nRegister Here
URL:https://midjerseyaor.com/events/free-supra-webinar-agent-training-ekey-basic-professional-training/2025-09-10/
LOCATION:NJ
END:VEVENT
BEGIN:VEVENT
DTSTART;TZID=America/New_York:20250915T100000
DTEND;TZID=America/New_York:20250915T100000
DTSTAMP:20260419T192333
CREATED:20250805T154857Z
LAST-MODIFIED:20250805T160815Z
UID:10000545-1757930400-1757930400@midjerseyaor.com
SUMMARY:FREE Bright MLS Webinar: Tips & Tricks
DESCRIPTION:Bright MLS Tips & Tricks \nUnlock the full potential of the MLS! In this session\, you’ll learn how to leverage advanced search techniques and tools to find the perfect properties faster and more efficiently. We’ll cover everything from basic filters to sophisticated search criteria\, allowing you to refine your searches and save valuable time. We will also cover other great tools that help you stay on top of your listing activity and your local market. \nRegister Here
URL:https://midjerseyaor.com/events/free-bright-mls-webinar-tips-tricks/
LOCATION:NJ
CATEGORIES:Webinars
END:VEVENT
BEGIN:VEVENT
DTSTART;TZID=America/New_York:20250918T090000
DTEND;TZID=America/New_York:20250918T130000
DTSTAMP:20260419T192333
CREATED:20250722T183506Z
LAST-MODIFIED:20250915T143238Z
UID:10000543-1758186000-1758200400@midjerseyaor.com
SUMMARY:Broker Summit
DESCRIPTION:Brought to you by The Office Principal Forum Task Force \n2025 Broker Summit\n“Addressing Market Shifts and Managing Your Business”\n(For Brokers Only) \n$25 Member Fee / $45 Non-Member Fee \nJoin us for MJAR’s 2025 Broker Summit\, where industry experts will share insights on navigating market shifts and strengthening your brokerage business strategy. From legal updates to housing market analysis and economic trends\, to current market challenges in real estate\, this summit provides an opportunity to connect\, learn\, and lead with confidence in a rapidly evolving real estate landscape. \nGuest speakers include: \n\nDawn Hare\, NJ Community Capital/Homeownership Administrator\nWilliam Morgan\, NJ State Police\, High-Tech Crime Bureau\nDr. Lisa Sturtevant\, Bright MLS Economist\nDoug Tomson\, NJ REALTORS®\, CEO\n\nRegister in advance: Members $25 (Non-Members $45) \nLog in to the MJAR Member Portal to register. Note: If you are logging in for the first time\, your Portal username is your NRDS number\, and your default password is your last name – all lowercase. Once logged into the Member Portal\, go to “Upcoming Events” on the right side of the dashboard. \nRegister Here
URL:https://midjerseyaor.com/events/broker-summit/
LOCATION:Crowne Plaza Edison\, 2055 Lincoln Highway\, Edison\, NJ\, 08817\, United States
CATEGORIES:Events
END:VEVENT
BEGIN:VEVENT
DTSTART;TZID=America/New_York:20250925T163000
DTEND;TZID=America/New_York:20250925T200000
DTSTAMP:20260419T192333
CREATED:20250725T141107Z
LAST-MODIFIED:20250908T150436Z
UID:10000544-1758817800-1758830400@midjerseyaor.com
SUMMARY:2025 RPAC Auction Fundraiser
DESCRIPTION:Brought to you by The RPAC and Government Affairs Committee\n2025 RPAC Auction Fundraiser\nLive Auction & Dinner!\nGet Something for Your RPAC Contribution\nJoin us for a lively gathering where you’ll have the opportunity to bid on auction items and contribute to RPAC. Winning auction bids of $100+ qualify you for an industry unit on the NJ REALTORS® Circle of Excellence Sales Award® application. Some items to be auctioned include a Roomba and Bissel vacuum\, Beats headphones\, Ring security camera\, theatre tickets\, luggage\, gift certificates\, holiday baskets\, and more. \n4:30 – 5:30 PM – First Hour Open Bar\n(Cash Bar after 5:30 PM)\n5:30 – 6:30 PM – Dinner Buffet\n6:00 – 8:00 PM – RPAC Auction \nAuctioneer:\nMark J. Schmidt (Watch a brief video by the Auctioneer here) \nMember Fee: $45\n(Admission fee is not considered an RPAC contribution) \nFor questions\, email MJAR Operations Manager\, Mary Ann Wissel at Operations@MidJerseyAOR.com. \nLog in to the MJAR Member Portal to register. Note: If you are logging in for the first time\, your Portal username is your NRDS number\, and your default password is your last name – all lowercase. Once logged into the Member Portal\, go to “Upcoming Events” on the right side of the dashboard. \nRegister Here
URL:https://midjerseyaor.com/events/2025-rpac-auction/
LOCATION:Hilton Garden Inn – Hamilton\, 800 US Highway 130\, Hamilton\, NJ\, 08690\, United States
CATEGORIES:Events
END:VEVENT
BEGIN:VEVENT
DTSTART;TZID=America/New_York:20250930T093000
DTEND;TZID=America/New_York:20250930T123000
DTSTAMP:20260419T192333
CREATED:20250826T193841Z
LAST-MODIFIED:20250826T193841Z
UID:10000556-1759224600-1759235400@midjerseyaor.com
SUMMARY:Dignity Begins With Fair Housing\, Service & Emotional Support Animals
DESCRIPTION:Ensure your business stays compliant and inclusive with a deep dive into Fair Housing and the proper handling of service and emotional support animal requests. This essential course empowers REALTORS® to confidently navigate the complex intersection of Fair Housing regulations\, Fair Chance in Housing laws\, and the rights of individuals with service and emotional support animals. \nThis VIRTUAL course fulfills requirements for 3 Fair Housing CE Credits (Course Code: C20203920). \nMember Cost: $15 / Non-Member: $25\nInstructor: Michael “Silky” Silkowitz \nRegister for Virtual Attendance
URL:https://midjerseyaor.com/events/fair-housing-emotional-support-animals/
LOCATION:Virtual – ZOOM Meeting\, ZOOM
CATEGORIES:Classes
END:VEVENT
END:VCALENDAR