BEGIN:VCALENDAR
VERSION:2.0
PRODID:-//Mid Jersey Association of REALTORS® - ECPv6.15.20//NONSGML v1.0//EN
CALSCALE:GREGORIAN
METHOD:PUBLISH
X-ORIGINAL-URL:https://midjerseyaor.com
X-WR-CALDESC:Events for Mid Jersey Association of REALTORS®
REFRESH-INTERVAL;VALUE=DURATION:PT1H
X-Robots-Tag:noindex
X-PUBLISHED-TTL:PT1H
BEGIN:VTIMEZONE
TZID:America/New_York
BEGIN:DAYLIGHT
TZOFFSETFROM:-0500
TZOFFSETTO:-0400
TZNAME:EDT
DTSTART:20240310T070000
END:DAYLIGHT
BEGIN:STANDARD
TZOFFSETFROM:-0400
TZOFFSETTO:-0500
TZNAME:EST
DTSTART:20241103T060000
END:STANDARD
BEGIN:DAYLIGHT
TZOFFSETFROM:-0500
TZOFFSETTO:-0400
TZNAME:EDT
DTSTART:20250309T070000
END:DAYLIGHT
BEGIN:STANDARD
TZOFFSETFROM:-0400
TZOFFSETTO:-0500
TZNAME:EST
DTSTART:20251102T060000
END:STANDARD
BEGIN:DAYLIGHT
TZOFFSETFROM:-0500
TZOFFSETTO:-0400
TZNAME:EDT
DTSTART:20260308T070000
END:DAYLIGHT
BEGIN:STANDARD
TZOFFSETFROM:-0400
TZOFFSETTO:-0500
TZNAME:EST
DTSTART:20261101T060000
END:STANDARD
END:VTIMEZONE
BEGIN:VEVENT
DTSTART;TZID=America/New_York:20251105T100000
DTEND;TZID=America/New_York:20251105T110000
DTSTAMP:20260419T173430
CREATED:20251023T144236Z
LAST-MODIFIED:20251023T144236Z
UID:10000566-1762336800-1762340400@midjerseyaor.com
SUMMARY:FOREWARN Training Webinar
DESCRIPTION:REALTOR® Safety Matters to MJAR\nOver 1\,000 MJAR Members Have Subscribed to the Forewarn Safety App\nThe FOREWARN app—a powerful\, safety tool for REALTORS®—is a FREE member benefit (valued at $300/year) – complimentary of Mid Jersey Association of REALTORS®\nWednesday\, November 5 | 10 AM \nNo Cost for MJAR Members \nDon’t miss FOREWARN’s upcoming free training webinar. Join us as we demonstrate how to best utilize FOREWARN and share insider tips and tricks\, followed by a live Q&A session. Combat Fraud\, Mitigate Risk\, and Stay Safe with FOREWARN. \nSet up your Forewarn account HERE (https://app.forewarn.com/membersetup)\n**Note** enter your email address when prompted to do so (be sure to use the same email address as your MJAR member email address as it will serve as your FOREWARN ‘Username’). Please ensure you have read and understand MJAR’s policy here. View testimonials about the FOREWARN App here. \nRegister for the Zoom Meeting by signing up below. \nRegister Here
URL:https://midjerseyaor.com/events/forewarn-nov/
LOCATION:Virtual – ZOOM Meeting\, ZOOM
CATEGORIES:Classes
END:VEVENT
BEGIN:VEVENT
DTSTART;TZID=America/New_York:20251106T110000
DTEND;TZID=America/New_York:20251106T120000
DTSTAMP:20260419T173430
CREATED:20250624T164736Z
LAST-MODIFIED:20250624T164736Z
UID:10000539-1762426800-1762430400@midjerseyaor.com
SUMMARY:Free Supra Webinar – Agent Training: Managed Access NMA/SA
DESCRIPTION:Come join Supra for an overview of management access. Please share with your members. \nRegister Here
URL:https://midjerseyaor.com/events/free-supra-webinar-agent-training-managed-access-nma-sa-4/2025-11-06/
LOCATION:NJ
END:VEVENT
BEGIN:VEVENT
DTSTART;TZID=America/New_York:20251107T110000
DTEND;TZID=America/New_York:20251107T120000
DTSTAMP:20260419T173430
CREATED:20250624T164407Z
LAST-MODIFIED:20250624T164407Z
UID:10000533-1762513200-1762516800@midjerseyaor.com
SUMMARY:Free Supra Webinar- Intro to eKey & SupraWEB Essentials
DESCRIPTION:Come join Supra to interact with the Supra trainer and others for the Q&A monthly review for agents. Please share with your members \nRegister Here
URL:https://midjerseyaor.com/events/free-supra-webinar-intro-to-ekey-supraweb-essentials/2025-11-07/
LOCATION:NJ
END:VEVENT
BEGIN:VEVENT
DTSTART;VALUE=DATE:20251111
DTEND;VALUE=DATE:20251112
DTSTAMP:20260419T173430
CREATED:20250820T172655Z
LAST-MODIFIED:20250820T173156Z
UID:10000551-1762819200-1762905599@midjerseyaor.com
SUMMARY:MJAR Offices Closed for Veteran's Day
DESCRIPTION:
URL:https://midjerseyaor.com/events/mjar-offices-closed-for-veterans-day/
LOCATION:NJ
CATEGORIES:MJAR Office Closures
END:VEVENT
BEGIN:VEVENT
DTSTART;TZID=America/New_York:20251113T100000
DTEND;TZID=America/New_York:20251113T153000
DTSTAMP:20260419T173430
CREATED:20250912T155348Z
LAST-MODIFIED:20250912T155348Z
UID:10000560-1763028000-1763047800@midjerseyaor.com
SUMMARY:Fundamentals of Commercial Real Estate Financing (CREF) for Residential Agents
DESCRIPTION:New Course Now Open! Learn Commercial Real Estate Financing\nContinuing Education Credit:\n5 NJREC ELECTIVE CE CREDITS (C20206135) \nInterested in learning how to make money brokering commercial real estate financing deals? Discover how to earn commissions by brokering commercial real estate financing transactions in this powerful new course! \nTaught by Ronald M. Shapiro—former Rutgers Business School Professor\, former NJ bank SVP/CLO\, and licensed NJ Real Estate Continuing Education Instructor—you’ll gain insider knowledge and practical tools to break into this exciting side of the business. \nIn this interactive session\, you’ll learn: \n• How commercial real estate brokerage differs from residential brokerages\n• The importance of property cash flow vs borrower’s wages\n• Key financial metrics in evaluating a commercial real estate transaction\n• Tenant leases and its impact on property revenues\n• Understanding rent rolls and income and expense statements\n• What are the returns when purchasing a property with debt vs all cash\n• Positive leverage vs. negative leverage—and why it matters \nSchedule:\n10:00 AM – 12:30 PM Session\n12:30 PM – 1:00 PM Lunch *will be provided to in-person attendees*\n1:00 PM – 3:30 PM Session \nNote: Attendees should bring and be ready to use a financial calculator. \nHYBRID Class\nIn-person attendance at MJAR HQ: 14 Old Bridge Turnpike\, South River\, NJ 08882 *lunch included*\nVirtual attendees will receive a Zoom link via emailed prior to the class. Login 5 minutes in advance of the start of class. Please ensure your Zoom display name matches your real name so we can identify you. \nMember Cost: $60 / Non-Member Cost: $70\nInstructor: Ronald M. Shapiro is a former Rutgers Business School finance professor and commercial real estate executive with 35+ years in leadership roles at major institutions\, including Wells Fargo\, Prudential and more. He is a licensed NJRE Continuing Education Instructor and a former Regional Planning Committee and Board of Governors member of the NJ Mortgage Bankers Association. \nRegister to Attend In-Person \nRegister to Attend Virtually
URL:https://midjerseyaor.com/events/cref/
LOCATION:MJAR South River Office\, 14 Old Bridge Turnpike\, South River\, 08882\, United States
CATEGORIES:Classes
END:VEVENT
BEGIN:VEVENT
DTSTART;TZID=America/New_York:20251118T093000
DTEND;TZID=America/New_York:20251118T123000
DTSTAMP:20260419T173430
CREATED:20250908T182609Z
LAST-MODIFIED:20250908T183632Z
UID:10000558-1763458200-1763469000@midjerseyaor.com
SUMMARY:Review and Updates of the REALTOR® Code of Ethics
DESCRIPTION:Continuing Education Credit:\n3 NJREC ETHICS CE CREDITS (C20169929) \nThis seminar will review each article of the Code of Ethics\, how it compares to the licensing regulations and how it impacts your activities as a REALTOR. Detailed review of the 17 articles of the Code of Ethics\, including: how do the articles of the Code compare to the licensing obligations\, what do I do when someone does not comply and best practices to avoid arbitration\, with a particular focus on the most recent changes of the last few years. Class includes discussion and extensive use of examples/situations. Meets NAR triennial requirements. \nAttendance:\nThis class will be held in a hybrid setting.\nIn-person attendance at the MJAR Headquarters: 14 Old Bridge Turnpike\, South River\, NJ 08882.\nVirtual attendees will receive a Zoom link via emailed prior to the class. Login 15 minutes in advance of the start of class. \nMember Cost: FREE\nInstructor: Isabelle Perkins \nRegister to Attend In-Person \nRegister to Attend Virtually
URL:https://midjerseyaor.com/events/review-and-updates-coe/
LOCATION:MJAR South River Office\, 14 Old Bridge Turnpike\, South River\, 08882\, United States
CATEGORIES:Classes
END:VEVENT
BEGIN:VEVENT
DTSTART;TZID=America/New_York:20251118T130000
DTEND;TZID=America/New_York:20251118T160000
DTSTAMP:20260419T173430
CREATED:20250908T183400Z
LAST-MODIFIED:20250908T183455Z
UID:10000557-1763470800-1763481600@midjerseyaor.com
SUMMARY:Agency Relationships and Disclosure – Understanding NJ requirements
DESCRIPTION:Continuing Education Credit:\n3 NJREC CORE CE CREDITS (C20169903) \nThis course satisfies the New Jersey Consumer Protection Enhancement Act requirement for agency CE credits. \nReal estate professionals can establish different types of real estate relationships with consumers\, which are then associated with different level of service. The passage of the 2024 Real Estate Consumer Protection Enhancement Act is providing some new options (Designated Agency) and requirements (Written service agreements\, Seller Disclosure Obligation for example). The course will review the NJ business relationships\, discuss the concept of designated agency\, address the need for written service agreements\, understand the difference between relationship and compensation. Fiduciary obligations will also be detailed\, including the limitations of dual agency representation. \nThe course has been updated to include the relevant NJ Legislative changes effective Aug 1\, 2024 (more specifically: definition of designated agency\, the need for written service agreements\, requirement for a seller property condition disclosure form.) \nAttendance:\nThis class will be held in a HYBRID setting.\nIn-person attendance at MJAR HQ: 14 Old Bridge Turnpike\, South River\, NJ 08882\nVirtual attendees will receive a Zoom link via emailed prior to the class. Login 5 minutes in advance of the start of class. Please ensure your Zoom display name matches your real name so we can identify you. \nMember Cost: $15 / Non-Member Cost: $25\nInstructor: Isabelle Perkins \nRegister to Attend In-Person \nRegister to Attend Virtually
URL:https://midjerseyaor.com/events/agency-relationships-and-disclosure-understanding-nj-requirements/
LOCATION:MJAR South River Office\, 14 Old Bridge Turnpike\, South River\, 08882\, United States
CATEGORIES:Classes
END:VEVENT
BEGIN:VEVENT
DTSTART;TZID=America/New_York:20251120T100000
DTEND;TZID=America/New_York:20251120T110000
DTSTAMP:20260419T173430
CREATED:20251015T132638Z
LAST-MODIFIED:20251015T132638Z
UID:10000562-1763632800-1763636400@midjerseyaor.com
SUMMARY:New Construction in NJ: K Hovnanian® Homes
DESCRIPTION:Explore New Construction Opportunities with K. Hovnanian® Homes! \nJoin our upcoming Affiliate Education Session to explore the NJ new construction process\, available inventory\, transaction processes\, and how to guide your buyers through inspections\, bidding wars\, and warranties. Don’t miss this chance to strengthen your expertise and expand your business! \nInstructors: Lidia Davila and June Branagan\nFREE Virtual Class \nJoin Zoom Meeting: https://us06web.zoom.us/j/89798045180 / Meeting ID: 897 9804 5180 \nThis Education Session is brought to you by MJAR Affiliate Member\, K. Hovnanian® Homes. \nRegister by logging into the MJAR Member Portal. Note: If you are logging in for the first time\, your Portal username is your NRDS number\, and your default password is your last name – all lowercase. Once logged into the Member Portal\, go to “Upcoming Events” on the right side of the dashboard\, and click on the event and register. \nRegister Here
URL:https://midjerseyaor.com/events/khov/
LOCATION:Virtual – ZOOM Meeting\, ZOOM
CATEGORIES:Affiliate Education,Events
END:VEVENT
BEGIN:VEVENT
DTSTART;VALUE=DATE:20251127
DTEND;VALUE=DATE:20251128
DTSTAMP:20260419T173430
CREATED:20250820T173051Z
LAST-MODIFIED:20250820T173051Z
UID:10000552-1764201600-1764287999@midjerseyaor.com
SUMMARY:MJAR Offices Closed for Thanksgiving
DESCRIPTION:
URL:https://midjerseyaor.com/events/mjar-offices-closed-for-thanksgiving/
LOCATION:NJ
CATEGORIES:MJAR Office Closures
END:VEVENT
BEGIN:VEVENT
DTSTART;VALUE=DATE:20251128
DTEND;VALUE=DATE:20251129
DTSTAMP:20260419T173430
CREATED:20250820T173552Z
LAST-MODIFIED:20250820T173552Z
UID:10000553-1764288000-1764374399@midjerseyaor.com
SUMMARY:MJAR Offices Closed for Day After Thanksgiving
DESCRIPTION:
URL:https://midjerseyaor.com/events/mjar-offices-closed-for-day-after-thanksgiving/
LOCATION:NJ
CATEGORIES:MJAR Office Closures
END:VEVENT
END:VCALENDAR