BEGIN:VCALENDAR
VERSION:2.0
PRODID:-//Mid Jersey Association of REALTORS® - ECPv6.15.20//NONSGML v1.0//EN
CALSCALE:GREGORIAN
METHOD:PUBLISH
X-WR-CALNAME:Mid Jersey Association of REALTORS®
X-ORIGINAL-URL:https://midjerseyaor.com
X-WR-CALDESC:Events for Mid Jersey Association of REALTORS®
REFRESH-INTERVAL;VALUE=DURATION:PT1H
X-Robots-Tag:noindex
X-PUBLISHED-TTL:PT1H
BEGIN:VTIMEZONE
TZID:America/New_York
BEGIN:DAYLIGHT
TZOFFSETFROM:-0500
TZOFFSETTO:-0400
TZNAME:EDT
DTSTART:20240310T070000
END:DAYLIGHT
BEGIN:STANDARD
TZOFFSETFROM:-0400
TZOFFSETTO:-0500
TZNAME:EST
DTSTART:20241103T060000
END:STANDARD
BEGIN:DAYLIGHT
TZOFFSETFROM:-0500
TZOFFSETTO:-0400
TZNAME:EDT
DTSTART:20250309T070000
END:DAYLIGHT
BEGIN:STANDARD
TZOFFSETFROM:-0400
TZOFFSETTO:-0500
TZNAME:EST
DTSTART:20251102T060000
END:STANDARD
BEGIN:DAYLIGHT
TZOFFSETFROM:-0500
TZOFFSETTO:-0400
TZNAME:EDT
DTSTART:20260308T070000
END:DAYLIGHT
BEGIN:STANDARD
TZOFFSETFROM:-0400
TZOFFSETTO:-0500
TZNAME:EST
DTSTART:20261101T060000
END:STANDARD
END:VTIMEZONE
BEGIN:VEVENT
DTSTART;TZID=America/New_York:20251204T100000
DTEND;TZID=America/New_York:20251204T123000
DTSTAMP:20260419T160212
CREATED:20251017T154402Z
LAST-MODIFIED:20251031T145553Z
UID:10000565-1764842400-1764851400@midjerseyaor.com
SUMMARY:MJAR Installation & Holiday Party
DESCRIPTION:Thursday\, December 4\, 2025 \n10:00 AM – 12:30 PM \nThe Nassau Club \n6 Mercer Street\, Princeton\, NJ 08540 \n$20 Members / $40 Non-Members \nJoin us at the MJAR Installation & Holiday Party as we celebrate the installation of the Mid Jersey Association of REALTORS® 2026 Officers and Directors and recognize the achievements and dedication of our outgoing leadership. Enjoy a brunch celebration\, great company\, delicious food\, and door prizes — all in a beautiful and historic private club setting\, offering a truly special experience for our MJAR members. Free valet parking. \nFor questions or to request special accommodations\, please contact Maya Castellon at Events@MidJerseyAOR.com. \nRegister by logging into the MJAR Member Portal. Note: If you are logging in for the first time\, your Portal username is your NRDS number\, and your default password is your last name – all lowercase. Once logged into the Member Portal\, go to “Upcoming Events” on the right side of the dashboard\, and click on the event and register. \nRegister Here
URL:https://midjerseyaor.com/events/installation2025/
LOCATION:The Nassau Club\, 6 Mercer Street\, Princeton\, NJ\, 08540\, United States
CATEGORIES:Events
END:VEVENT
BEGIN:VEVENT
DTSTART;TZID=America/New_York:20251204T110000
DTEND;TZID=America/New_York:20251204T120000
DTSTAMP:20260419T160212
CREATED:20250624T164736Z
LAST-MODIFIED:20250624T164736Z
UID:10000540-1764846000-1764849600@midjerseyaor.com
SUMMARY:Free Supra Webinar – Agent Training: Managed Access NMA/SA
DESCRIPTION:Come join Supra for an overview of management access. Please share with your members. \nRegister Here
URL:https://midjerseyaor.com/events/free-supra-webinar-agent-training-managed-access-nma-sa-4/2025-12-04/
LOCATION:NJ
END:VEVENT
BEGIN:VEVENT
DTSTART;TZID=America/New_York:20251205T110000
DTEND;TZID=America/New_York:20251205T120000
DTSTAMP:20260419T160212
CREATED:20250624T164407Z
LAST-MODIFIED:20250624T164407Z
UID:10000534-1764932400-1764936000@midjerseyaor.com
SUMMARY:Free Supra Webinar- Intro to eKey & SupraWEB Essentials
DESCRIPTION:Come join Supra to interact with the Supra trainer and others for the Q&A monthly review for agents. Please share with your members \nRegister Here
URL:https://midjerseyaor.com/events/free-supra-webinar-intro-to-ekey-supraweb-essentials/2025-12-05/
LOCATION:NJ
END:VEVENT
BEGIN:VEVENT
DTSTART;TZID=America/New_York:20251210T113000
DTEND;TZID=America/New_York:20251210T143000
DTSTAMP:20260419T160212
CREATED:20251103T163249Z
LAST-MODIFIED:20251201T192000Z
UID:10000568-1765366200-1765377000@midjerseyaor.com
SUMMARY:Triple Play Hospitality Room For Members Only
DESCRIPTION:Triple Play 2025: Mid Jersey AOR & Nexus AOR Hospitality Room\n********Sponsored by MJAR Premier & Elite Affiliates and FOREWARN********\nAtlantic City Convention Center\, Room # 201\n11:30 AM – 2:30 PM\nJoin Mid Jersey Association of REALTORS® and NEXUS Association of REALTORS® at our Triple Play Hospitality Room on Wednesday\, December 10\, 2025. \nRegister for a hot lunch – served in the Hospitality Room\, where you can relax and network with other members. Advanced registration is required. No walk-ins. \nIn collaboration with NEXUS Association of REALTORS®. \nOPEN TO MEMBERS ONLY   |   Cost: $10.00 \nFINAL* Deadline to Register: 12:00 PM on December 5\, 2025 \nFor questions or to request special accommodations\, please contact Maya Castellon at Events@MidJerseyAOR.com. \nOur Triple Play Hospitality Room luncheon is sponsored by MJAR Premier & Elite Affiliates and FOREWARN. REALTOR® Safety Matters to MJAR. Over 1\,000 MJAR Members Have Subscribed to the Forewarn Safety App. The FOREWARN app\, a powerful\, safety tool for REALTORS®\, is a FREE member benefit (valued at $300/year) complimentary of Mid Jersey Association of REALTORS®. Set up your Forewarn account here. **Note** enter your email address when prompted to do so (be sure to use the same email address that this email was sent to because it will serve as your FOREWARN ‘Username’). Please ensure you have read and understand MJAR’s policy here. View testimonials about the FOREWARN App here. \nRegister by logging into the MJAR Member Portal. Note: If you are logging in for the first time\, your Portal username is your NRDS number\, and your default password is your last name – all lowercase. Once logged into the Member Portal\, go to “Upcoming Events” on the right side of the dashboard\, and click on the event and register. \nRegister Here
URL:https://midjerseyaor.com/events/mjar-nexus-triple-play-2025/
LOCATION:Atlantic City Convention Center\, 1 Convention Boulevard\, Atlantic City\, NJ\, 08401\, United States
CATEGORIES:Events
ATTACH;FMTTYPE=image/png:https://midjerseyaor.com/wp-content/uploads/2025/11/2025-Triple-play-Banner-600-x-200-px.png
END:VEVENT
BEGIN:VEVENT
DTSTART;TZID=America/New_York:20251217T140000
DTEND;TZID=America/New_York:20251217T150000
DTSTAMP:20260419T160212
CREATED:20251204T200108Z
LAST-MODIFIED:20251204T200108Z
UID:10000569-1765980000-1765983600@midjerseyaor.com
SUMMARY:FOREWARN Training Webinar
DESCRIPTION:REALTOR® Safety Matters to MJAR\nOver 1\,000 MJAR Members Have Subscribed to the Forewarn Safety App\nThe FOREWARN app—a powerful\, safety tool for REALTORS®—is a FREE member benefit (valued at $300/year) – complimentary of Mid Jersey Association of REALTORS®\nWednesday\, December 17 | 2 PM \nNo Cost for MJAR Members \nDon’t miss FOREWARN’s upcoming free training webinar. Join us as we demonstrate how to best utilize FOREWARN and share insider tips and tricks\, followed by a live Q&A session. Combat Fraud\, Mitigate Risk\, and Stay Safe with FOREWARN. \nSet up your Forewarn account HERE (https://app.forewarn.com/membersetup)\n**Note** enter your email address when prompted to do so (be sure to use the same email address as your MJAR member email address as it will serve as your FOREWARN ‘Username’). Please ensure you have read and understand MJAR’s policy here. View testimonials about the FOREWARN App here. \nRegister for the Zoom Meeting by signing up below. \nRegister Here
URL:https://midjerseyaor.com/events/forewarn-training-webinar/
LOCATION:Virtual – ZOOM Meeting\, ZOOM
CATEGORIES:Classes
END:VEVENT
BEGIN:VEVENT
DTSTART;TZID=America/New_York:20251218T160000
DTEND;TZID=America/New_York:20251218T190000
DTSTAMP:20260419T160212
CREATED:20251107T180244Z
LAST-MODIFIED:20251107T185401Z
UID:10000563-1766073600-1766084400@midjerseyaor.com
SUMMARY:Holiday Happy Hour & Toy Drive
DESCRIPTION:Holiday Happy Hour & Toy Drive\n4:00 PM – 7:00 PM\nJoin Mid Jersey AOR’s Young Professionals Network\, Community Service Committee\, and Affiliate & Membership Committee’s on Thursday\, December 18th for a fun Happy Hour of networking\, interactive games & a chance to donate new toy and/or a gently-used toy to Boys and Girls Clubs of America. Don’t forget to participate in the ugly sweater contest. Light appetizers and drinks served. (The quantity of drinks allotted is dependent on your toy contribution.) \nBring your friends! Walk-ins welcomed! \n$5.00 plus 1 toy donation or more (2 drink tickets) \n$5.00 without a toy donation (1 drink ticket) \nFor questions or to request special accommodations\, please contact Maya Castellon at Events@MidJerseyAOR.com. \nRegister by logging into the MJAR Member Portal. Note: If you are logging in for the first time\, your Portal username is your NRDS number\, and your default password is your last name – all lowercase. Once logged into the Member Portal\, go to “Upcoming Events” on the right side of the dashboard\, and click on the event and register. \nRegister Here
URL:https://midjerseyaor.com/events/happyhour-toydrive-2025/
LOCATION:Tequila N Tacos\, 560 Stelton Road\, Piscataway\, NJ\, 08854\, United States
CATEGORIES:Events
ATTACH;FMTTYPE=image/png:https://midjerseyaor.com/wp-content/uploads/2025/11/Banner-Happy-Hour-Toy-Drive-2025-600-x-200-px.png
END:VEVENT
BEGIN:VEVENT
DTSTART;VALUE=DATE:20251225
DTEND;VALUE=DATE:20251226
DTSTAMP:20260419T160212
CREATED:20250820T173747Z
LAST-MODIFIED:20250820T173747Z
UID:10000554-1766620800-1766707199@midjerseyaor.com
SUMMARY:MJAR Offices Closed for Christmas
DESCRIPTION:
URL:https://midjerseyaor.com/events/mjar-offices-closed-for-christmas/
LOCATION:NJ
CATEGORIES:MJAR Office Closures
END:VEVENT
END:VCALENDAR